Workbook

Sheet Units by model and year
A1: EV Sales and Tax Credits
A2: 43848
A4: Sales data from the EV Sales Scorecard: https://insideevs.com/news/343998/monthly-plug-in-ev-sales-scorecard/
A5: Tax Credit amounts from https://www.fueleconomy.gov/feg/taxevb.shtml
K6: =COUNTIF(K10:K66,"") -> 14 | L6: =COUNTIF(L10:L66,"") -> 11
A7: Number Makes | D7: =COUNTIF(D11:D67,"<>"&"") -> 3 | E7: =COUNTIF(E11:E67,"<>"&"") -> 9 | F7: =COUNTIF(F11:F67,"<>"&"") -> 16 | G7: =COUNTIF(G11:G67,"<>"&"") -> 22 | H7: =COUNTIF(H11:H67,"<>"&"") -> 26 | I7: =COUNTIF(I11:I67,"<>"&"") -> 31 | J7: =COUNTIF(J11:J67,"<>"&"") -> 42 | K7: =COUNTIF(K$11:K467,"<>"&"") -> 43 | L7: =COUNTIF(L11:L67,"<>"&"") -> 46
A8: Total Units | D8: =SUM(D11:D67) -> 17425 | E8: =SUM(E11:E67) -> 52607 | F8: =SUM(F11:F67) -> 97507 | G8: =SUM(G11:G67) -> 122438 | H8: =SUM(H11:H67) -> 115947 | I8: =SUM(I11:I67) -> 158613 | J8: =SUM(J11:J67) -> 199818 | K8: =SUM(K11:K67) -> 361307 | L8: =SUM(L11:L67) -> 329528
D9: Number sold | N9: Tax Credit
A10: Make | B10: Model | C10: Total | D10: 2011 | E10: 2012 | F10: 2013 | G10: 2014 | H10: 2015 | I10: 2016 | J10: 2017 | K10: 2018 | L10: 2019 | N10: =D10 -> 2011 | O10: =E10 -> 2012 | P10: =F10 -> 2013 | Q10: =G10 -> 2014 | R10: =H10 -> 2015 | S10: =I10 -> 2016 | T10: =J10 -> 2017 | U10: =K10 -> 2018 | V10: =L10 -> 2019
A11: Audi | B11: A3 Sportback e-tron | C11: =SUM(D11:L11) -> 10240 | H11: 49 | I11: 4280 | J11: 2877 | K11: 2597 | L11: 437 | M11: Audi A3 Sportback e-tron | N11: 4502 | O11: 4502 | P11: 4502 | Q11: 4502 | R11: 4502 | S11: 4502 | T11: 4502 | U11: 4502 | V11: 4502
A12: Audi | B12: e-tron | C12: =SUM(D12:L12) -> 5369 | L12: 5369 | M12: Audi e-tron | N12: 7500 | O12: 7500 | P12: 7500 | Q12: 7500 | R12: 7500 | S12: 7500 | T12: 7500 | U12: 7500 | V12: 7500
A13: BMW | B13: 330e | C13: =SUM(D13:L13) -> 8330 | I13: 870 | J13: 4141 | K13: 2600 | L13: 719 | M13: BMW 330e | N13: 4001 | O13: 4001 | P13: 4001 | Q13: 4001 | R13: 4001 | S13: 4001 | T13: 4001 | U13: 4001 | V13: 4001
A14: BMW | B14: 530e | C14: =SUM(D14:L14) -> 18298 | J14: 3772 | K14: 8664 | L14: 5862 | M14: BMW 530e | N14: 4668 | O14: 4668 | P14: 4668 | Q14: 4668 | R14: 4668 | S14: 4668 | T14: 4668 | U14: 4668 | V14: 4668
A15: BMW | B15: 740e | C15: =SUM(D15:L15) -> 1156 | I15: 23 | J15: 707 | K15: 339 | L15: 87 | M15: BMW 740e | N15: 4668 | O15: 4668 | P15: 4668 | Q15: 4668 | R15: 4668 | S15: 4668 | T15: 4668 | U15: 4668 | V15: 4668
A16: BMW | B16: i3 (BEV + REx) | C16: =SUM(D16:L16) -> 41988 | G16: 6092 | H16: 11024 | I16: 7625 | J16: 6276 | K16: 6117 | L16: 4854 | M16: BMW i3 (BEV + REx) | N16: 7500 | O16: 7500 | P16: 7500 | Q16: 7500 | R16: 7500 | S16: 7500 | T16: 7500 | U16: 7500 | V16: 7500
A17: BMW | B17: i8 | C17: =SUM(D17:L17) -> 6776 | G17: 555 | H17: 2265 | I17: 1594 | J17: 488 | K17: 772 | L17: 1102 | M17: BMW i8 | N17: 3703 | O17: 3703 | P17: 3703 | Q17: 3703 | R17: 3703 | S17: 3703 | T17: 3703 | U17: 3703 | V17: 3703
A18: BMW | B18: X5 xDrive 40e | C18: =SUM(D18:L18) -> 16837 | H18: 892 | I18: 5995 | J18: 5349 | K18: 4434 | L18: 167 | M18: BMWX5 xDrive 40e | N18: 4668 | O18: 4668 | P18: 4668 | Q18: 4668 | R18: 4668 | S18: 4668 | T18: 4668 | U18: 4668 | V18: 4668
A19: Cadillac | B19: CT6 PHEV | C19: =SUM(D19:L19) -> 462 | J19: 207 | K19: 231 | L19: 24 | M19: Cadillac CT6 PHEV | N19: 7500 | O19: 7500 | P19: 7500 | Q19: 7500 | R19: 7500 | S19: 7500 | T19: 7500 | U19: 7500 | V19: 7500
A20: Cadillac | B20: ELR | C20: =SUM(D20:L20) -> 2891 | F20: 6 | G20: 1310 | H20: 1024 | I20: 534 | J20: 17 | N20: 7500 | O20: 7500 | P20: 7500 | Q20: 7500 | R20: 7500 | S20: 7500 | T20: 7500 | U20: 7500 | V20: 7500
A21: Chevrolet | B21: Bolt EV | C21: =SUM(D21:L21) -> 58313 | I21: 579 | J21: 23297 | K21: 18019 | L21: 16418 | M21: Chevrolet Bolt EV | N21: 7500 | O21: 7500 | P21: 7500 | Q21: 7500 | R21: 7500 | S21: 7500 | T21: 7500 | U21: 7500 | V21: =7500*0.25+3750*0.5+1875*0.25 -> 4218.75
A22: Chevrolet | B22: Spark EV | C22: =SUM(D22:L22) -> 7371 | F22: 539 | G22: 1145 | H22: 2629 | I22: 3035 | J22: 23 | N22: 7500 | O22: 7500 | P22: 7500 | Q22: 7500 | R22: 7500 | S22: 7500 | T22: 7500 | U22: 7500 | V22: =7500*0.25+3750*0.5+1875*0.25 -> 4218.75
A23: Chevrolet | B23: Volt | C23: =SUM(D23:L23) -> 156728 | D23: 7671 | E23: 23461 | F23: 23094 | G23: 18805 | H23: 15393 | I23: 24739 | J23: 20349 | K23: 18306 | L23: 4910 | M23: Chevrolet Volt | N23: 7500 | O23: 7500 | P23: 7500 | Q23: 7500 | R23: 7500 | S23: 7500 | T23: 7500 | U23: 7500 | V23: =7500*0.25+3750*0.5+1875*0.25 -> 4218.75
A24: Chrysler | B24: Pacifica Hybrid | C24: =SUM(D24:L24) -> 17382 | J24: 4597 | K24: 7062 | L24: 5723 | M24: Chrysler Pacifica Hybrid | N24: 7500 | O24: 7500 | P24: 7500 | Q24: 7500 | R24: 7500 | S24: 7500 | T24: 7500 | U24: 7500 | V24: 3750
A25: Fiat | B25: 500e | C25: =SUM(D25:L25) -> 27211 | F25: 2310 | G25: 5132 | H25: 6194 | I25: 5330 | J25: 5380 | K25: 2250 | L25: 615 | M25: Fiat 500e | N25: 7500 | O25: 7500 | P25: 7500 | Q25: 7500 | R25: 7500 | S25: 7500 | T25: 7500 | U25: 7500 | V25: 7500
A26: Ford | B26: C-Max Energi | C26: =SUM(D26:L26) -> 42231 | E26: 2374 | F26: 7154 | G26: 8433 | H26: 7591 | I26: 7957 | J26: 8140 | K26: 582 | N26: 4007 | O26: 4007 | P26: 4007 | Q26: 4007 | R26: 4007 | S26: 4007 | T26: 4007 | U26: 4007 | V26: 4007
A27: Ford | B27: Focus Electric | C27: =SUM(D27:L27) -> 9242 | E27: 680 | F27: 1738 | G27: 1964 | H27: 1582 | I27: 901 | J27: 1817 | K27: 560 | N27: 7500 | O27: 7500 | P27: 7500 | Q27: 7500 | R27: 7500 | S27: 7500 | T27: 7500 | U27: 7500 | V27: 7500
A28: Ford | B28: Fusion Energi | C28: =SUM(D28:L28) -> 68557 | F28: 6089 | G28: 11550 | H28: 9750 | I28: 15938 | J28: 9632 | K28: 8074 | L28: 7524 | M28: Ford Fusion Energi | N28: 4609 | O28: 4609 | P28: 4609 | Q28: 4609 | R28: 4609 | S28: 4609 | T28: 4609 | U28: 4609 | V28: 4609
A29: Honda | B29: Accord PHV | C29: =SUM(D29:L29) -> 1039 | F29: 526 | G29: 449 | H29: 64 | N29: 3626 | O29: 3626 | P29: 3626 | Q29: 3626 | R29: 3626 | S29: 3626 | T29: 3626 | U29: 3626 | V29: 3626
A30: Honda | B30: Clarity BEV | C30: =SUM(D30:L30) -> 2811 | J30: 1121 | K30: 948 | L30: 742 | M30: Honda Clarity BEV | N30: 7500 | O30: 7500 | P30: 7500 | Q30: 7500 | R30: 7500 | S30: 7500 | T30: 7500 | U30: 7500 | V30: 7500
A31: Honda | B31: Clarity PHEV | C31: =SUM(D31:L31) -> 30233 | J31: 903 | K31: 18602 | L31: 10728 | M31: Honda Clarity PHEV | N31: 7500 | O31: 7500 | P31: 7500 | Q31: 7500 | R31: 7500 | S31: 7500 | T31: 7500 | U31: 7500 | V31: 7500
A32: Honda | B32: Fit EV | C32: =SUM(D32:L32) -> 1069 | E32: 93 | F32: 569 | G32: 407 | N32: 7500 | O32: 7500 | P32: 7500 | Q32: 7500 | R32: 7500 | S32: 7500 | T32: 7500 | U32: 7500 | V32: 7500
A33: Hyundai | B33: IONIQ EV | C33: =SUM(D33:L33) -> 1481 | J33: 432 | K33: 345 | L33: 704 | M33: Hyundai IONIQ EV | N33: 7500 | O33: 7500 | P33: 7500 | Q33: 7500 | R33: 7500 | S33: 7500 | T33: 7500 | U33: 7500 | V33: 7500
A34: Hyundai | B34: IONIQ PHEV | C34: =SUM(D34:L34) -> 3211 | K34: 1590 | L34: 1621 | M34: Hyundai IONIQ PHEV | N34: 4543 | O34: 4543 | P34: 4543 | Q34: 4543 | R34: 4543 | S34: 4543 | T34: 4543 | U34: 4543 | V34: 4543
A35: Hyundai | B35: Kona Electric | C35: =SUM(D35:L35) -> 1723 | L35: 1723 | M35: Hyundai Kona Electric | N35: 7500 | O35: 7500 | P35: 7500 | Q35: 7500 | R35: 7500 | S35: 7500 | T35: 7500 | U35: 7500 | V35: 7500
A36: Hyundai | B36: Sonata PHEV | C36: =SUM(D36:L36) -> 6713 | H36: 160 | I36: 3095 | J36: 2535 | K36: 460 | L36: 463 | M36: Hyundai Sonata PHEV | N36: 4919 | O36: 4919 | P36: 4919 | Q36: 4919 | R36: 4919 | S36: 4919 | T36: 4919 | U36: 4919 | V36: 4919
A37: Jaguar | B37: I-Pace | C37: =SUM(D37:L37) -> 2987 | K37: 393 | L37: 2594 | M37: Jaguar I-Pace | N37: 7500 | O37: 7500 | P37: 7500 | Q37: 7500 | R37: 7500 | S37: 7500 | T37: 7500 | U37: 7500 | V37: 7500
A38: Kia | B38: Niro EV | C38: =SUM(D38:L38) -> 1166 | L38: 1166 | M38: Kia Niro EV | N38: 7500 | O38: 7500 | P38: 7500 | Q38: 7500 | R38: 7500 | S38: 7500 | T38: 7500 | U38: 7500 | V38: 7500
A39: Kia | B39: Niro PHEV | C39: =SUM(D39:L39) -> 7270 | K39: 3389 | L39: 3881 | M39: Kia Niro PHEV | N39: 4543 | O39: 4543 | P39: 4543 | Q39: 4543 | R39: 4543 | S39: 4543 | T39: 4543 | U39: 4543 | V39: 4543
A40: Kia | B40: Optima PHEV | C40: =SUM(D40:L40) -> 2812 | J40: 1512 | K40: 965 | L40: 335 | M40: Kia Optima PHEV | N40: 4919 | O40: 4919 | P40: 4919 | Q40: 4919 | R40: 4919 | S40: 4919 | T40: 4919 | U40: 4919 | V40: 4919
A41: Kia | B41: Soul EV | C41: =SUM(D41:L41) -> 6480 | G41: 359 | H41: 1015 | I41: 1728 | J41: 2157 | K41: 1134 | L41: 87 | M41: Kia Soul EV | N41: 7500 | O41: 7500 | P41: 7500 | Q41: 7500 | R41: 7500 | S41: 7500 | T41: 7500 | U41: 7500 | V41: 7500
A42: Mercedes | B42: B-class | C42: =SUM(D42:L42) -> 1906 | H42: 1906 | N42: 7500 | O42: 7500 | P42: 7500 | Q42: 7500 | R42: 7500 | S42: 7500 | T42: 7500 | U42: 7500 | V42: 7500
A43: Mercedes | B43: B250e | C43: =SUM(D43:L43) -> 1520 | I43: 632 | J43: 744 | K43: 135 | L43: 9 | M43: Mercedes B250e | N43: 7500 | O43: 7500 | P43: 7500 | Q43: 7500 | R43: 7500 | S43: 7500 | T43: 7500 | U43: 7500 | V43: 7500
A44: Mercedes | B44: C350e | C44: =SUM(D44:L44) -> 4881 | I44: 171 | J44: 817 | K44: 1721 | L44: 2172 | M44: Mercedes C350e | N44: 3501 | O44: 3501 | P44: 3501 | Q44: 3501 | R44: 3501 | S44: 3501 | T44: 3501 | U44: 3501 | V44: 3501
A45: Mercedes | B45: GLC 350e | C45: =SUM(D45:L45) -> 3026 | K45: 567 | L45: 2459 | M45: Mercedes GLC 350e | N45: 4460 | O45: 4460 | P45: 4460 | Q45: 4460 | R45: 4460 | S45: 4460 | T45: 4460 | U45: 4460 | V45: 4460
A46: Mercedes | B46: GLE 550e | C46: =SUM(D46:L46) -> 3169 | I46: 231 | J46: 463 | K46: 966 | L46: 1509 | M46: Mercedes GLE 550e | N46: 4460 | O46: 4460 | P46: 4460 | Q46: 4460 | R46: 4460 | S46: 4460 | T46: 4460 | U46: 4460 | V46: 4460
A47: Mercedes | B47: S550e | C47: =SUM(D47:L47) -> 1683 | I47: 550 | J47: 666 | K47: 96 | L47: 371 | M47: Mercedes S550e | N47: 4460 | O47: 4460 | P47: 4460 | Q47: 4460 | R47: 4460 | S47: 4460 | T47: 4460 | U47: 4460 | V47: 4460
A48: Mini | B48: Countryman SE PHEV | C48: =SUM(D48:L48) -> 2563 | J48: 475 | K48: 1564 | L48: 524 | M48: Mini Countryman SE PHEV | N48: 4000 | O48: 4000 | P48: 4000 | Q48: 4000 | R48: 4000 | S48: 4000 | T48: 4000 | U48: 4000 | V48: 4000
A49: Mitsubishi | B49: Outlander PHEV | C49: =SUM(D49:L49) -> 7075 | J49: 99 | K49: 4166 | L49: 2810 | M49: Mitsubishi Outlander PHEV | N49: 5836 | O49: 5836 | P49: 5836 | Q49: 5836 | R49: 5836 | S49: 5836 | T49: 5836 | U49: 5836 | V49: 5836
A50: Mitsubishi | B50: i-MiEV | C50: =SUM(D50:L50) -> 2108 | D50: 80 | E50: 588 | F50: 1029 | G50: 196 | H50: 115 | I50: 94 | J50: 6 | N50: 7500 | O50: 7500 | P50: 7500 | Q50: 7500 | R50: 7500 | S50: 7500 | T50: 7500 | U50: 7500 | V50: 7500
A51: Nissan | B51: LEAF | C51: =SUM(D51:L51) -> 141888 | D51: 9674 | E51: 9819 | F51: 22610 | G51: 30200 | H51: 17269 | I51: 14006 | J51: 11230 | K51: 14715 | L51: 12365 | M51: Nissan LEAF | N51: 7500 | O51: 7500 | P51: 7500 | Q51: 7500 | R51: 7500 | S51: 7500 | T51: 7500 | U51: 7500 | V51: 7500
A52: Porsche | B52: 918 Spyder | C52: =SUM(D52:L52) -> 977 | G52: 774 | H52: 203 | N52: 3667 | O52: 3667 | P52: 3667 | Q52: 3667 | R52: 3667 | S52: 3667 | T52: 3667 | U52: 3667 | V52: 3667
A53: Porsche | B53: Cayenne S-E | C53: =SUM(D53:L53) -> 7050 | G53: 100 | H53: 1103 | I53: 2111 | J53: 1574 | K53: 1022 | L53: 1140 | M53: Porsche Cayenne S-E | N53: 5336 | O53: 5336 | P53: 5336 | Q53: 5336 | R53: 5336 | S53: 5336 | T53: 5336 | U53: 5336 | V53: 5336
A54: Porsche | B54: Panamera E-Hybrid | C54: =SUM(D54:L54) -> 5879 | F54: 86 | G54: 879 | H54: 407 | I54: 393 | J54: 18 | K54: 2036 | L54: 2060 | M54: Porsche Panamera E-Hybrid | N54: 4752 | O54: 4752 | P54: 4752 | Q54: 4752 | R54: 4752 | S54: 4752 | T54: 4752 | U54: 4752 | V54: 4752
A55: Porsche | B55: Taycan | C55: =SUM(D55:L55) -> 130 | L55: 130 | M55: Porsche Taycan | N55: 7500 | O55: 7500 | P55: 7500 | Q55: 7500 | R55: 7500 | S55: 7500 | T55: 7500 | U55: 7500 | V55: 7500
A56: Smart | B56: ED | C56: =SUM(D56:L56) -> 8004 | F56: 923 | G56: 2594 | H56: 1387 | I56: 657 | J56: 544 | K56: 1219 | L56: 680 | M56: smart ED | N56: 7500 | O56: 7500 | P56: 7500 | Q56: 7500 | R56: 7500 | S56: 7500 | T56: 7500 | U56: 7500 | V56: 7500
A57: Subaru | B57: Crosstrek Hybrid | C57: =SUM(D57:L57) -> 970 | L57: 970 | M57: Subaru Crosstrek Hybrid | N57: 4502 | O57: 4502 | P57: 4502 | Q57: 4502 | R57: 4502 | S57: 4502 | T57: 4502 | U57: 4502 | V57: 4502
A58: Tesla | B58: Model 3 | C58: =SUM(D58:L58) -> 300471 | J58: 1764 | K58: 139782 | L58: 158925 | M58: Tesla Model 3 | N58: 7500 | O58: 7500 | P58: 7500 | Q58: 7500 | R58: 7500 | S58: 7500 | T58: 7500 | U58: 7500 | V58: =AVERAGE(3750,1875) -> 2812.5
A59: Tesla | B59: Model S | C59: =SUM(D59:L59) -> 157992 | E59: 2650 | F59: 17650 | G59: 16689 | H59: 25202 | I59: 28896 | J59: 27060 | K59: 25745 | L59: 14100 | M59: Tesla Model S | N59: 7500 | O59: 7500 | P59: 7500 | Q59: 7500 | R59: 7500 | S59: 7500 | T59: 7500 | U59: 7500 | V59: =AVERAGE(3750,1875) -> 2812.5
A60: Tesla | B60: Model X | C60: =SUM(D60:L60) -> 85077 | H60: 214 | I60: 18223 | J60: 21315 | K60: 26100 | L60: 19225 | M60: Tesla Model X | N60: 7500 | O60: 7500 | P60: 7500 | Q60: 7500 | R60: 7500 | S60: 7500 | T60: 7500 | U60: 7500 | V60: =AVERAGE(3750,1875) -> 2812.5
A61: Toyota | B61: Prius PHV | C61: =SUM(D61:L61) -> 42345 | E61: 12750 | F61: 12088 | G61: 13264 | H61: 4191 | I61: 52 | N61: 2500 | O61: 2500 | P61: 2500 | Q61: 2500 | R61: 2500 | S61: 2500 | T61: 2500 | U61: 2500 | V61: 2500
A62: Toyota | B62: Prius Prime | C62: =SUM(D62:L62) -> 74583 | I62: 2422 | J62: 20936 | K62: 27595 | L62: 23630 | M62: Toyota Prius Prime | N62: 4502 | O62: 4502 | P62: 4502 | Q62: 4502 | R62: 4502 | S62: 4502 | T62: 4502 | U62: 4502 | V62: 4502
A63: Toyota | B63: RAV4 EV | C63: =SUM(D63:L63) -> 2472 | E63: 192 | F63: 1096 | G63: 1184 | N63: 7500 | O63: 7500 | P63: 7500 | Q63: 7500 | R63: 7500 | S63: 7500 | T63: 7500 | U63: 7500 | V63: 7500
A64: Volkswagen | B64: e-Golf | C64: =SUM(D64:L64) -> 18277 | G64: 357 | H64: 4232 | I64: 3937 | J64: 3534 | K64: 1354 | L64: 4863 | M64: Volkswagen e-Golf | N64: 7500 | O64: 7500 | P64: 7500 | Q64: 7500 | R64: 7500 | S64: 7500 | T64: 7500 | U64: 7500 | V64: 7500
A65: Volvo | B65: S90 T8 PHEV | C65: =SUM(D65:L65) -> 3025 | I65: 2015 | J65: 117 | K65: 437 | L65: 456 | M65: Volvo S90 T8 PHEV | N65: 5002 | O65: 5002 | P65: 5002 | Q65: 5002 | R65: 5002 | S65: 5002 | T65: 5002 | U65: 5002 | V65: 5002
A66: Volvo | B66: XC60 PHEV | C66: =SUM(D66:L66) -> 4401 | J66: 531 | K66: 2267 | L66: 1603 | M66: Volvo XC60 PHEV | N66: 5002 | O66: 5002 | P66: 5002 | Q66: 5002 | R66: 5002 | S66: 5002 | T66: 5002 | U66: 5002 | V66: 5002
A67: Volvo | B67: XC90 T8 PHEV | C67: =SUM(D67:L67) -> 5341 | H67: 86 | J67: 2196 | K67: 1387 | L67: 1672 | M67: Volvo XC90 T8 PHEV | N67: 5002 | O67: 5002 | P67: 5002 | Q67: 5002 | R67: 5002 | S67: 5002 | T67: 5002 | U67: 5002 | V67: 5002

Sheet Units by make
A3: Row Labels | B3: Sum of 2011 | C3: Sum of 2012 | D3: Sum of 2013 | E3: Sum of 2014 | F3: Sum of 2015 | G3: Sum of 2016 | H3: Sum of 2017 | I3: Sum of 2018 | J3: Sum of 2019
A4: Cadillac | D4: 6 | E4: 1310 | F4: 1024 | G4: 534 | H4: 224 | I4: 231 | J4: 24
A5: Mini | H5: 475 | I5: 1564 | J5: 524
A6: Fiat | D6: 2310 | E6: 5132 | F6: 6194 | G6: 5330 | H6: 5380 | I6: 2250 | J6: 615
A7: Smart | D7: 923 | E7: 2594 | F7: 1387 | G7: 657 | H7: 544 | I7: 1219 | J7: 680
A8: Subaru | J8: 970
A9: Jaguar | I9: 393 | J9: 2594
A10: Mitsubishi | B10: 80 | C10: 588 | D10: 1029 | E10: 196 | F10: 115 | G10: 94 | H10: 105 | I10: 4166 | J10: 2810
A11: Porsche | D11: 86 | E11: 1753 | F11: 1713 | G11: 2504 | H11: 1592 | I11: 3058 | J11: 3330
A12: Volvo | F12: 86 | G12: 2015 | H12: 2844 | I12: 4091 | J12: 3731
A13: Hyundai | F13: 160 | G13: 3095 | H13: 2967 | I13: 2395 | J13: 4511
A14: Volkswagen | E14: 357 | F14: 4232 | G14: 3937 | H14: 3534 | I14: 1354 | J14: 4863
A15: Kia | E15: 359 | F15: 1015 | G15: 1728 | H15: 3669 | I15: 5488 | J15: 5469
A16: Chrysler | H16: 4597 | I16: 7062 | J16: 5723
A17: Audi | F17: 49 | G17: 4280 | H17: 2877 | I17: 2597 | J17: 5806
A18: Mercedes | F18: 1906 | G18: 1584 | H18: 2690 | I18: 3485 | J18: 6520
A19: Ford | C19: 3054 | D19: 14981 | E19: 21947 | F19: 18923 | G19: 24796 | H19: 19589 | I19: 9216 | J19: 7524
A20: Honda | C20: 93 | D20: 1095 | E20: 856 | F20: 64 | H20: 2024 | I20: 19550 | J20: 11470
A21: Nissan | B21: 9674 | C21: 9819 | D21: 22610 | E21: 30200 | F21: 17269 | G21: 14006 | H21: 11230 | I21: 14715 | J21: 12365
A22: BMW | E22: 6647 | F22: 14181 | G22: 16107 | H22: 20733 | I22: 22926 | J22: 12791
A23: Chevrolet | B23: 7671 | C23: 23461 | D23: 23633 | E23: 19950 | F23: 18022 | G23: 28353 | H23: 43669 | I23: 36325 | J23: 21328
A24: Toyota | C24: 12942 | D24: 13184 | E24: 14448 | F24: 4191 | G24: 2474 | H24: 20936 | I24: 27595 | J24: 23630
A25: Tesla | C25: 2650 | D25: 17650 | E25: 16689 | F25: 25416 | G25: 47119 | H25: 50139 | I25: 191627 | J25: 192250
A26: Grand Total | B26: 17425 | C26: 52607 | D26: 97507 | E26: 122438 | F26: 115947 | G26: 158613 | H26: 199818 | I26: 361307 | J26: 329528
B28: 2011 | C28: =B28+1 -> 2012 | D28: =C28+1 -> 2013 | E28: =D28+1 -> 2014 | F28: =E28+1 -> 2015 | G28: =F28+1 -> 2016 | H28: =G28+1 -> 2017 | I28: =H28+1 -> 2018 | J28: =I28+1 -> 2019 | K28: Total | L28: Remaining before limit
A29: Cadillac | D29: 6 | E29: 1310 | F29: 1024 | G29: 534 | H29: 224 | I29: 231 | J29: 24 | K29: =SUM(B29:J29) -> 3353
A30: Mini | H30: 475 | I30: 1564 | J30: 524 | K30: =SUM(B30:J30) -> 2563
A31: Fiat | D31: 2310 | E31: 5132 | F31: 6194 | G31: 5330 | H31: 5380 | I31: 2250 | J31: 615 | K31: =SUM(B31:J31) -> 27211 | L31: =MAX(0,200000-K31) -> 172789
A32: Smart | D32: 923 | E32: 2594 | F32: 1387 | G32: 657 | H32: 544 | I32: 1219 | J32: 680 | K32: =SUM(B32:J32) -> 8004 | L32: =MAX(0,200000-K32) -> 191996
A33: Subaru | J33: 970 | K33: =SUM(B33:J33) -> 970 | L33: =MAX(0,200000-K33) -> 199030
A34: Jaguar | I34: 393 | J34: 2594 | K34: =SUM(B34:J34) -> 2987
A35: Mitsubishi | B35: 80 | C35: 588 | D35: 1029 | E35: 196 | F35: 115 | G35: 94 | H35: 105 | I35: 4166 | J35: 2810 | K35: =SUM(B35:J35) -> 9183 | L35: =MAX(0,200000-K35) -> 190817
A36: Porsche | D36: 86 | E36: 1753 | F36: 1713 | G36: 2504 | H36: 1592 | I36: 3058 | J36: 3330 | K36: =SUM(B36:J36) -> 14036 | L36: =MAX(0,200000-K36) -> 185964
A37: Volvo | F37: 86 | G37: 2015 | H37: 2844 | I37: 4091 | J37: 3731 | K37: =SUM(B37:J37) -> 12767
A38: Hyundai | F38: 160 | G38: 3095 | H38: 2967 | I38: 2395 | J38: 4511 | K38: =SUM(B38:J38) -> 13128 | L38: =MAX(0,200000-K38) -> 186872
A39: Volkswagen | E39: 357 | F39: 4232 | G39: 3937 | H39: 3534 | I39: 1354 | J39: 4863 | K39: =SUM(B39:J39) -> 18277 | L39: =MAX(0,200000-K39) -> 181723
A40: Kia | E40: 359 | F40: 1015 | G40: 1728 | H40: 3669 | I40: 5488 | J40: 5469 | K40: =SUM(B40:J40) -> 17728
A41: Chrysler | H41: 4597 | I41: 7062 | J41: 5723 | K41: =SUM(B41:J41) -> 17382 | L41: =MAX(0,200000-K41) -> 182618
A42: Audi | F42: 49 | G42: 4280 | H42: 2877 | I42: 2597 | J42: 5806 | K42: =SUM(B42:J42) -> 15609
A43: Mercedes | F43: 1906 | G43: 1584 | H43: 2690 | I43: 3485 | J43: 6520 | K43: =SUM(B43:J43) -> 16185 | L43: =MAX(0,200000-K43) -> 183815
A44: Ford | C44: 3054 | D44: 14981 | E44: 21947 | F44: 18923 | G44: 24796 | H44: 19589 | I44: 9216 | J44: 7524 | K44: =SUM(B44:J44) -> 120030 | L44: =MAX(0,200000-K44) -> 79970
A45: Honda | C45: 93 | D45: 1095 | E45: 856 | F45: 64 | H45: 2024 | I45: 19550 | J45: 11470 | K45: =SUM(B45:J45) -> 35152 | L45: =MAX(0,200000-K45) -> 164848
A46: Nissan | B46: 9674 | C46: 9819 | D46: 22610 | E46: 30200 | F46: 17269 | G46: 14006 | H46: 11230 | I46: 14715 | J46: 12365 | K46: =SUM(B46:J46) -> 141888 | L46: =MAX(0,200000-K46) -> 58112
A47: BMW | E47: 6647 | F47: 14181 | G47: 16107 | H47: 20733 | I47: 22926 | J47: 12791 | K47: =SUM(B47:J47) -> 93385 | L47: =MAX(0,200000-K47) -> 106615
A48: Chevrolet | B48: 7671 | C48: 23461 | D48: 23633 | E48: 19950 | F48: 18022 | G48: 28353 | H48: 43669 | I48: 36325 | J48: 21328 | K48: =SUM(B48:J48) -> 222412 | L48: =MAX(0,200000-K48) -> 0
A49: Toyota | C49: 12942 | D49: 13184 | E49: 14448 | F49: 4191 | G49: 2474 | H49: 20936 | I49: 27595 | J49: 23630 | K49: =SUM(B49:J49) -> 119400 | L49: =MAX(0,200000-K49) -> 80600
A50: Tesla | C50: 2650 | D50: 17650 | E50: 16689 | F50: 25416 | G50: 47119 | H50: 50139 | I50: 191627 | J50: 192250 | K50: =SUM(B50:J50) -> 543540 | L50: =MAX(0,200000-K50) -> 0
A51: Total | B51: =SUM(B29:B50) -> 17425 | C51: =SUM(C29:C50) -> 52607 | D51: =SUM(D29:D50) -> 97507 | E51: =SUM(E29:E50) -> 122438 | F51: =SUM(F29:F50) -> 115947 | G51: =SUM(G29:G50) -> 158613 | H51: =SUM(H29:H50) -> 199818 | I51: =SUM(I29:I50) -> 361307 | J51: =SUM(J29:J50) -> 329528 | K51: =SUM(B51:J51) -> 1455190 | L51: =SUM(L29:L50) -> 2165769 | M51: =L51-L49-L47-L46-L45-L44 -> 1675624
J53: Total remaining credit | L53: =L51*6000/1000000000 -> 12.994614

Sheet 2019 detail
A1: 2019 U.S. EV SALES | C1: JAN | D1: FEB | E1: MAR | F1: APR | G1: MAY | H1: JUN | I1: JUL | J1: AUG | K1: SEP | L1: OCT | M1: NOV | N1: DEC | O1: Q4 | P1: TOTAL
A2: Tesla Model 3* | C2: 6500 | D2: 5750 | E2: 10175 | F2: 10050 | G2: 13950 | H2: 21225 | I2: 12550 | J2: 12350 | K2: 19100 | L2: - | M2: - | N2: - | O2: 47275 | P2: 158925 | Q2: Tesla Model 3*
A3: Toyota Prius Prime* | C3: 1123 | D3: 1205 | E3: 1820 | F3: 1399 | G3: 1914 | H3: 1144 | I3: 2950 | J3: 2500 | K3: 1650 | P3: 15705 | Q3: Toyota Prius Prime*
A4: Tesla Model X* | C4: 775 | D4: 900 | E4: 2175 | F4: 1050 | G4: 1375 | H4: 2725 | I4: 1225 | J4: 1825 | K4: 1675 | L4: - | M4: - | N4: - | O4: 5500 | P4: 19225 | Q4: Tesla Model X*
A5: Chevrolet Bolt EV* | C5: 925 | D5: 1225 | E5: 2166 | F5: 910 | G5: 1396 | H5: 1659 | I5: 985 | J5: 1720 | K5: 2125 | L5: - | M5: - | N5: - | O5: 3307 | P5: 16418 | Q5: Chevrolet Bolt EV*
A6: Nissan LEAF | C6: 717 | D6: 654 | E6: 1314 | F6: 951 | G6: 1216 | H6: 1156 | I6: 938 | J6: 1117 | K6: 1048 | L6: 887 | M6: 1140 | N6: 1227 | O6: - | P6: 12365 | Q6: Nissan LEAF
A7: Tesla Model S* | C7: 725 | D7: 625 | E7: 2275 | F7: 825 | G7: 1025 | H7: 1750 | I7: 975 | J7: 1050 | K7: 1100 | L7: - | M7: - | N7: - | O7: 3750 | P7: 14100 | Q7: Tesla Model S*
A8: Honda Clarity PHEV* | C8: 1192 | D8: 1213 | E8: 1311 | F8: 981 | G8: 816 | H8: 1030 | I8: 800 | J8: 840 | K8: 400 | L8: 595 | M8: 795 | N8: 755 | O8: - | P8: 10728 | Q8: Honda Clarity PHEV*
A9: Ford Fusion Energi* | C9: 557 | D9: 573 | E9: 611 | F9: 585 | G9: 605 | H9: 675 | I9: 720 | J9: 620 | K9: 700 | P9: 5646 | Q9: Ford Fusion Energi*
A10: BMW i3 (BEV + REx) | C10: 255 | D10: 350 | E10: 359 | F10: 331 | G10: 439 | H10: 473 | I10: 304 | J10: 385 | K10: 467 | L10: 359 | M10: 918 | N10: 214 | O10: - | P10: 4854 | Q10: BMW i3 (BEV + REx)
A11: BMW 530e* | C11: 376 | D11: 414 | E11: 436 | F11: 416 | G11: 727 | H11: 908 | I11: 444 | J11: 606 | K11: 310 | P11: 4637 | Q11: BMW 530e*
A12: Audi e-tron | F12: 253 | G12: 856 | H12: 726 | I12: 678 | J12: 593 | K12: 434 | L12: 462 | M12: 621 | N12: 746 | O12: - | P12: 5369 | Q12: Audi e-tron
A13: Volkswagen e-Golf | C13: 164 | D13: 118 | E13: 581 | F13: 400 | G13: 264 | H13: 366 | I13: 460 | J13: 689 | K13: 554 | L13: 637 | M13: 366 | N13: 264 | O13: - | P13: 4863 | Q13: Volkswagen e-Golf
A14: Chevrolet Volt* | C14: 675 | D14: 615 | E14: 1230 | F14: 405 | G14: 408 | H14: 333 | I14: 250 | J14: 274 | K14: 350 | L14: - | M14: - | N14: - | O14: 370 | P14: 4910 | Q14: Chevrolet Volt*
A15: Chrysler Pacifica Hybrid* | C15: 436 | D15: 589 | E15: 383 | F15: 347 | G15: 390 | H15: 391 | I15: 385 | J15: 395 | K15: 415 | P15: 3731 | Q15: Chrysler Pacifica Hybrid*
A16: Kia Niro PHEV* | C16: 279 | D16: 505 | E16: 230 | F16: 245 | G16: 329 | H16: 351 | I16: 325 | J16: 300 | K16: 375 | P16: 2939 | Q16: Kia Niro PHEV*
A17: Mitsubishi Outlander PHEV | C17: 133 | D17: 157 | E17: 341 | F17: 163 | G17: 232 | H17: 222 | I17: 213 | J17: 277 | K17: 176 | L17: 255 | M17: 372 | N17: 269 | O17: - | P17: 2810 | Q17: Mitsubishi Outlander PHEV
A18: Jaguar I-Pace | C18: 210 | D18: 186 | E18: 212 | F18: 237 | G18: 228 | H18: 236 | I18: 213 | J18: 160 | K18: 160 | L18: 306 | M18: 270 | N18: 176 | O18: - | P18: 2594 | Q18: Jaguar I-Pace
A19: Mercedes GLC 350e* | C19: 74 | D19: 72 | E19: 175 | F19: 220 | G19: 264 | H19: 270 | I19: 265 | J19: 230 | K19: 180 | P19: 1750 | Q19: Mercedes GLC 350e*
A20: Mercedes C350e* | C20: 140 | D20: 145 | E20: 135 | F20: 173 | G20: 215 | H20: 235 | I20: 230 | J20: 190 | K20: 130 | P20: 1593 | Q20: Mercedes C350e*
A21: Porsche Panamera E-Hybrid* | C21: 150 | D21: 160 | E21: 195 | F21: 155 | G21: 170 | H21: 195 | I21: 165 | J21: 165 | K21: 175 | P21: 1530 | Q21: Porsche Panamera E-Hybrid*
A22: Volvo XC90 T8 PHEV* | C22: 95 | D22: 105 | E22: 155 | F22: 100 | G22: 120 | H22: 170 | I22: 110 | J22: 125 | K22: 175 | P22: 1155 | Q22: Volvo XC90 T8 PHEV*
A23: Mercedes GLE 550e* | C23: 92 | D23: 95 | E23: 110 | F23: 150 | G23: 185 | H23: 180 | I23: 170 | J23: 105 | K23: 65 | P23: 1152 | Q23: Mercedes GLE 550e*
A24: Volvo XC60 PHEV* | C24: 90 | D24: 100 | E24: 125 | F24: 85 | G24: 95 | H24: 175 | I24: 140 | J24: 105 | K24: 180 | P24: 1095 | Q24: Volvo XC60 PHEV*
A25: BMW i8 | C25: 23 | D25: 47 | E25: 91 | F25: 87 | G25: 145 | H25: 280 | I25: 101 | J25: 90 | K25: 68 | L25: 64 | M25: 55 | N25: 51 | O25: - | P25: 1102 | Q25: BMW i8
A26: Hyundai Kona Electric* | C26: 0 | D26: 16 | E26: 127 | F26: 77 | G26: 91 | H26: 116 | I26: 150 | J26: 130 | K26: 190 | P26: 897 | Q26: Hyundai Kona Electric*
A27: Hyundai IONIQ PHEV* | C27: 73 | D27: 54 | E27: 94 | F27: 63 | G27: 63 | H27: 152 | I27: 105 | J27: 125 | K27: 135 | P27: 864 | Q27: Hyundai IONIQ PHEV
A28: Porsche Cayenne S-E* | C28: 65 | D28: 95 | E28: 115 | F28: 70 | G28: 105 | H28: 75 | I28: 95 | J28: 100 | K28: 105 | P28: 825 | Q28: Porsche Cayenne S-E*
A29: BMW 330e* | C29: 216 | D29: 185 | E29: 175 | F29: 53 | G29: 27 | H29: 25 | I29: 16 | J29: 5 | K29: 2 | P29: 704 | Q29: BMW 330e*
A30: Honda Clarity BEV* | C30: 78 | D30: 68 | E30: 92 | F30: 88 | G30: 82 | H30: 52 | I30: 47 | J30: 65 | K30: 35 | L30: 35 | M30: 55 | N30: 45 | O30: - | P30: 742 | Q30: Honda Clarity BEV*
A31: smart ED | C31: 83 | D31: 58 | E31: 90 | F31: 85 | G31: 106 | H31: 74 | I31: 56 | J31: 74 | K31: 54 | L31: 0 | M31: 0 | N31: 0 | O31: - | P31: 680 | Q31: smart ED
A32: Subaru Crosstrek Hybrid* | D32: 27 | E32: 52 | F32: 47 | G32: 65 | H32: 70 | I32: 115 | J32: 90 | K32: 120 | P32: 586 | Q32: Subaru Crosstrek Hybrid*
A33: Mini Countryman SE PHEV* | C33: 50 | D33: 63 | E33: 45 | F33: 37 | G33: 85 | H33: 44 | I33: 40 | J33: 50 | K33: 30 | P33: 444 | Q33: Mini Countryman SE PHEV*
A34: Audi A3 Sportback e-tron* | C34: 175 | D34: 210 | E34: 45 | F34: 7 | G34: 0 | H34: 0 | I34: 0 | J34: 0 | K34: 0 | L34: 0 | M34: 0 | N34: 0 | O34: - | P34: 437 | Q34: Audi A3 Sportback e-tron*
A35: Kia Niro EV* | F35: 40 | G35: 119 | H35: 49 | I35: 80 | J35: 55 | K35: 90 | P35: 433 | Q35: Kia Niro EV*
A36: Fiat 500e* | C36: 72 | D36: 87 | E36: 33 | F36: 20 | G36: 60 | H36: 25 | I36: 40 | J36: 45 | K36: 40 | P36: 422 | Q36: Fiat 500e*
A37: Volvo S90 T8 PHEV* | C37: 35 | D37: 45 | E37: 55 | F37: 35 | G37: 50 | H37: 40 | I37: 45 | J37: 55 | K37: 60 | P37: 420 | Q37: Volvo S90 T8 PHEV*
A38: Hyundai IONIQ EV* | C38: 34 | D38: 32 | E38: 28 | F38: 9 | G38: 61 | H38: 62 | I38: 55 | J38: 40 | K38: 70 | P38: 391 | Q38: Hyundai IONIQ EV*
A39: Hyundai Sonata PHEV* | C39: 4 | D39: 71 | E39: 7 | F39: 46 | G39: 40 | H39: 30 | I39: 35 | J39: 40 | K39: 45 | P39: 318 | Q39: Hyundai Sonata PHEV*
A40: Mercedes S550e* | C40: 8 | D40: 10 | E40: 22 | F40: 35 | G40: 51 | H40: 60 | I40: 50 | J40: 24 | K40: 16 | P40: 276 | Q40: Mercedes S550e*
A41: Kia Optima PHEV | C41: 30 | D41: 11 | E41: 8 | F41: 5 | G41: 0 | H41: 51 | I41: 35 | J41: 35 | K41: 50 | P41: 225 | Q41: Kia Optima PHEV
A42: BMWX5 xDrive 40e* | C42: 71 | D42: 38 | E42: 26 | F42: 9 | G42: 4 | H42: 8 | I42: 4 | J42: 2 | K42: 1 | P42: 163 | Q42: BMWX5 xDrive 40e*
A43: Kia Soul EV* | C43: 0 | D43: 1 | E43: 2 | F43: 0 | G43: 1 | H43: 0 | I43: 1 | J43: 8 | K43: 65 | P43: 78 | Q43: Kia Soul EV*
A44: Porsche Taycan | N44: 130 | O44: - | P44: 130 | Q44: Porsche Taycan
A45: BMW 740e* | C45: 6 | D45: 14 | E45: 15 | F45: 8 | G45: 12 | H45: 6 | I45: 2 | J45: 8 | K45: 5 | P45: 76 | Q45: BMW 740e*
A46: Cadillac CT6 PHEV* | C46: 8 | D46: 1 | E46: 3 | F46: 2 | G46: 0 | H46: 2 | I46: 2 | J46: 2 | K46: 3 | P46: 23 | Q46: Cadillac CT6 PHEV*
A47: Mercedes B250e* | C47: 1 | D47: 2 | E47: 0 | F47: 1 | G47: 0 | H47: 2 | I47: 1 | J47: 1 | K47: 0 | L47: 1 | M47: 0 | N47: 0 | O47: - | P47: 9 | Q47: Mercedes B250e*

Sheet Credit by model and year
A1: Tax Credit by Model and Year
D7: Credits in Million $
A8: ='Units by model and year'!A10 -> Make | B8: ='Units by model and year'!B10 -> Model | C8: ='Units by model and year'!C10 -> Total | D8: ='Units by model and year'!D10 -> 2011 | E8: ='Units by model and year'!E10 -> 2012 | F8: ='Units by model and year'!F10 -> 2013 | G8: ='Units by model and year'!G10 -> 2014 | H8: ='Units by model and year'!H10 -> 2015 | ... L8: ='Units by model and year'!L10 -> 2019
A9: ='Units by model and year'!A11 -> Audi | B9: ='Units by model and year'!B11 -> A3 Sportback e-tron | C9: =SUM(D9:L9) -> 46.10048 | D9: ='Units by model and year'!D11*'Units by model and year'!N11/1000000 -> 0 | E9: ='Units by model and year'!E11*'Units by model and year'!O11/1000000 -> 0 | F9: ='Units by model and year'!F11*'Units by model and year'!P11/1000000 -> 0 | G9: ='Units by model and year'!G11*'Units by model and year'!Q11/1000000 -> 0 | H9: ='Units by model and year'!H11*'Units by model and year'!R11/1000000 -> 0.220598 | I9: ='Units by model and year'!I11*'Units by model and year'!S11/1000000 -> 19.26856 | J9: ='Units by model and year'!J11*'Units by model and year'!T11/1000000 -> 12.952254 | K9: ='Units by model and year'!K11*'Units by model and year'!U11/1000000 -> 11.691694 | L9: ='Units by model and year'!L11*'Units by model and year'!V11/1000000 -> 1.967374
A10: ='Units by model and year'!A12 -> Audi | B10: ='Units by model and year'!B12 -> e-tron | C10: =SUM(D10:L10) -> 40.2675 | D10: ='Units by model and year'!D12*'Units by model and year'!N12/1000000 -> 0 | E10: ='Units by model and year'!E12*'Units by model and year'!O12/1000000 -> 0 | F10: ='Units by model and year'!F12*'Units by model and year'!P12/1000000 -> 0 | G10: ='Units by model and year'!G12*'Units by model and year'!Q12/1000000 -> 0 | H10: ='Units by model and year'!H12*'Units by model and year'!R12/1000000 -> 0 | I10: ='Units by model and year'!I12*'Units by model and year'!S12/1000000 -> 0 | J10: ='Units by model and year'!J12*'Units by model and year'!T12/1000000 -> 0 | K10: ='Units by model and year'!K12*'Units by model and year'!U12/1000000 -> 0 | L10: ='Units by model and year'!L12*'Units by model and year'!V12/1000000 -> 40.2675
A11: ='Units by model and year'!A13 -> BMW | B11: ='Units by model and year'!B13 -> 330e | C11: =SUM(D11:L11) -> 33.32833 | D11: ='Units by model and year'!D13*'Units by model and year'!N13/1000000 -> 0 | E11: ='Units by model and year'!E13*'Units by model and year'!O13/1000000 -> 0 | F11: ='Units by model and year'!F13*'Units by model and year'!P13/1000000 -> 0 | G11: ='Units by model and year'!G13*'Units by model and year'!Q13/1000000 -> 0 | H11: ='Units by model and year'!H13*'Units by model and year'!R13/1000000 -> 0 | I11: ='Units by model and year'!I13*'Units by model and year'!S13/1000000 -> 3.48087 | J11: ='Units by model and year'!J13*'Units by model and year'!T13/1000000 -> 16.568141 | K11: ='Units by model and year'!K13*'Units by model and year'!U13/1000000 -> 10.4026 | L11: ='Units by model and year'!L13*'Units by model and year'!V13/1000000 -> 2.876719
A12: ='Units by model and year'!A14 -> BMW | B12: ='Units by model and year'!B14 -> 530e | C12: =SUM(D12:L12) -> 85.415064 | D12: ='Units by model and year'!D14*'Units by model and year'!N14/1000000 -> 0 | E12: ='Units by model and year'!E14*'Units by model and year'!O14/1000000 -> 0 | F12: ='Units by model and year'!F14*'Units by model and year'!P14/1000000 -> 0 | G12: ='Units by model and year'!G14*'Units by model and year'!Q14/1000000 -> 0 | H12: ='Units by model and year'!H14*'Units by model and year'!R14/1000000 -> 0 | I12: ='Units by model and year'!I14*'Units by model and year'!S14/1000000 -> 0 | J12: ='Units by model and year'!J14*'Units by model and year'!T14/1000000 -> 17.607696 | K12: ='Units by model and year'!K14*'Units by model and year'!U14/1000000 -> 40.443552 | L12: ='Units by model and year'!L14*'Units by model and year'!V14/1000000 -> 27.363816
A13: ='Units by model and year'!A15 -> BMW | B13: ='Units by model and year'!B15 -> 740e | C13: =SUM(D13:L13) -> 5.396208 | D13: ='Units by model and year'!D15*'Units by model and year'!N15/1000000 -> 0 | E13: ='Units by model and year'!E15*'Units by model and year'!O15/1000000 -> 0 | F13: ='Units by model and year'!F15*'Units by model and year'!P15/1000000 -> 0 | G13: ='Units by model and year'!G15*'Units by model and year'!Q15/1000000 -> 0 | H13: ='Units by model and year'!H15*'Units by model and year'!R15/1000000 -> 0 | I13: ='Units by model and year'!I15*'Units by model and year'!S15/1000000 -> 0.107364 | J13: ='Units by model and year'!J15*'Units by model and year'!T15/1000000 -> 3.300276 | K13: ='Units by model and year'!K15*'Units by model and year'!U15/1000000 -> 1.582452 | L13: ='Units by model and year'!L15*'Units by model and year'!V15/1000000 -> 0.406116
A14: ='Units by model and year'!A16 -> BMW | B14: ='Units by model and year'!B16 -> i3 (BEV + REx) | C14: =SUM(D14:L14) -> 314.91 | D14: ='Units by model and year'!D16*'Units by model and year'!N16/1000000 -> 0 | E14: ='Units by model and year'!E16*'Units by model and year'!O16/1000000 -> 0 | F14: ='Units by model and year'!F16*'Units by model and year'!P16/1000000 -> 0 | G14: ='Units by model and year'!G16*'Units by model and year'!Q16/1000000 -> 45.69 | H14: ='Units by model and year'!H16*'Units by model and year'!R16/1000000 -> 82.68 | I14: ='Units by model and year'!I16*'Units by model and year'!S16/1000000 -> 57.1875 | J14: ='Units by model and year'!J16*'Units by model and year'!T16/1000000 -> 47.07 | K14: ='Units by model and year'!K16*'Units by model and year'!U16/1000000 -> 45.8775 | L14: ='Units by model and year'!L16*'Units by model and year'!V16/1000000 -> 36.405
A15: ='Units by model and year'!A17 -> BMW | B15: ='Units by model and year'!B17 -> i8 | C15: =SUM(D15:L15) -> 25.091528 | D15: ='Units by model and year'!D17*'Units by model and year'!N17/1000000 -> 0 | E15: ='Units by model and year'!E17*'Units by model and year'!O17/1000000 -> 0 | F15: ='Units by model and year'!F17*'Units by model and year'!P17/1000000 -> 0 | G15: ='Units by model and year'!G17*'Units by model and year'!Q17/1000000 -> 2.055165 | H15: ='Units by model and year'!H17*'Units by model and year'!R17/1000000 -> 8.387295 | I15: ='Units by model and year'!I17*'Units by model and year'!S17/1000000 -> 5.902582 | J15: ='Units by model and year'!J17*'Units by model and year'!T17/1000000 -> 1.807064 | K15: ='Units by model and year'!K17*'Units by model and year'!U17/1000000 -> 2.858716 | L15: ='Units by model and year'!L17*'Units by model and year'!V17/1000000 -> 4.080706
A16: ='Units by model and year'!A18 -> BMW | B16: ='Units by model and year'!B18 -> X5 xDrive 40e | C16: =SUM(D16:L16) -> 78.595116 | D16: ='Units by model and year'!D18*'Units by model and year'!N18/1000000 -> 0 | E16: ='Units by model and year'!E18*'Units by model and year'!O18/1000000 -> 0 | F16: ='Units by model and year'!F18*'Units by model and year'!P18/1000000 -> 0 | G16: ='Units by model and year'!G18*'Units by model and year'!Q18/1000000 -> 0 | H16: ='Units by model and year'!H18*'Units by model and year'!R18/1000000 -> 4.163856 | I16: ='Units by model and year'!I18*'Units by model and year'!S18/1000000 -> 27.98466 | J16: ='Units by model and year'!J18*'Units by model and year'!T18/1000000 -> 24.969132 | K16: ='Units by model and year'!K18*'Units by model and year'!U18/1000000 -> 20.697912 | L16: ='Units by model and year'!L18*'Units by model and year'!V18/1000000 -> 0.779556
A17: ='Units by model and year'!A19 -> Cadillac | B17: ='Units by model and year'!B19 -> CT6 PHEV | C17: =SUM(D17:L17) -> 3.465 | D17: ='Units by model and year'!D19*'Units by model and year'!N19/1000000 -> 0 | E17: ='Units by model and year'!E19*'Units by model and year'!O19/1000000 -> 0 | F17: ='Units by model and year'!F19*'Units by model and year'!P19/1000000 -> 0 | G17: ='Units by model and year'!G19*'Units by model and year'!Q19/1000000 -> 0 | H17: ='Units by model and year'!H19*'Units by model and year'!R19/1000000 -> 0 | I17: ='Units by model and year'!I19*'Units by model and year'!S19/1000000 -> 0 | J17: ='Units by model and year'!J19*'Units by model and year'!T19/1000000 -> 1.5525 | K17: ='Units by model and year'!K19*'Units by model and year'!U19/1000000 -> 1.7325 | L17: ='Units by model and year'!L19*'Units by model and year'!V19/1000000 -> 0.18
A18: ='Units by model and year'!A20 -> Cadillac | B18: ='Units by model and year'!B20 -> ELR | C18: =SUM(D18:L18) -> 21.6825 | D18: ='Units by model and year'!D20*'Units by model and year'!N20/1000000 -> 0 | E18: ='Units by model and year'!E20*'Units by model and year'!O20/1000000 -> 0 | F18: ='Units by model and year'!F20*'Units by model and year'!P20/1000000 -> 0.045 | G18: ='Units by model and year'!G20*'Units by model and year'!Q20/1000000 -> 9.825 | H18: ='Units by model and year'!H20*'Units by model and year'!R20/1000000 -> 7.68 | I18: ='Units by model and year'!I20*'Units by model and year'!S20/1000000 -> 4.005 | J18: ='Units by model and year'!J20*'Units by model and year'!T20/1000000 -> 0.1275 | K18: ='Units by model and year'!K20*'Units by model and year'!U20/1000000 -> 0 | L18: ='Units by model and year'!L20*'Units by model and year'!V20/1000000 -> 0
A19: ='Units by model and year'!A21 -> Chevrolet | B19: ='Units by model and year'!B21 -> Bolt EV | C19: =SUM(D19:L19) -> 383.47594 | D19: ='Units by model and year'!D21*'Units by model and year'!N21/1000000 -> 0 | E19: ='Units by model and year'!E21*'Units by model and year'!O21/1000000 -> 0 | F19: ='Units by model and year'!F21*'Units by model and year'!P21/1000000 -> 0 | G19: ='Units by model and year'!G21*'Units by model and year'!Q21/1000000 -> 0 | H19: ='Units by model and year'!H21*'Units by model and year'!R21/1000000 -> 0 | I19: ='Units by model and year'!I21*'Units by model and year'!S21/1000000 -> 4.3425 | J19: ='Units by model and year'!J21*'Units by model and year'!T21/1000000 -> 174.7275 | K19: ='Units by model and year'!K21*'Units by model and year'!U21/1000000 -> 135.1425 | L19: ='Units by model and year'!L21*'Units by model and year'!V21/1000000 -> 69.263437
A20: ='Units by model and year'!A22 -> Chevrolet | B20: ='Units by model and year'!B22 -> Spark EV | C20: =SUM(D20:L20) -> 55.2825 | D20: ='Units by model and year'!D22*'Units by model and year'!N22/1000000 -> 0 | E20: ='Units by model and year'!E22*'Units by model and year'!O22/1000000 -> 0 | F20: ='Units by model and year'!F22*'Units by model and year'!P22/1000000 -> 4.0425 | G20: ='Units by model and year'!G22*'Units by model and year'!Q22/1000000 -> 8.5875 | H20: ='Units by model and year'!H22*'Units by model and year'!R22/1000000 -> 19.7175 | I20: ='Units by model and year'!I22*'Units by model and year'!S22/1000000 -> 22.7625 | J20: ='Units by model and year'!J22*'Units by model and year'!T22/1000000 -> 0.1725 | K20: ='Units by model and year'!K22*'Units by model and year'!U22/1000000 -> 0 | L20: ='Units by model and year'!L22*'Units by model and year'!V22/1000000 -> 0
... A65: ='Units by model and year'!A67 -> Volvo | B65: ='Units by model and year'!B67 -> XC90 T8 PHEV | C65: =SUM(D65:L65) -> 26.715682 | D65: ='Units by model and year'!D67*'Units by model and year'!N67/1000000 -> 0 | E65: ='Units by model and year'!E67*'Units by model and year'!O67/1000000 -> 0 | F65: ='Units by model and year'!F67*'Units by model and year'!P67/1000000 -> 0 | G65: ='Units by model and year'!G67*'Units by model and year'!Q67/1000000 -> 0 | H65: ='Units by model and year'!H67*'Units by model and year'!R67/1000000 -> 0.430172 | I65: ='Units by model and year'!I67*'Units by model and year'!S67/1000000 -> 0 | J65: ='Units by model and year'!J67*'Units by model and year'!T67/1000000 -> 10.984392 | K65: ='Units by model and year'!K67*'Units by model and year'!U67/1000000 -> 6.937774 | L65: ='Units by model and year'!L67*'Units by model and year'!V67/1000000 -> 8.363344

Sheet Credit by Make
A3: Row Labels | B3: Sum of 2011 | C3: Sum of 2012 | D3: Sum of 2013 | E3: Sum of 2014 | F3: Sum of 2015 | G3: Sum of 2016 | H3: Sum of 2017 | I3: Sum of 2018 | J3: Sum of 2019
A4: Cadillac | B4: 0 | C4: 0 | D4: 0.045 | E4: 9.825 | F4: 7.68 | G4: 4.005 | H4: 1.68 | I4: 1.7325 | J4: 0.18
A5: Mini | B5: 0 | C5: 0 | D5: 0 | E5: 0 | F5: 0 | G5: 0 | H5: 1.9 | I5: 6.256 | J5: 2.096
A6: Subaru | B6: 0 | C6: 0 | D6: 0 | E6: 0 | F6: 0 | G6: 0 | H6: 0 | I6: 0 | J6: 4.36694
A7: Fiat | B7: 0 | C7: 0 | D7: 17.325 | E7: 38.49 | F7: 46.455 | G7: 39.975 | H7: 40.35 | I7: 16.875 | J7: 4.6125
A8: Smart | B8: 0 | C8: 0 | D8: 6.9225 | E8: 19.455 | F8: 10.4025 | G8: 4.9275 | H8: 4.08 | I8: 9.1425 | J8: 5.1
A9: Mitsubishi | B9: 0.6 | C9: 4.41 | D9: 7.7175 | E9: 1.47 | F9: 0.8625 | G9: 0.705 | H9: 0.622764 | I9: 24.312776 | J9: 16.39916
A10: Porsche | B10: 0 | C10: 0 | D10: 0.408672 | E10: 7.548866 | F10: 8.564073 | G10: 13.131832 | H10: 8.4844 | I10: 15.128464 | J10: 16.84716
A11: Volvo | B11: 0 | C11: 0 | D11: 0 | E11: 0 | F11: 0.430172 | G11: 10.07903 | H11: 14.225688 | I11: 20.463182 | J11: 18.662462
A12: Jaguar | B12: 0 | C12: 0 | D12: 0 | E12: 0 | F12: 0 | G12: 0 | H12: 0 | I12: 2.9475 | J12: 19.455
A13: Chrysler | B13: 0 | C13: 0 | D13: 0 | E13: 0 | F13: 0 | G13: 0 | H13: 34.4775 | I13: 52.965 | J13: 21.46125
A14: Mercedes | B14: 0 | C14: 0 | D14: 0 | E14: 0 | F14: 14.295 | G14: 8.821931 | H14: 13.475657 | I14: 14.303061 | J14: 27.023612
A15: Hyundai | B15: 0 | C15: 0 | D15: 0 | E15: 0 | F15: 0.78704 | G15: 15.224305 | H15: 15.709665 | I15: 12.07361 | J15: 27.8442
... A25: Tesla | B25: 0 | C25: 19.875 | D25: 132.375 | E25: 125.1675 | F25: 190.62 | G25: 353.3925 | H25: 376.0425 | I25: 1437.2025 | J25: 540.70312
B27: 2011 | C27: =B27+1 -> 2012 | D27: =C27+1 -> 2013 | E27: =D27+1 -> 2014 | F27: =E27+1 -> 2015 | G27: =F27+1 -> 2016 | H27: =G27+1 -> 2017 | I27: =H27+1 -> 2018 | J27: =I27+1 -> 2019 | K27: Total
A28: Cadillac | B28: 0 | C28: 0 | D28: 0.045 | E28: 9.825 | F28: 7.68 | G28: 4.005 | H28: 1.68 | I28: 1.7325 | J28: 0.18 | K28: =SUM(B28:J28) -> 25.1475
A29: Mini | B29: 0 | C29: 0 | D29: 0 | E29: 0 | F29: 0 | G29: 0 | H29: 1.9 | I29: 6.256 | J29: 2.096 | K29: =SUM(B29:J29) -> 10.252
A30: Subaru | B30: 0 | C30: 0 | D30: 0 | E30: 0 | F30: 0 | G30: 0 | H30: 0 | I30: 0 | J30: 4.36694 | K30: =SUM(B30:J30) -> 4.36694
A31: Fiat | B31: 0 | C31: 0 | D31: 17.325 | E31: 38.49 | F31: 46.455 | G31: 39.975 | H31: 40.35 | I31: 16.875 | J31: 4.6125 | K31: =SUM(B31:J31) -> 204.0825
A32: Smart | B32: 0 | C32: 0 | D32: 6.9225 | E32: 19.455 | F32: 10.4025 | G32: 4.9275 | H32: 4.08 | I32: 9.1425 | J32: 5.1 | K32: =SUM(B32:J32) -> 60.03
A33: Mitsubishi | B33: 0.6 | C33: 4.41 | D33: 7.7175 | E33: 1.47 | F33: 0.8625 | G33: 0.705 | H33: 0.622764 | I33: 24.312776 | J33: 16.39916 | K33: =SUM(B33:J33) -> 57.0997
A34: Porsche | B34: 0 | C34: 0 | D34: 0.408672 | E34: 7.548866 | F34: 8.564073 | G34: 13.131832 | H34: 8.4844 | I34: 15.128464 | J34: 16.84716 | K34: =SUM(B34:J34) -> 70.113467
A35: Volvo | B35: 0 | C35: 0 | D35: 0 | E35: 0 | F35: 0.430172 | G35: 10.07903 | H35: 14.225688 | I35: 20.463182 | J35: 18.662462 | K35: =SUM(B35:J35) -> 63.860534
A36: Jaguar | B36: 0 | C36: 0 | D36: 0 | E36: 0 | F36: 0 | G36: 0 | H36: 0 | I36: 2.9475 | J36: 19.455 | K36: =SUM(B36:J36) -> 22.4025
A37: Chrysler | B37: 0 | C37: 0 | D37: 0 | E37: 0 | F37: 0 | G37: 0 | H37: 34.4775 | I37: 52.965 | J37: 21.46125 | K37: =SUM(B37:J37) -> 108.90375
A38: Mercedes | B38: 0 | C38: 0 | D38: 0 | E38: 0 | F38: 14.295 | G38: 8.821931 | H38: 13.475657 | I38: 14.303061 | J38: 27.023612 | K38: =SUM(B38:J38) -> 77.919261
A39: Hyundai | B39: 0 | C39: 0 | D39: 0 | E39: 0 | F39: 0.78704 | G39: 15.224305 | H39: 15.709665 | I39: 12.07361 | J39: 27.8442 | K39: =SUM(B39:J39) -> 71.63882
... A49: Tesla | B49: 0 | C49: 19.875 | D49: 132.375 | E49: 125.1675 | F49: 190.62 | G49: 353.3925 | H49: 376.0425 | I49: 1437.2025 | J49: 540.70312 | K49: =SUM(B49:J49) -> 3175.3781
A50: Total | B50: =SUM(B28:B49) -> 130.6875 | C50: =SUM(C28:C49) -> 322.51012 | D50: =SUM(D28:D49) -> 625.99623 | E50: =SUM(E28:E49) -> 779.67209 | F50: =SUM(F28:F49) -> 777.51248 | G50: =SUM(G28:G49) -> 1047.5069 | H50: =SUM(H28:H49) -> 1297.2575 | I50: =SUM(I28:I49) -> 2483.1624 | J50: =SUM(J28:J49) -> 1293.8478 | K50: =SUM(B50:J50) -> 8758.1531
K52: =K50*1000000/'Units by make'!K51 -> 6018.5633
