Workbook

Sheet Science Nobel Prizes and Countr
A1: Science Nobel Prizes and Countries
A2: 43334
A3: Laureate | B3: Prize | C3: Year | D3: Country Where Work Was Done | E3: Birth Country | F3: Native | G3: Non-native
A4: Elizabeth Blackburn | B4: Physiology or Medicine | C4: 2009 | D4: United States | E4: Australia | F4: =IF(E4=D4,1,0) -> 0 | G4: =1-F4 -> 1
A5: Eric R. Kandel | B5: Physiology or Medicine | C5: 2000 | D5: United States | E5: Austria | F5: =IF(E5=D5,1,0) -> 0 | G5: =1-F5 -> 1
A6: Gerty Cori | B6: Physiology or Medicine | C6: 1947 | D6: United States | E6: Austria | F6: =IF(E6=D6,1,0) -> 0 | G6: =1-F6 -> 1
A7: Isidor Isaac Rabi | B7: Physics | C7: 1944 | D7: United States | E7: Austria | F7: =IF(E7=D7,1,0) -> 0 | G7: =1-F7 -> 1
A8: Martin Karplus | B8: Chemistry | C8: 2013 | D8: United States | E8: Austria | F8: =IF(E8=D8,1,0) -> 0 | G8: =1-F8 -> 1
A9: Walter Kohn | B9: Chemistry | C9: 1998 | D9: United States | E9: Austria | F9: =IF(E9=D9,1,0) -> 0 | G9: =1-F9 -> 1
A10: Charles B. Huggins | B10: Physiology or Medicine | C10: 1966 | D10: United States | E10: Canada | F10: =IF(E10=D10,1,0) -> 0 | G10: =1-F10 -> 1
A11: David H. Hubel | B11: Physiology or Medicine | C11: 1981 | D11: United States | E11: Canada | F11: =IF(E11=D11,1,0) -> 0 | G11: =1-F11 -> 1
A12: Henry Taube | B12: Chemistry | C12: 1983 | D12: United States | E12: Canada | F12: =IF(E12=D12,1,0) -> 0 | G12: =1-F12 -> 1
A13: Jack W. Szostak | B13: Physiology or Medicine | C13: 2009 | D13: United States | E13: Canada | F13: =IF(E13=D13,1,0) -> 0 | G13: =1-F13 -> 1
A14: Rudolph A. Marcus | B14: Chemistry | C14: 1992 | D14: United States | E14: Canada | F14: =IF(E14=D14,1,0) -> 0 | G14: =1-F14 -> 1
A15: Sidney Altman | B15: Chemistry | C15: 1989 | D15: United States | E15: Canada | F15: =IF(E15=D15,1,0) -> 0 | G15: =1-F15 -> 1
... A612: Luis Federico Leloir | B612: Chemistry | C612: 1970 | D612: Argentina | E612: France | F612: =IF(E612=D612,1,0) -> 0 | G612: =1-F612 -> 1

Sheet Sheet1
A3: Row Labels | B3: Count of Region
A4: E | B4: 41 | D4: Europe | F4: =B4 -> 41
A5: Germany | B5: 14 | E5: =A5 -> Germany | F5: =B5 -> 14
A6: Italy | B6: 6 | E6: =A6 -> Italy | F6: =B6 -> 6
A7: Austria | B7: 5 | E7: =A7 -> Austria | F7: =B7 -> 5
A8: Hungary | B8: 3 | E8: =A8 -> Hungary | F8: =B8 -> 3
A9: Netherlands | B9: 2 | E9: =A9 -> Netherlands | F9: =B9 -> 2
A10: Poland | B10: 2 | E10: =A10 -> Poland | F10: =B10 -> 2
A11: Norway | B11: 2 | E11: =A11 -> Norway | F11: =B11 -> 2
A12: Czech Republic | B12: 1 | E12: =A12 -> Czech Republic | F12: =B12 -> 1
A13: Ireland | B13: 1 | E13: =A13 -> Ireland | F13: =B13 -> 1
A14: Romania | B14: 1 | E14: =A14 -> Romania | F14: =B14 -> 1
A15: Spain | B15: 1 | E15: =A15 -> Spain | F15: =B15 -> 1
A16: Switzerland | B16: 1 | E16: =A16 -> Switzerland | F16: =B16 -> 1
... A18: Lithuania | B18: 1 | E18: =A18 -> Lithuania | F18: =B18 -> 1
A19: O | B19: 22 | D19: Other | F19: =B19 -> 22
A20: China | B20: 6 | E20: =A20 -> China | F20: =B20 -> 6
A21: Japan | B21: 4 | E21: =A21 -> Japan | F21: =B21 -> 4
A22: India | B22: 3 | E22: =A22 -> India | F22: =B22 -> 3
A23: Russia | B23: 1 | E23: =A23 -> Russia | F23: =B23 -> 1
A24: Mexico | B24: 1 | E24: =A24 -> Mexico | F24: =B24 -> 1
A25: Israel | B25: 1 | E25: =A25 -> Israel | F25: =B25 -> 1
A26: South Africa | B26: 1 | E26: =A26 -> South Africa | F26: =B26 -> 1
A27: Taiwan | B27: 1 | E27: =A27 -> Taiwan | F27: =B27 -> 1
A28: Turkey | B28: 1 | E28: =A28 -> Turkey | F28: =B28 -> 1
A29: Egypt | B29: 1 | E29: =A29 -> Egypt | F29: =B29 -> 1
A30: Ukraine | B30: 1 | E30: =A30 -> Ukraine | F30: =B30 -> 1
A31: Korea | B31: 1 | E31: =A31 -> Korea | F31: =B31 -> 1
A32: A | B32: 16 | D32: Anglosphere | F32: =B32 -> 16
A33: Canada | B33: 8 | E33: =A33 -> Canada | F33: =B33 -> 8
A34: United Kingdom | B34: 6 | E34: =A34 -> United Kingdom | F34: =B34 -> 6
A35: Australia | B35: 1 | E35: =A35 -> Australia | F35: =B35 -> 1
A36: New Zealand | B36: 1 | E36: =A36 -> New Zealand | F36: =B36 -> 1
A37: (blank)
A38: (blank)
A39: Grand Total | B39: 79

Sheet US Non-native
A1: ='Science Nobel Prizes and Countr'!A3 -> Laureate | B1: ='Science Nobel Prizes and Countr'!B3 -> Prize | C1: ='Science Nobel Prizes and Countr'!C3 -> Year | D1: ='Science Nobel Prizes and Countr'!D3 -> Country Where Work Was Done | E1: ='Science Nobel Prizes and Countr'!E3 -> Birth Country | F1: Region | G1: ='Science Nobel Prizes and Countr'!F3 -> Native | H1: ='Science Nobel Prizes and Countr'!G3 -> Non-native | I1: Nazi persecution? | J1: Year of immigration | K1: Note
A2: ='Science Nobel Prizes and Countr'!A4 -> Elizabeth Blackburn | B2: ='Science Nobel Prizes and Countr'!B4 -> Physiology or Medicine | C2: ='Science Nobel Prizes and Countr'!C4 -> 2009 | D2: ='Science Nobel Prizes and Countr'!D4 -> United States | E2: ='Science Nobel Prizes and Countr'!E4 -> Australia | F2: A | G2: ='Science Nobel Prizes and Countr'!F4 -> 0 | H2: ='Science Nobel Prizes and Countr'!G4 -> 1 | I2: 0
A3: ='Science Nobel Prizes and Countr'!A10 -> Charles B. Huggins | B3: ='Science Nobel Prizes and Countr'!B10 -> Physiology or Medicine | C3: ='Science Nobel Prizes and Countr'!C10 -> 1966 | D3: ='Science Nobel Prizes and Countr'!D10 -> United States | E3: ='Science Nobel Prizes and Countr'!E10 -> Canada | F3: A | G3: ='Science Nobel Prizes and Countr'!F10 -> 0 | H3: ='Science Nobel Prizes and Countr'!G10 -> 1 | I3: 0
A4: ='Science Nobel Prizes and Countr'!A11 -> David H. Hubel | B4: ='Science Nobel Prizes and Countr'!B11 -> Physiology or Medicine | C4: ='Science Nobel Prizes and Countr'!C11 -> 1981 | D4: ='Science Nobel Prizes and Countr'!D11 -> United States | E4: ='Science Nobel Prizes and Countr'!E11 -> Canada | F4: A | G4: ='Science Nobel Prizes and Countr'!F11 -> 0 | H4: ='Science Nobel Prizes and Countr'!G11 -> 1 | I4: 0
A5: ='Science Nobel Prizes and Countr'!A12 -> Henry Taube | B5: ='Science Nobel Prizes and Countr'!B12 -> Chemistry | C5: ='Science Nobel Prizes and Countr'!C12 -> 1983 | D5: ='Science Nobel Prizes and Countr'!D12 -> United States | E5: ='Science Nobel Prizes and Countr'!E12 -> Canada | F5: A | G5: ='Science Nobel Prizes and Countr'!F12 -> 0 | H5: ='Science Nobel Prizes and Countr'!G12 -> 1 | I5: 0
A6: ='Science Nobel Prizes and Countr'!A13 -> Jack W. Szostak | B6: ='Science Nobel Prizes and Countr'!B13 -> Physiology or Medicine | C6: ='Science Nobel Prizes and Countr'!C13 -> 2009 | D6: ='Science Nobel Prizes and Countr'!D13 -> United States | E6: ='Science Nobel Prizes and Countr'!E13 -> Canada | F6: A | G6: ='Science Nobel Prizes and Countr'!F13 -> 0 | H6: ='Science Nobel Prizes and Countr'!G13 -> 1 | I6: 0
A7: ='Science Nobel Prizes and Countr'!A14 -> Rudolph A. Marcus | B7: ='Science Nobel Prizes and Countr'!B14 -> Chemistry | C7: ='Science Nobel Prizes and Countr'!C14 -> 1992 | D7: ='Science Nobel Prizes and Countr'!D14 -> United States | E7: ='Science Nobel Prizes and Countr'!E14 -> Canada | F7: A | G7: ='Science Nobel Prizes and Countr'!F14 -> 0 | H7: ='Science Nobel Prizes and Countr'!G14 -> 1 | I7: 0
A8: ='Science Nobel Prizes and Countr'!A15 -> Sidney Altman | B8: ='Science Nobel Prizes and Countr'!B15 -> Chemistry | C8: ='Science Nobel Prizes and Countr'!C15 -> 1989 | D8: ='Science Nobel Prizes and Countr'!D15 -> United States | E8: ='Science Nobel Prizes and Countr'!E15 -> Canada | F8: A | G8: ='Science Nobel Prizes and Countr'!F15 -> 0 | H8: ='Science Nobel Prizes and Countr'!G15 -> 1 | I8: 0
A9: ='Science Nobel Prizes and Countr'!A16 -> Willard S. Boyle | B9: ='Science Nobel Prizes and Countr'!B16 -> Physics | C9: ='Science Nobel Prizes and Countr'!C16 -> 2009 | D9: ='Science Nobel Prizes and Countr'!D16 -> United States | E9: ='Science Nobel Prizes and Countr'!E16 -> Canada | F9: A | G9: ='Science Nobel Prizes and Countr'!F16 -> 0 | H9: ='Science Nobel Prizes and Countr'!G16 -> 1 | I9: 0
A10: ='Science Nobel Prizes and Countr'!A17 -> William Giauque | B10: ='Science Nobel Prizes and Countr'!B17 -> Chemistry | C10: ='Science Nobel Prizes and Countr'!C17 -> 1949 | D10: ='Science Nobel Prizes and Countr'!D17 -> United States | E10: ='Science Nobel Prizes and Countr'!E17 -> Canada | F10: A | G10: ='Science Nobel Prizes and Countr'!F17 -> 0 | H10: ='Science Nobel Prizes and Countr'!G17 -> 1 | I10: 0
A11: ='Science Nobel Prizes and Countr'!A63 -> Alan MacDiarmid | B11: ='Science Nobel Prizes and Countr'!B63 -> Chemistry | C11: ='Science Nobel Prizes and Countr'!C63 -> 2000 | D11: ='Science Nobel Prizes and Countr'!D63 -> United States | E11: ='Science Nobel Prizes and Countr'!E63 -> New Zealand | F11: A | G11: ='Science Nobel Prizes and Countr'!F63 -> 0 | H11: ='Science Nobel Prizes and Countr'!G63 -> 1 | I11: 0
A12: ='Science Nobel Prizes and Countr'!A76 -> Anthony J. Leggett | B12: ='Science Nobel Prizes and Countr'!B76 -> Physics | C12: ='Science Nobel Prizes and Countr'!C76 -> 2003 | D12: ='Science Nobel Prizes and Countr'!D76 -> United States | E12: ='Science Nobel Prizes and Countr'!E76 -> United Kingdom | F12: A | G12: ='Science Nobel Prizes and Countr'!F76 -> 0 | H12: ='Science Nobel Prizes and Countr'!G76 -> 1 | I12: 0
A13: ='Science Nobel Prizes and Countr'!A77 -> F. Duncan M. Haldane | B13: ='Science Nobel Prizes and Countr'!B77 -> Physics | C13: ='Science Nobel Prizes and Countr'!C77 -> 2016 | D13: ='Science Nobel Prizes and Countr'!D77 -> United States | E13: ='Science Nobel Prizes and Countr'!E77 -> United Kingdom | F13: A | G13: ='Science Nobel Prizes and Countr'!F77 -> 0 | H13: ='Science Nobel Prizes and Countr'!G77 -> 1 | I13: 0
A14: ='Science Nobel Prizes and Countr'!A78 -> Fraser Stoddart | B14: ='Science Nobel Prizes and Countr'!B78 -> Chemistry | C14: ='Science Nobel Prizes and Countr'!C78 -> 2016 | D14: ='Science Nobel Prizes and Countr'!D78 -> United States | E14: ='Science Nobel Prizes and Countr'!E78 -> United Kingdom | F14: A | G14: ='Science Nobel Prizes and Countr'!F78 -> 0 | H14: ='Science Nobel Prizes and Countr'!G78 -> 1 | I14: 0
A15: ='Science Nobel Prizes and Countr'!A79 -> Herbert C. Brown | B15: ='Science Nobel Prizes and Countr'!B79 -> Chemistry | C15: ='Science Nobel Prizes and Countr'!C79 -> 1979 | D15: ='Science Nobel Prizes and Countr'!D79 -> United States | E15: ='Science Nobel Prizes and Countr'!E79 -> United Kingdom | F15: A | G15: ='Science Nobel Prizes and Countr'!F79 -> 0 | H15: ='Science Nobel Prizes and Countr'!G79 -> 1 | I15: 0
A16: ='Science Nobel Prizes and Countr'!A80 -> John M. Kosterlitz | B16: ='Science Nobel Prizes and Countr'!B80 -> Physics | C16: ='Science Nobel Prizes and Countr'!C80 -> 2016 | D16: ='Science Nobel Prizes and Countr'!D80 -> United States | E16: ='Science Nobel Prizes and Countr'!E80 -> United Kingdom | F16: A | G16: ='Science Nobel Prizes and Countr'!F80 -> 0 | H16: ='Science Nobel Prizes and Countr'!G80 -> 1 | I16: 0
A17: ='Science Nobel Prizes and Countr'!A81 -> Oliver Smithies | B17: ='Science Nobel Prizes and Countr'!B81 -> Physiology or Medicine | C17: ='Science Nobel Prizes and Countr'!C81 -> 2007 | D17: ='Science Nobel Prizes and Countr'!D81 -> United States | E17: ='Science Nobel Prizes and Countr'!E81 -> United Kingdom | F17: A | G17: ='Science Nobel Prizes and Countr'!F81 -> 0 | H17: ='Science Nobel Prizes and Countr'!G81 -> 1 | I17: 0
A18: ='Science Nobel Prizes and Countr'!A8 -> Martin Karplus | B18: ='Science Nobel Prizes and Countr'!B8 -> Chemistry | C18: ='Science Nobel Prizes and Countr'!C8 -> 2013 | D18: ='Science Nobel Prizes and Countr'!D8 -> United States | E18: ='Science Nobel Prizes and Countr'!E8 -> Austria | F18: E | G18: ='Science Nobel Prizes and Countr'!F8 -> 0 | H18: ='Science Nobel Prizes and Countr'!G8 -> 1 | I18: 1 | J18: 1938
A19: ='Science Nobel Prizes and Countr'!A9 -> Walter Kohn | B19: ='Science Nobel Prizes and Countr'!B9 -> Chemistry | C19: ='Science Nobel Prizes and Countr'!C9 -> 1998 | D19: ='Science Nobel Prizes and Countr'!D9 -> United States | E19: ='Science Nobel Prizes and Countr'!E9 -> Austria | F19: E | G19: ='Science Nobel Prizes and Countr'!F9 -> 0 | H19: ='Science Nobel Prizes and Countr'!G9 -> 1 | I19: 1 | J19: 1938
A20: ='Science Nobel Prizes and Countr'!A5 -> Eric R. Kandel | B20: ='Science Nobel Prizes and Countr'!B5 -> Physiology or Medicine | C20: ='Science Nobel Prizes and Countr'!C5 -> 2000 | D20: ='Science Nobel Prizes and Countr'!D5 -> United States | E20: ='Science Nobel Prizes and Countr'!E5 -> Austria | F20: E | G20: ='Science Nobel Prizes and Countr'!F5 -> 0 | H20: ='Science Nobel Prizes and Countr'!G5 -> 1 | I20: 0
A21: ='Science Nobel Prizes and Countr'!A6 -> Gerty Cori | B21: ='Science Nobel Prizes and Countr'!B6 -> Physiology or Medicine | C21: ='Science Nobel Prizes and Countr'!C6 -> 1947 | D21: ='Science Nobel Prizes and Countr'!D6 -> United States | E21: ='Science Nobel Prizes and Countr'!E6 -> Austria | F21: E | G21: ='Science Nobel Prizes and Countr'!F6 -> 0 | H21: ='Science Nobel Prizes and Countr'!G6 -> 1 | I21: 0 | J21: 1922
A22: ='Science Nobel Prizes and Countr'!A7 -> Isidor Isaac Rabi | B22: ='Science Nobel Prizes and Countr'!B7 -> Physics | C22: ='Science Nobel Prizes and Countr'!C7 -> 1944 | D22: ='Science Nobel Prizes and Countr'!D7 -> United States | E22: ='Science Nobel Prizes and Countr'!E7 -> Austria | F22: E | G22: ='Science Nobel Prizes and Countr'!F7 -> 0 | H22: ='Science Nobel Prizes and Countr'!G7 -> 1 | I22: 0 | J22: 1900
A23: ='Science Nobel Prizes and Countr'!A24 -> Carl Cori | B23: ='Science Nobel Prizes and Countr'!B24 -> Physiology or Medicine | C23: ='Science Nobel Prizes and Countr'!C24 -> 1947 | D23: ='Science Nobel Prizes and Countr'!D24 -> United States | E23: ='Science Nobel Prizes and Countr'!E24 -> Czech Republic | F23: E | G23: ='Science Nobel Prizes and Countr'!F24 -> 0 | H23: ='Science Nobel Prizes and Countr'!G24 -> 1 | I23: 0 | J23: 1928
A24: ='Science Nobel Prizes and Countr'!A27 -> Roger Guillemin | B24: ='Science Nobel Prizes and Countr'!B27 -> Physiology or Medicine | C24: ='Science Nobel Prizes and Countr'!C27 -> 1977 | D24: ='Science Nobel Prizes and Countr'!D27 -> United States | E24: ='Science Nobel Prizes and Countr'!E27 -> France | F24: E | G24: ='Science Nobel Prizes and Countr'!F27 -> 0 | H24: ='Science Nobel Prizes and Countr'!G27 -> 1 | I24: 0
A25: ='Science Nobel Prizes and Countr'!A26 -> Hans Bethe | B25: ='Science Nobel Prizes and Countr'!B26 -> Physics | C25: ='Science Nobel Prizes and Countr'!C26 -> 1967 | D25: ='Science Nobel Prizes and Countr'!D26 -> United States | E25: ='Science Nobel Prizes and Countr'!E26 -> Germany | F25: E | G25: ='Science Nobel Prizes and Countr'!F26 -> 0 | H25: ='Science Nobel Prizes and Countr'!G26 -> 1 | I25: 1 | J25: 1935
A26: ='Science Nobel Prizes and Countr'!A28 -> Arno Penzias | B26: ='Science Nobel Prizes and Countr'!B28 -> Physics | C26: ='Science Nobel Prizes and Countr'!C28 -> 1978 | D26: ='Science Nobel Prizes and Countr'!D28 -> United States | E26: ='Science Nobel Prizes and Countr'!E28 -> Germany | F26: E | G26: ='Science Nobel Prizes and Countr'!F28 -> 0 | H26: ='Science Nobel Prizes and Countr'!G28 -> 1 | I26: 1 | J26: 1940
A27: ='Science Nobel Prizes and Countr'!A32 -> Jack Steinberger | B27: ='Science Nobel Prizes and Countr'!B32 -> Physics | C27: ='Science Nobel Prizes and Countr'!C32 -> 1988 | D27: ='Science Nobel Prizes and Countr'!D32 -> United States | E27: ='Science Nobel Prizes and Countr'!E32 -> Germany | F27: E | G27: ='Science Nobel Prizes and Countr'!F32 -> 0 | H27: ='Science Nobel Prizes and Countr'!G32 -> 1 | I27: 1 | J27: 1934
A28: ='Science Nobel Prizes and Countr'!A34 -> Konrad Bloch | B28: ='Science Nobel Prizes and Countr'!B34 -> Physiology or Medicine | C28: ='Science Nobel Prizes and Countr'!C34 -> 1964 | D28: ='Science Nobel Prizes and Countr'!D34 -> United States | E28: ='Science Nobel Prizes and Countr'!E34 -> Germany | F28: E | G28: ='Science Nobel Prizes and Countr'!F34 -> 0 | H28: ='Science Nobel Prizes and Countr'!G34 -> 1 | I28: 1 | J28: 1934
A29: ='Science Nobel Prizes and Countr'!A36 -> Max DelbrÃ¼ck | B29: ='Science Nobel Prizes and Countr'!B36 -> Physiology or Medicine | C29: ='Science Nobel Prizes and Countr'!C36 -> 1969 | D29: ='Science Nobel Prizes and Countr'!D36 -> United States | E29: ='Science Nobel Prizes and Countr'!E36 -> Germany | F29: E | G29: ='Science Nobel Prizes and Countr'!F36 -> 0 | H29: ='Science Nobel Prizes and Countr'!G36 -> 1 | I29: 1 | J29: 1940 | K29: not jewish
A30: ='Science Nobel Prizes and Countr'!A37 -> Otto Stern | B30: ='Science Nobel Prizes and Countr'!B37 -> Physics | C30: ='Science Nobel Prizes and Countr'!C37 -> 1943 | D30: ='Science Nobel Prizes and Countr'!D37 -> United States | E30: ='Science Nobel Prizes and Countr'!E37 -> Germany | F30: E | G30: ='Science Nobel Prizes and Countr'!F37 -> 0 | H30: ='Science Nobel Prizes and Countr'!G37 -> 1 | I30: 1 | J30: 1934
A31: ='Science Nobel Prizes and Countr'!A39 -> Rainer Weiss | B31: ='Science Nobel Prizes and Countr'!B39 -> Physics | C31: ='Science Nobel Prizes and Countr'!C39 -> 2017 | D31: ='Science Nobel Prizes and Countr'!D39 -> United States | E31: ='Science Nobel Prizes and Countr'!E39 -> Germany | F31: E | G31: ='Science Nobel Prizes and Countr'!F39 -> 0 | H31: ='Science Nobel Prizes and Countr'!G39 -> 1 | I31: 1 | J31: 1938
A32: ='Science Nobel Prizes and Countr'!A29 -> GÃ¼nter Blobel | B32: ='Science Nobel Prizes and Countr'!B29 -> Physiology or Medicine | C32: ='Science Nobel Prizes and Countr'!C29 -> 1999 | D32: ='Science Nobel Prizes and Countr'!D29 -> United States | E32: ='Science Nobel Prizes and Countr'!E29 -> Germany | F32: E | G32: ='Science Nobel Prizes and Countr'!F29 -> 0 | H32: ='Science Nobel Prizes and Countr'!G29 -> 1 | I32: 0 | J32: 1962
A33: ='Science Nobel Prizes and Countr'!A30 -> Hans G. Dehmelt | B33: ='Science Nobel Prizes and Countr'!B30 -> Physics | C33: ='Science Nobel Prizes and Countr'!C30 -> 1989 | D33: ='Science Nobel Prizes and Countr'!D30 -> United States | E33: ='Science Nobel Prizes and Countr'!E30 -> Germany | F33: E | G33: ='Science Nobel Prizes and Countr'!F30 -> 0 | H33: ='Science Nobel Prizes and Countr'!G30 -> 1 | I33: 0 | J33: 1952
A34: ='Science Nobel Prizes and Countr'!A31 -> Horst Ludwig StÃ¶rmer | B34: ='Science Nobel Prizes and Countr'!B31 -> Physics | C34: ='Science Nobel Prizes and Countr'!C31 -> 1998 | D34: ='Science Nobel Prizes and Countr'!D31 -> United States | E34: ='Science Nobel Prizes and Countr'!E31 -> Germany | F34: E | G34: ='Science Nobel Prizes and Countr'!F31 -> 0 | H34: ='Science Nobel Prizes and Countr'!G31 -> 1 | I34: 0 | J34: 1980
A35: ='Science Nobel Prizes and Countr'!A33 -> Joachim Frank | B35: ='Science Nobel Prizes and Countr'!B33 -> Chemistry | C35: ='Science Nobel Prizes and Countr'!C33 -> 2017 | D35: ='Science Nobel Prizes and Countr'!D33 -> United States | E35: ='Science Nobel Prizes and Countr'!E33 -> Germany | F35: E | G35: ='Science Nobel Prizes and Countr'!F33 -> 0 | H35: ='Science Nobel Prizes and Countr'!G33 -> 1 | I35: 0 | J35: 1970
A36: ='Science Nobel Prizes and Countr'!A35 -> Maria Goeppert-Mayer | B36: ='Science Nobel Prizes and Countr'!B35 -> Physics | C36: ='Science Nobel Prizes and Countr'!C35 -> 1963 | D36: ='Science Nobel Prizes and Countr'!D35 -> United States | E36: ='Science Nobel Prizes and Countr'!E35 -> Germany | F36: E | G36: ='Science Nobel Prizes and Countr'!F35 -> 0 | H36: ='Science Nobel Prizes and Countr'!G35 -> 1 | I36: 0 | J36: 1930
A37: ='Science Nobel Prizes and Countr'!A38 -> Polykarp Kusch | B37: ='Science Nobel Prizes and Countr'!B38 -> Physics | C37: ='Science Nobel Prizes and Countr'!C38 -> 1955 | D37: ='Science Nobel Prizes and Countr'!D38 -> United States | E37: ='Science Nobel Prizes and Countr'!E38 -> Germany | F37: E | G37: ='Science Nobel Prizes and Countr'!F38 -> 0 | H37: ='Science Nobel Prizes and Countr'!G38 -> 1 | I37: 0 | J37: 1912
A38: ='Science Nobel Prizes and Countr'!A40 -> Thomas C. SÃ¼dhof | B38: ='Science Nobel Prizes and Countr'!B40 -> Physiology or Medicine | C38: ='Science Nobel Prizes and Countr'!C40 -> 2013 | D38: ='Science Nobel Prizes and Countr'!D40 -> United States | E38: ='Science Nobel Prizes and Countr'!E40 -> Germany | F38: E | G38: ='Science Nobel Prizes and Countr'!F40 -> 0 | H38: ='Science Nobel Prizes and Countr'!G40 -> 1 | I38: 0 | J38: 1983
A39: ='Science Nobel Prizes and Countr'!A41 -> Eugene Wigner | B39: ='Science Nobel Prizes and Countr'!B41 -> Physics | C39: ='Science Nobel Prizes and Countr'!C41 -> 1963 | D39: ='Science Nobel Prizes and Countr'!D41 -> United States | E39: ='Science Nobel Prizes and Countr'!E41 -> Hungary | F39: E | G39: ='Science Nobel Prizes and Countr'!F41 -> 0 | H39: ='Science Nobel Prizes and Countr'!G41 -> 1 | I39: 1 | J39: 1930
A40: ='Science Nobel Prizes and Countr'!A42 -> Georg von BÃ©kÃ©sy | B40: ='Science Nobel Prizes and Countr'!B42 -> Physiology or Medicine | C40: ='Science Nobel Prizes and Countr'!C42 -> 1961 | D40: ='Science Nobel Prizes and Countr'!D42 -> United States | E40: ='Science Nobel Prizes and Countr'!E42 -> Hungary | F40: E | G40: ='Science Nobel Prizes and Countr'!F42 -> 0 | H40: ='Science Nobel Prizes and Countr'!G42 -> 1 | I40: 0 | J40: 1947
...

Sheet By Work Country Chart
A3: Row Labels | B3: Sum of Native | C3: Sum of Non-native | D3: Count of Country Where Work Was Done | F3: Country | G3: # Native | H3: # Non-native | I3: Total | J3: % Non-native | L3: Country, Number, % Non-native | M3: # Native | N3: # Non-natve
A4: United States | B4: 192 | C4: 80 | D4: 272 | F4: =A4 -> United States | G4: =B4 -> 192 | H4: =C4 -> 80 | I4: =D4 -> 272 | J4: =H4/I4 -> 0.29411765 | L4: =CONCATENATE(F4,", ",I4,", ", TEXT(J4,"0%")) -> United States, 272, 29% | M4: =G4 -> 192 | N4: =H4 -> 80
A5: United Kingdom | B5: 63 | C5: 19 | D5: 82 | F5: =A5 -> United Kingdom | G5: =B5 -> 63 | H5: =C5 -> 19 | I5: =D5 -> 82 | J5: =H5/I5 -> 0.23170732 | L5: =CONCATENATE(F5,", ",I5,", ", TEXT(J5,"0%")) -> United Kingdom, 82, 23% | M5: =G5 -> 63 | N5: =H5 -> 19
A6: Germany | B6: 65 | C6: 7 | D6: 72 | F6: =A6 -> Germany | G6: =B6 -> 65 | H6: =C6 -> 7 | I6: =D6 -> 72 | J6: =H6/I6 -> 0.097222222 | L6: =CONCATENATE(F6,", ",I6,", ", TEXT(J6,"0%")) -> Germany, 72, 10% | M6: =G6 -> 65 | N6: =H6 -> 7
A7: France | B7: 27 | C7: 7 | D7: 34 | F7: =A7 -> France | G7: =B7 -> 27 | H7: =C7 -> 7 | I7: =D7 -> 34 | J7: =H7/I7 -> 0.20588235 | L7: =CONCATENATE(F7,", ",I7,", ", TEXT(J7,"0%")) -> France, 34, 21% | M7: =G7 -> 27 | N7: =H7 -> 7
A8: Japan | B8: 18 | C8: 0 | D8: 18 | F8: =A8 -> Japan | G8: =B8 -> 18 | H8: =C8 -> 0 | I8: =D8 -> 18 | J8: =H8/I8 -> 0 | L8: =CONCATENATE(F8,", ",I8,", ", TEXT(J8,"0%")) -> Japan, 18, 0% | M8: =G8 -> 18 | N8: =H8 -> 0
A9: Switzerland | B9: 12 | C9: 3 | D9: 15 | F9: =A9 -> Switzerland | G9: =B9 -> 12 | H9: =C9 -> 3 | I9: =D9 -> 15 | J9: =H9/I9 -> 0.2 | L9: =CONCATENATE(F9,", ",I9,", ", TEXT(J9,"0%")) -> Switzerland, 15, 20% | M9: =G9 -> 12 | N9: =H9 -> 3
A10: Sweden | B10: 12 | C10: 2 | D10: 14 | F10: =A10 -> Sweden | G10: =B10 -> 12 | H10: =C10 -> 2 | I10: =D10 -> 14 | J10: =H10/I10 -> 0.14285714 | L10: =CONCATENATE(F10,", ",I10,", ", TEXT(J10,"0%")) -> Sweden, 14, 14% | M10: =G10 -> 12 | N10: =H10 -> 2
A11: Russia | B11: 11 | C11: 3 | D11: 14 | F11: =A11 -> Russia | G11: =B11 -> 11 | H11: =C11 -> 3 | I11: =D11 -> 14 | J11: =H11/I11 -> 0.21428571 | L11: =CONCATENATE(F11,", ",I11,", ", TEXT(J11,"0%")) -> Russia, 14, 21% | M11: =G11 -> 11 | N11: =H11 -> 3
A12: Netherlands | B12: 14 | C12: 0 | D12: 14 | F12: =A12 -> Netherlands | G12: =B12 -> 14 | H12: =C12 -> 0 | I12: =D12 -> 14 | J12: =H12/I12 -> 0 | L12: =CONCATENATE(F12,", ",I12,", ", TEXT(J12,"0%")) -> Netherlands, 14, 0% | M12: =G12 -> 14 | N12: =H12 -> 0
A13: Austria | B13: 9 | C13: 1 | D13: 10 | F13: =A13 -> Austria | G13: =B13 -> 9 | H13: =C13 -> 1 | I13: =D13 -> 10 | J13: =H13/I13 -> 0.1 | L13: =CONCATENATE(F13,", ",I13,", ", TEXT(J13,"0%")) -> Austria, 10, 10% | M13: =G13 -> 9 | N13: =H13 -> 1
A14: Denmark | B14: 6 | C14: 3 | D14: 9 | F14: =A14 -> Denmark | G14: =B14 -> 6 | H14: =C14 -> 3 | I14: =D14 -> 9 | J14: =H14/I14 -> 0.33333333 | L14: =CONCATENATE(F14,", ",I14,", ", TEXT(J14,"0%")) -> Denmark, 9, 33% | M14: =G14 -> 6 | N14: =H14 -> 3
A15: Canada | B15: 5 | C15: 4 | D15: 9
A16: Australia | B16: 6 | C16: 2 | D16: 8
A17: Italy | B17: 6 | C17: 1 | D17: 7
A18: Belgium | B18: 4 | C18: 2 | D18: 6
A19: Israel | B19: 3 | C19: 2 | D19: 5
A20: Norway | B20: 3 | C20: 0 | D20: 3
A21: Argentina | B21: 1 | C21: 1 | D21: 2
A22: Hungary | B22: 2 | C22: 0 | D22: 2
A23: Finland | B23: 1 | C23: 0 | D23: 1
A24: Slovenia | B24: 1 | C24: 0 | D24: 1
A25: China | B25: 1 | C25: 0 | D25: 1
A26: South Africa | B26: 1 | C26: 0 | D26: 1
... A35: Pakistan | B35: 1 | C35: 0 | D35: 1
A36: (blank)
A37: Grand Total | B37: 472 | C37: 137 | D37: 609

Sheet Statistics
A3: Total number | B3: =COUNT('Science Nobel Prizes and Countr'!C$4:C$612) -> 609
A4: # US | B4: ='By Work Country Chart'!$I$4 -> 272 | C4: =B4/B3 -> 0.44663383
A5: Number since 1950 | B5: =COUNTIF('Science Nobel Prizes and Countr'!C$4:C$612,">1949") -> 450 | D5: =B5/B3 -> 0.73891626 | E5: =(2017 - 1950)/(2017 - 1904) -> 0.59292035
A6: US since 1950 | B6: =COUNTIFS('Science Nobel Prizes and Countr'!D$4:D$612,"United States",'Science Nobel Prizes and Countr'!C$4:C$612,">1949") -> 245 | C6: =B6/B5 -> 0.54444444
A7: UK since 1950 | B7: =COUNTIFS('Science Nobel Prizes and Countr'!D$4:D$612,"United Kingdom",'Science Nobel Prizes and Countr'!C$4:C$612,">1949") -> 55
A8: Since 2000 | B8: =COUNTIF('Science Nobel Prizes and Countr'!C$4:C$612,">1999") -> 142
A9: US since 2000 | B9: =COUNTIFS('Science Nobel Prizes and Countr'!D$4:D$612,"United States",'Science Nobel Prizes and Countr'!C$4:C$612,">1999") -> 77 | C9: =B9/B8 -> 0.54225352
A10: # US immigrants who fled fascist persecution | B10: =SUM('US Non-native'!I2:I80) -> 18
