Workbook

Sheet Fellows 2012-2016
A1: Extracted from
A2: https://www.ieee.org/documents/fellows_class_2012.pdf
A3: Name | B3: Year | C3: Institution | D3: Place | E3: Contribution
A4: Malcolm Lewis Heron | B4: 2012 | C4: James Cook University | D4: Townsville, QLD, Australia | E4: for contributions to the application of radio science to oceanic and terrestrial remote sensing
A5: Hugh Joseph McDermott | B5: 2012 | C5: Bionic Ear Institute, University of Melbourne | D5: East Melbourne, Vic, Australia | E5: for contributions to improved sound-processing techniques for cochlear implants and hearing aids
A6: Ian James Oppermann | B6: 2012 | C6: CSIRO | D6: Sydney, NSW, Australia | E6: for contributions to mobile communication systems
A7: Marimuthu Palaniswami | B7: 2012 | C7: The University of Melbourne | D7: Parkville, Victoria, Australia | E7: for contributions to computational intelligence, learning systems, and nonlinear modelling
A8: Franz Hlawatsch | B8: 2012 | C8: Vienna University of Technology | D8: Vienna, Austria | E8: for contributions to time-frequency signal processing
A9: Rudy M. Lauwereins | B9: 2012 | C9: IMEC | D9: Leuven, Belgium | E9: for contributions to data flow models in real-time prototyping
A10: Dominique Marcelle Marie-Paul Schreurs | B10: 2012 | C10: KU Leuven | D10: Leuven, Belgium | E10: for contributions to nonlinear vectorial measurement-based experimental design and modeling
A11: Raouf Boutaba | B11: 2012 | C11: University of Waterloo | D11: Waterloo, ON, Canada | E11: for contributions to automated network and service management methodologies and applications
A12: Monique (ne Aubry) Frize | B12: 2012 | C12: Carleton University and University of Ottawa | D12: Ottawa,ON, Canada | E12: for contributions to clinical engineering and engineering education
A13: Rafik A. Goubran | B13: 2012 | C13: Carleton University | D13: Ottawa, ON, Canada | E13: for contributions to voice quality measurement and its applications to audio improvement
A14: John Albert Kay | B14: 2012 | C14: Rockwell Automation | D14: Kitchener, ON, Canada | E14: for contributions to arc resistant medium voltage control and protection technologies
A15: Adam Krzyzak | B15: 2012 | C15: Concordia University | D15: Montreal, Quebec, Canada | E15: for contributions to nonparametric algorithms and classification systems for machine learning
... A332: Guotong Zhou | B332: 2012 | C332: Georgia Institute of Technology | D332: Atlanta, GA, USA | E332: for contributions to the analysis of nonlinear signals and systems
A333: energy conversion | B333: 2013
A334: optical earth observation images | B334: 2013
A335: radiation sources, especially their power modules | B335: 2013
A336: socio-technical networks | B336: 2013
A337: CMOS technology | B337: 2013
A338: Donald Grahame Holmes | B338: 2013 | C338: Royal Melbourne Institute of Technology University | D338: Melbourne, Victoria, Australia | E338: for contributions to the modulation and control of solid-state power electronic conversion equipment
A339: William Shieh | B339: 2013 | C339: The University of Melbourne | D339: Glen Waverley, Victoria, Australia | E339: for contributions to coherent optical orthogonal frequency-division multiplexing
A340: Wolfgang M. Boesch | B340: 2013 | C340: Institut fuer Hochfrequenztechnik | D340: Graz, Austria | E340: for technical leadership in microwave active devices and circuits
A341: Vincent Daniel Blondel | B341: 2013 | C341: Universit Catholique de Louvain (UCL) | D341: Louvain-la-Neuve, Belgium | E341: for contributions to computational analysis of systems and networks
A342: Marc L. Stubbe | B342: 2013 | C342: Tractebel Engineering | D342: Rhode-Saint-Gense, Belgium | E342: for contributions to power system analysis and simulation techniques
A343: Guy A.E. Vandenbosch | B343: 2013 | C343: Catholic University of Leuven | D343: Heindonk Willebroek, Belgium | E343: for contributions to multilayer antennas and computational electromagnetics
A344: Ingrid M.R. Verbauwhede | B344: 2013 | C344: University of Leuven | D344: Heverlee, NA, Belgium | E344: for contributions to design of secure integrated circuits and systems
A345: Max H.M. Costa | B345: 2013 | C345: University of Campinas, Unicamp | D345: Campinas, San Paolo, Brazil | E345: for contributions to multiterminal information theory
A346: Ramachandra Achar | B346: 2013 | C346: Carleton University | D346: Ottawa, ON, Canada | E346: for contributions to interconnect and signal integrity analysis in high-speed designs
A347: Kwok Kee Chan | B347: 2013 | C347: Chan Technologies Inc | D347: Brampton, ON, Canada | E347: for development of planar lens beamforming networks and broadband antennas
A348: Louis A. Dessaint | B348: 2013 | C348: Ecole de Technologie Suprieure | D348: Montreal, QC, Canada | E348: for contributions to simulation and control of power systems and electric machines
A349: Branislav V. Djokic | B349: 2013 | C349: National Research Council of Canada | D349: Ottawa, ON, Canada | E349: for contributions to precision metrology in electrical power applications
... A634: Geoffrey G. Zweig | B634: 2013 | C634: Microsoft Research | D634: Redmond, WA, USA | E634: for contribuitons to advance speech recognition
A635: for control centers | B635: 2014
A636: and electrode cleaning | B636: 2014
A637: vacuum microelectronics and field emission displays | B637: 2014
A638: Branko Celler | B638: 2014 | C638: CSIRO | D638: Epping, NSW, Australia | E638: for contributions to telehealth services for the management of chronic disease
A639: Andres Cuevas | B639: 2014 | C639: Australian National University | D639: Canberra, ACT, Australia | E639: for contributions to the science and technological development of silicon solar cells
A640: Yingjie Guo | B640: 2014 | C640: CSIRO | D640: Marsfield, NSW, Australia | E640: for contributions to smart reconfigurable and high gain antennas for broadband wireless communications systems
A641: Muhammed Rahman | B641: 2014 | C641: University of New South Wales | D641: Australia New South Wales, Australia | E641: for contributions to direct torque control of integrated permanent magnet machines
A642: Andre van Schaik | B642: 2014 | C642: University of Western Sydney | D642: Penrith, NSW, Australia | E642: for contributions to neuromorphic circuits and systems
A643: Wei-Xing Zheng | B643: 2014 | C643: University of Western Sydney | D643: Penrith, NSW, Australia | E643: for contributions to signal processing and system identification
A644: Thilo Sauter | B644: 2014 | C644: Austrian Academy of Sciences Wiener | D644: Neustadt, Austria | E644: for contributions to synchronization and security in automation networks
A645: Jan Van Houdt | B645: 2014 | C645: IMEC | D645: Leuven, Belgium | E645: for contributions to flash memory devices
A646: Marc Van Hulle | B646: 2014 | C646: KU Leuven | D646: Leuven, Belgium | E646: for contributions to biomedical signal processing and biological modeling
A647: Jean-Pierre Raskin | B647: 2014 | C647: Universit catholique de Louvain (UCL) | D647: Louvain-la-Neuve, Belgium | E647: for contributions to the characterization of silicon-on-insulator RF MOSFETs and MEMS devices
A648: of multi-agent systems | B648: 2014 | C648: Jan Craninckx | D648: Interuniversity Microelectronics Center (IMEC) Leuven, Belgium | E648: for contributions to the design of CMOS RF transceivers
A649: Cursino Jacobina | B649: 2014 | C649: Federal University of Campina Grande/DEE | D649: Campina Grande, Brazil | E649: for contributions to the development of power converters and machine drives
... A930: Fernando Paganini | B930: 2014 | C930: Universidad ORT Uruguay | D930: Montevideo, Uruguay | E930: for contributions to robust control and communication networks
B931: 2015
A932: Jean Armstrong | B932: 2015 | C932: Monash University | D932: Clayton, Australia | E932: for contributions to the theory and application of orthogonal frequency division multiplexing in wireless and optical communications
A933: Marcela Bilek | B933: 2015 | C933: University of Sydney | D933: Sydney, Australia | E933: for contributions to the science and application of plasma processes for materials modification and synthesis
A934: Rajkumar Buyya | B934: 2015 | C934: University of Melbourne | D934: Melbourne, Australia | E934: for contributions to cloud computing
A935: Elizabeth Chang | B935: 2015 | C935: Curtin University, Australia | D935: Perth, Australia | E935: for contributions to industrial informatics and cyber physical systems
A936: Iain Collings | B936: 2015 | C936: CSIRO | D936: Epping, Australia | E936: for contributions to multiple user and multiple antenna wireless communication systems
A937: Lorenzo Faraone | B937: 2015 | C937: University of Western Australia | D937: Crawley, Australia | E937: for development of semiconductor optoelectronic materials and devices
A938: Alan Finkel | B938: 2015 | C938: Monash University | D938: Clayton, Australia | E938: for contributions to measurement technology for biomedicine
A939: Gordon Frazer | B939: 2015 | C939: Defence Science and Technology Organisation | D939: Edinburgh, Australia | E939: for contributions to advanced over-the-horizon radar
A940: Min Gu | B940: 2015 | C940: Swinburne University of Technology | D940: Hawthorn, Australia | E940: for contributions to multiphoton microscopy, endoscopy, and optical data storage
A941: Stefan Mozar | B941: 2015 | C941: Dynexsys Pty Ltd. | D941: Glenwood, Australia | E941: for development of safety solutions for electronic equipment
A942: Peng Shi | B942: 2015 | C942: University of Adelaide | D942: Adelaide, Australia | E942: for contributions to control and filtering techniques for hybrid dynamical systems
A943: Dacheng Tao | B943: 2015 | C943: University of Technology, Sydney | D943: Sydney, Australia | E943: for contributions to pattern recognition and visual analytics
... A1528: Ping Zhou | B1528: 2016 | C1528: ANSYS Incorporated | D1528: Canonsburg, PA, USA | E1528: for contributions to finite element methods applied to electromagnetic devices and electrical machines

Sheet Fellow By Year Region
A1: Extracted from:
A2: http://www.ieee.org/documents/fellow_stats_region_affiliation.pdf
A3: Year | B3: Region # | C3: Region name | D3: Ed nom | E3: Gov nom | F3: Ind nom | G3: Other nom | H3: Total nom | I3: Ed elev | J3: Gov elev | K3: Ind elev | L3: Other elev | M3: Total elev | N3: Voting Membership
A4: 1999 | B4: 1 | C4: US Northeast | D4: 29 | E4: 3 | F4: 50 | G4: 5 | H4: 87 | I4: 10 | J4: 0 | K4: 15 | L4: 0 | M4: 25 | N4: 35180
A5: 2000 | B5: 1 | C5: US Northeast | D5: 23 | E5: 3 | F5: 56 | G5: 6 | H5: 88 | I5: 12 | J5: 2 | K5: 24 | L5: 1 | M5: 39 | N5: 35644
A6: 2001 | B6: 1 | C6: US Northeast | D6: 12 | E6: 6 | F6: 51 | G6: 2 | H6: 71 | I6: 6 | J6: 4 | K6: 24 | L6: 2 | M6: 36 | N6: 35918
A7: 2002 | B7: 1 | C7: US Northeast | D7: 22 | E7: 3 | F7: 38 | G7: 8 | H7: 71 | I7: 10 | J7: 0 | K7: 25 | L7: 7 | M7: 42 | N7: 36206
A8: 2003 | B8: 1 | C8: US Northeast | D8: 40 | E8: 9 | F8: 45 | G8: 0 | H8: 94 | I8: 17 | J8: 3 | K8: 21 | L8: 0 | M8: 41 | N8: 35224
A9: 2004 | B9: 1 | C9: US Northeast | D9: 41 | E9: 8 | F9: 47 | G9: 6 | H9: 102 | I9: 16 | J9: 2 | K9: 26 | L9: 2 | M9: 46 | N9: 34857
A10: 2005 | B10: 1 | C10: US Northeast | D10: 41 | E10: 10 | F10: 51 | G10: 7 | H10: 109 | I10: 14 | J10: 5 | K10: 21 | L10: 4 | M10: 44 | N10: 33791
A11: 2006 | B11: 1 | C11: US Northeast | D11: 42 | E11: 7 | F11: 50 | G11: 4 | H11: 103 | I11: 10 | J11: 2 | K11: 12 | L11: 3 | M11: 27 | N11: 32981
A12: 2007 | B12: 1 | C12: US Northeast | D12: 45 | E12: 10 | F12: 39 | G12: 3 | H12: 97 | I12: 12 | J12: 4 | K12: 15 | L12: 1 | M12: 32 | N12: 32497
A13: 2008 | B13: 1 | C13: US Northeast | D13: 42 | E13: 9 | F13: 44 | G13: 7 | H13: 102 | I13: 17 | J13: 2 | K13: 16 | L13: 2 | M13: 37 | N13: 33630
A14: 2009 | B14: 1 | C14: US Northeast | D14: 54 | E14: 5 | F14: 42 | G14: 4 | H14: 105 | I14: 22 | J14: 2 | K14: 20 | L14: 1 | M14: 45 | N14: 33272
A15: 2010 | B15: 1 | C15: US Northeast | D15: 44 | E15: 3 | F15: 44 | G15: 5 | H15: 96 | I15: 19 | J15: 2 | K15: 9 | L15: 5 | M15: 35 | N15: 32912
... A193: 2017 | B193: 10 | C193: Asia and Pacific | D193: 217 | E193: 15 | F193: 25 | G193: 4 | H193: 261 | I193: 62 | J193: 0 | K193: 8 | L193: 1 | M193: 71 | N193: 76668

Sheet Year vs Region
A3: Sum of Total elev | B3: Column Labels
A4: Row Labels | B4: Asia and Pacific | C4: Canada | D4: Europe, Middle East, Africa | E4: Latin America | F4: US Central | G4: US East | H4: US Northeast | I4: US Southeast | J4: US Southwest | K4: US West | L4: (blank) | M4: Grand Total | N4: US
A5: 1999 | B5: 31 | C5: 11 | D5: 43 | E5: 3 | F5: 25 | G5: 19 | H5: 25 | I5: 11 | J5: 20 | K5: 51 | M5: 239
A6: 2000 | B6: 34 | C6: 7 | D6: 46 | E6: 5 | F6: 16 | G6: 16 | H6: 39 | I6: 19 | J6: 15 | K6: 51 | M6: 248
A7: 2001 | B7: 45 | C7: 13 | D7: 36 | E7: 2 | F7: 15 | G7: 33 | H7: 36 | I7: 18 | J7: 16 | K7: 42 | M7: 256
A8: 2002 | B8: 59 | C8: 13 | D8: 33 | E8: 1 | F8: 20 | G8: 19 | H8: 42 | I8: 14 | J8: 16 | K8: 42 | M8: 259
A9: 2003 | B9: 59 | C9: 11 | D9: 41 | E9: 2 | F9: 17 | G9: 24 | H9: 41 | I9: 12 | J9: 9 | K9: 44 | M9: 260
A10: 2004 | B10: 47 | C10: 9 | D10: 37 | E10: 1 | F10: 20 | G10: 21 | H10: 46 | I10: 17 | J10: 13 | K10: 49 | M10: 260
A11: 2005 | B11: 42 | C11: 9 | D11: 49 | E11: 2 | F11: 18 | G11: 24 | H11: 44 | I11: 26 | J11: 16 | K11: 38 | M11: 268
A12: 2006 | B12: 49 | C12: 14 | D12: 54 | E12: 2 | F12: 21 | G12: 25 | H12: 27 | I12: 18 | J12: 21 | K12: 40 | M12: 271
A13: 2007 | B13: 50 | C13: 16 | D13: 57 | E13: 1 | F13: 17 | G13: 20 | H13: 32 | I13: 16 | J13: 14 | K13: 45 | M13: 268
A14: 2008 | B14: 51 | C14: 12 | D14: 50 | E14: 0 | F14: 22 | G14: 18 | H14: 37 | I14: 25 | J14: 13 | K14: 67 | M14: 295
A15: 2009 | B15: 44 | C15: 17 | D15: 63 | E15: 0 | F15: 25 | G15: 18 | H15: 45 | I15: 18 | J15: 19 | K15: 53 | M15: 302
A16: 2010 | B16: 60 | C16: 8 | D16: 54 | E16: 4 | F16: 22 | G16: 28 | H16: 35 | I16: 19 | J16: 31 | K16: 48 | M16: 309
... A23: 2017 | B23: 71 | C23: 20 | D23: 61 | E23: 3 | F23: 19 | G23: 20 | H23: 28 | I23: 22 | J23: 12 | K23: 43 | M23: 299
A24: (blank)
A25: Grand Total | B25: 990 | C25: 232 | D25: 1007 | E25: 40 | F25: 367 | G25: 426 | H25: 698 | I25: 370 | J25: 329 | K25: 912 | M25: 5371 | N25: =SUM(F25:K25) -> 3102

Sheet 3y smoothed data
A1: ='Fellow By Year Region'!A3 -> Year | B1: ='Fellow By Year Region'!B3 -> Region # | C1: ='Fellow By Year Region'!C3 -> Region name | D1: ='Fellow By Year Region'!D3 -> Ed nom | E1: ='Fellow By Year Region'!E3 -> Gov nom | F1: ='Fellow By Year Region'!F3 -> Ind nom | G1: ='Fellow By Year Region'!G3 -> Other nom | H1: ='Fellow By Year Region'!H3 -> Total nom | ... N1: ='Fellow By Year Region'!N3 -> Voting Membership
A2: ='Fellow By Year Region'!A4 -> 1999 | B2: ='Fellow By Year Region'!B4 -> 1 | C2: ='Fellow By Year Region'!C4 -> US Northeast | M2: =ROUND(AVERAGE('Fellow By Year Region'!M4:M5),0) -> 32 | N2: =ROUND(AVERAGE('Fellow By Year Region'!N4:N5),0) -> 35412
A3: ='Fellow By Year Region'!A5 -> 2000 | B3: ='Fellow By Year Region'!B5 -> 1 | C3: ='Fellow By Year Region'!C5 -> US Northeast | M3: =ROUND(AVERAGE('Fellow By Year Region'!M4:M6),0) -> 33 | N3: =ROUND(AVERAGE('Fellow By Year Region'!N4:N6),0) -> 35581
A4: ='Fellow By Year Region'!A6 -> 2001 | B4: ='Fellow By Year Region'!B6 -> 1 | C4: ='Fellow By Year Region'!C6 -> US Northeast | M4: =ROUND(AVERAGE('Fellow By Year Region'!M5:M7),0) -> 39 | N4: =ROUND(AVERAGE('Fellow By Year Region'!N5:N7),0) -> 35923
A5: ='Fellow By Year Region'!A7 -> 2002 | B5: ='Fellow By Year Region'!B7 -> 1 | C5: ='Fellow By Year Region'!C7 -> US Northeast | M5: =ROUND(AVERAGE('Fellow By Year Region'!M6:M8),0) -> 40 | N5: =ROUND(AVERAGE('Fellow By Year Region'!N6:N8),0) -> 35783
A6: ='Fellow By Year Region'!A8 -> 2003 | B6: ='Fellow By Year Region'!B8 -> 1 | C6: ='Fellow By Year Region'!C8 -> US Northeast | M6: =ROUND(AVERAGE('Fellow By Year Region'!M7:M9),0) -> 43 | N6: =ROUND(AVERAGE('Fellow By Year Region'!N7:N9),0) -> 35429
A7: ='Fellow By Year Region'!A9 -> 2004 | B7: ='Fellow By Year Region'!B9 -> 1 | C7: ='Fellow By Year Region'!C9 -> US Northeast | M7: =ROUND(AVERAGE('Fellow By Year Region'!M8:M10),0) -> 44 | N7: =ROUND(AVERAGE('Fellow By Year Region'!N8:N10),0) -> 34624
A8: ='Fellow By Year Region'!A10 -> 2005 | B8: ='Fellow By Year Region'!B10 -> 1 | C8: ='Fellow By Year Region'!C10 -> US Northeast | M8: =ROUND(AVERAGE('Fellow By Year Region'!M9:M11),0) -> 39 | N8: =ROUND(AVERAGE('Fellow By Year Region'!N9:N11),0) -> 33876
A9: ='Fellow By Year Region'!A11 -> 2006 | B9: ='Fellow By Year Region'!B11 -> 1 | C9: ='Fellow By Year Region'!C11 -> US Northeast | M9: =ROUND(AVERAGE('Fellow By Year Region'!M10:M12),0) -> 34 | N9: =ROUND(AVERAGE('Fellow By Year Region'!N10:N12),0) -> 33090
A10: ='Fellow By Year Region'!A12 -> 2007 | B10: ='Fellow By Year Region'!B12 -> 1 | C10: ='Fellow By Year Region'!C12 -> US Northeast | M10: =ROUND(AVERAGE('Fellow By Year Region'!M11:M13),0) -> 32 | N10: =ROUND(AVERAGE('Fellow By Year Region'!N11:N13),0) -> 33036
A11: ='Fellow By Year Region'!A13 -> 2008 | B11: ='Fellow By Year Region'!B13 -> 1 | C11: ='Fellow By Year Region'!C13 -> US Northeast | M11: =ROUND(AVERAGE('Fellow By Year Region'!M12:M14),0) -> 38 | N11: =ROUND(AVERAGE('Fellow By Year Region'!N12:N14),0) -> 33133
A12: ='Fellow By Year Region'!A14 -> 2009 | B12: ='Fellow By Year Region'!B14 -> 1 | C12: ='Fellow By Year Region'!C14 -> US Northeast | M12: =ROUND(AVERAGE('Fellow By Year Region'!M13:M15),0) -> 39 | N12: =ROUND(AVERAGE('Fellow By Year Region'!N13:N15),0) -> 33271
A13: ='Fellow By Year Region'!A15 -> 2010 | B13: ='Fellow By Year Region'!B15 -> 1 | C13: ='Fellow By Year Region'!C15 -> US Northeast | M13: =ROUND(AVERAGE('Fellow By Year Region'!M14:M16),0) -> 42 | N13: =ROUND(AVERAGE('Fellow By Year Region'!N14:N16),0) -> 33040
A14: ='Fellow By Year Region'!A16 -> 2011 | B14: ='Fellow By Year Region'!B16 -> 1 | C14: ='Fellow By Year Region'!C16 -> US Northeast | M14: =ROUND(AVERAGE('Fellow By Year Region'!M15:M17),0) -> 39 | N14: =ROUND(AVERAGE('Fellow By Year Region'!N15:N17),0) -> 32726
... A19: ='Fellow By Year Region'!A21 -> 2016 | B19: ='Fellow By Year Region'!B21 -> 1 | C19: ='Fellow By Year Region'!C21 -> US Northeast | M19: =ROUND(AVERAGE('Fellow By Year Region'!M20:M22),0) -> 34 | N19: =ROUND(AVERAGE('Fellow By Year Region'!N20:N22),0) -> 30108
A20: ='Fellow By Year Region'!A22 -> 2017 | B20: ='Fellow By Year Region'!B22 -> 1 | C20: ='Fellow By Year Region'!C22 -> US Northeast | M20: =ROUND(AVERAGE('Fellow By Year Region'!M21:M22),0) -> 34 | N20: =ROUND(AVERAGE('Fellow By Year Region'!N21:N22),0) -> 29607
A21: ='Fellow By Year Region'!A23 -> 1999 | B21: ='Fellow By Year Region'!B23 -> 2 | C21: ='Fellow By Year Region'!C23 -> US East | M21: =ROUND(AVERAGE('Fellow By Year Region'!M23:M24),0) -> 18 | N21: =ROUND(AVERAGE('Fellow By Year Region'!N23:N24),0) -> 28318
A22: ='Fellow By Year Region'!A24 -> 2000 | B22: ='Fellow By Year Region'!B24 -> 2 | C22: ='Fellow By Year Region'!C24 -> US East | M22: =ROUND(AVERAGE('Fellow By Year Region'!M23:M25),0) -> 23 | N22: =ROUND(AVERAGE('Fellow By Year Region'!N23:N25),0) -> 28496
A23: ='Fellow By Year Region'!A25 -> 2001 | B23: ='Fellow By Year Region'!B25 -> 2 | C23: ='Fellow By Year Region'!C25 -> US East | M23: =ROUND(AVERAGE('Fellow By Year Region'!M24:M26),0) -> 23 | N23: =ROUND(AVERAGE('Fellow By Year Region'!N24:N26),0) -> 28716
A24: ='Fellow By Year Region'!A26 -> 2002 | B24: ='Fellow By Year Region'!B26 -> 2 | C24: ='Fellow By Year Region'!C26 -> US East | M24: =ROUND(AVERAGE('Fellow By Year Region'!M25:M27),0) -> 25 | N24: =ROUND(AVERAGE('Fellow By Year Region'!N25:N27),0) -> 28673
A25: ='Fellow By Year Region'!A27 -> 2003 | B25: ='Fellow By Year Region'!B27 -> 2 | C25: ='Fellow By Year Region'!C27 -> US East | M25: =ROUND(AVERAGE('Fellow By Year Region'!M26:M28),0) -> 21 | N25: =ROUND(AVERAGE('Fellow By Year Region'!N26:N28),0) -> 28461
A26: ='Fellow By Year Region'!A28 -> 2004 | B26: ='Fellow By Year Region'!B28 -> 2 | C26: ='Fellow By Year Region'!C28 -> US East | M26: =ROUND(AVERAGE('Fellow By Year Region'!M27:M29),0) -> 23 | N26: =ROUND(AVERAGE('Fellow By Year Region'!N27:N29),0) -> 28197
A27: ='Fellow By Year Region'!A29 -> 2005 | B27: ='Fellow By Year Region'!B29 -> 2 | C27: ='Fellow By Year Region'!C29 -> US East | M27: =ROUND(AVERAGE('Fellow By Year Region'!M28:M30),0) -> 23 | N27: =ROUND(AVERAGE('Fellow By Year Region'!N28:N30),0) -> 28035
A28: ='Fellow By Year Region'!A30 -> 2006 | B28: ='Fellow By Year Region'!B30 -> 2 | C28: ='Fellow By Year Region'!C30 -> US East | M28: =ROUND(AVERAGE('Fellow By Year Region'!M29:M31),0) -> 23 | N28: =ROUND(AVERAGE('Fellow By Year Region'!N29:N31),0) -> 27831
A29: ='Fellow By Year Region'!A31 -> 2007 | B29: ='Fellow By Year Region'!B31 -> 2 | C29: ='Fellow By Year Region'!C31 -> US East | M29: =ROUND(AVERAGE('Fellow By Year Region'!M30:M32),0) -> 21 | N29: =ROUND(AVERAGE('Fellow By Year Region'!N30:N32),0) -> 28016
A30: ='Fellow By Year Region'!A32 -> 2008 | B30: ='Fellow By Year Region'!B32 -> 2 | C30: ='Fellow By Year Region'!C32 -> US East | M30: =ROUND(AVERAGE('Fellow By Year Region'!M31:M33),0) -> 19 | N30: =ROUND(AVERAGE('Fellow By Year Region'!N31:N33),0) -> 28155
A31: ='Fellow By Year Region'!A33 -> 2009 | B31: ='Fellow By Year Region'!B33 -> 2 | C31: ='Fellow By Year Region'!C33 -> US East | M31: =ROUND(AVERAGE('Fellow By Year Region'!M32:M34),0) -> 21 | N31: =ROUND(AVERAGE('Fellow By Year Region'!N32:N34),0) -> 28405
A32: ='Fellow By Year Region'!A34 -> 2010 | B32: ='Fellow By Year Region'!B34 -> 2 | C32: ='Fellow By Year Region'!C34 -> US East | M32: =ROUND(AVERAGE('Fellow By Year Region'!M33:M35),0) -> 23 | N32: =ROUND(AVERAGE('Fellow By Year Region'!N33:N35),0) -> 28525
A33: ='Fellow By Year Region'!A35 -> 2011 | B33: ='Fellow By Year Region'!B35 -> 2 | C33: ='Fellow By Year Region'!C35 -> US East | M33: =ROUND(AVERAGE('Fellow By Year Region'!M34:M36),0) -> 25 | N33: =ROUND(AVERAGE('Fellow By Year Region'!N34:N36),0) -> 28672
... A38: ='Fellow By Year Region'!A40 -> 2016 | B38: ='Fellow By Year Region'!B40 -> 2 | C38: ='Fellow By Year Region'!C40 -> US East | M38: =ROUND(AVERAGE('Fellow By Year Region'!M39:M41),0) -> 21 | N38: =ROUND(AVERAGE('Fellow By Year Region'!N39:N41),0) -> 26477
A39: ='Fellow By Year Region'!A41 -> 2017 | B39: ='Fellow By Year Region'!B41 -> 2 | C39: ='Fellow By Year Region'!C41 -> US East | M39: =ROUND(AVERAGE('Fellow By Year Region'!M40:M41),0) -> 20 | N39: =ROUND(AVERAGE('Fellow By Year Region'!N40:N41),0) -> 26159
A40: ='Fellow By Year Region'!A42 -> 1999 | B40: ='Fellow By Year Region'!B42 -> 3 | C40: ='Fellow By Year Region'!C42 -> US Southeast | M40: =ROUND(AVERAGE('Fellow By Year Region'!M42:M43),0) -> 15 | N40: =ROUND(AVERAGE('Fellow By Year Region'!N42:N43),0) -> 23823
A41: ='Fellow By Year Region'!A43 -> 2000 | B41: ='Fellow By Year Region'!B43 -> 3 | C41: ='Fellow By Year Region'!C43 -> US Southeast | M41: =ROUND(AVERAGE('Fellow By Year Region'!M42:M44),0) -> 16 | N41: =ROUND(AVERAGE('Fellow By Year Region'!N42:N44),0) -> 24019
A42: ='Fellow By Year Region'!A44 -> 2001 | B42: ='Fellow By Year Region'!B44 -> 3 | C42: ='Fellow By Year Region'!C44 -> US Southeast | M42: =ROUND(AVERAGE('Fellow By Year Region'!M43:M45),0) -> 17 | N42: =ROUND(AVERAGE('Fellow By Year Region'!N43:N45),0) -> 24330
A43: ='Fellow By Year Region'!A45 -> 2002 | B43: ='Fellow By Year Region'!B45 -> 3 | C43: ='Fellow By Year Region'!C45 -> US Southeast | M43: =ROUND(AVERAGE('Fellow By Year Region'!M44:M46),0) -> 15 | N43: =ROUND(AVERAGE('Fellow By Year Region'!N44:N46),0) -> 24373
A44: ='Fellow By Year Region'!A46 -> 2003 | B44: ='Fellow By Year Region'!B46 -> 3 | C44: ='Fellow By Year Region'!C46 -> US Southeast | M44: =ROUND(AVERAGE('Fellow By Year Region'!M45:M47),0) -> 14 | N44: =ROUND(AVERAGE('Fellow By Year Region'!N45:N47),0) -> 24313
A45: ='Fellow By Year Region'!A47 -> 2004 | B45: ='Fellow By Year Region'!B47 -> 3 | C45: ='Fellow By Year Region'!C47 -> US Southeast | M45: =ROUND(AVERAGE('Fellow By Year Region'!M46:M48),0) -> 18 | N45: =ROUND(AVERAGE('Fellow By Year Region'!N46:N48),0) -> 24210
A46: ='Fellow By Year Region'!A48 -> 2005 | B46: ='Fellow By Year Region'!B48 -> 3 | C46: ='Fellow By Year Region'!C48 -> US Southeast | M46: =ROUND(AVERAGE('Fellow By Year Region'!M47:M49),0) -> 20 | N46: =ROUND(AVERAGE('Fellow By Year Region'!N47:N49),0) -> 24147
A47: ='Fellow By Year Region'!A49 -> 2006 | B47: ='Fellow By Year Region'!B49 -> 3 | C47: ='Fellow By Year Region'!C49 -> US Southeast | M47: =ROUND(AVERAGE('Fellow By Year Region'!M48:M50),0) -> 20 | N47: =ROUND(AVERAGE('Fellow By Year Region'!N48:N50),0) -> 24071
A48: ='Fellow By Year Region'!A50 -> 2007 | B48: ='Fellow By Year Region'!B50 -> 3 | C48: ='Fellow By Year Region'!C50 -> US Southeast | M48: =ROUND(AVERAGE('Fellow By Year Region'!M49:M51),0) -> 20 | N48: =ROUND(AVERAGE('Fellow By Year Region'!N49:N51),0) -> 24547
A49: ='Fellow By Year Region'!A51 -> 2008 | B49: ='Fellow By Year Region'!B51 -> 3 | C49: ='Fellow By Year Region'!C51 -> US Southeast | M49: =ROUND(AVERAGE('Fellow By Year Region'!M50:M52),0) -> 20 | N49: =ROUND(AVERAGE('Fellow By Year Region'!N50:N52),0) -> 25229
A50: ='Fellow By Year Region'!A52 -> 2009 | B50: ='Fellow By Year Region'!B52 -> 3 | C50: ='Fellow By Year Region'!C52 -> US Southeast | M50: =ROUND(AVERAGE('Fellow By Year Region'!M51:M53),0) -> 21 | N50: =ROUND(AVERAGE('Fellow By Year Region'!N51:N53),0) -> 25974
A51: ='Fellow By Year Region'!A53 -> 2010 | B51: ='Fellow By Year Region'!B53 -> 3 | C51: ='Fellow By Year Region'!C53 -> US Southeast | M51: =ROUND(AVERAGE('Fellow By Year Region'!M52:M54),0) -> 20 | N51: =ROUND(AVERAGE('Fellow By Year Region'!N52:N54),0) -> 26388
A52: ='Fellow By Year Region'!A54 -> 2011 | B52: ='Fellow By Year Region'!B54 -> 3 | C52: ='Fellow By Year Region'!C54 -> US Southeast | M52: =ROUND(AVERAGE('Fellow By Year Region'!M53:M55),0) -> 24 | N52: =ROUND(AVERAGE('Fellow By Year Region'!N53:N55),0) -> 26623
... A57: ='Fellow By Year Region'!A59 -> 2016 | B57: ='Fellow By Year Region'!B59 -> 3 | C57: ='Fellow By Year Region'!C59 -> US Southeast | M57: =ROUND(AVERAGE('Fellow By Year Region'!M58:M60),0) -> 20 | N57: =ROUND(AVERAGE('Fellow By Year Region'!N58:N60),0) -> 25919
A58: ='Fellow By Year Region'!A60 -> 2017 | B58: ='Fellow By Year Region'!B60 -> 3 | C58: ='Fellow By Year Region'!C60 -> US Southeast | M58: =ROUND(AVERAGE('Fellow By Year Region'!M59:M60),0) -> 21 | N58: =ROUND(AVERAGE('Fellow By Year Region'!N59:N60),0) -> 25759
A59: ='Fellow By Year Region'!A61 -> 1999 | B59: ='Fellow By Year Region'!B61 -> 4 | C59: ='Fellow By Year Region'!C61 -> US Central | M59: =ROUND(AVERAGE('Fellow By Year Region'!M61:M62),0) -> 21 | N59: =ROUND(AVERAGE('Fellow By Year Region'!N61:N62),0) -> 19398
A60: ='Fellow By Year Region'!A62 -> 2000 | B60: ='Fellow By Year Region'!B62 -> 4 | C60: ='Fellow By Year Region'!C62 -> US Central | M60: =ROUND(AVERAGE('Fellow By Year Region'!M61:M63),0) -> 19 | N60: =ROUND(AVERAGE('Fellow By Year Region'!N61:N63),0) -> 19503
A61: ='Fellow By Year Region'!A63 -> 2001 | B61: ='Fellow By Year Region'!B63 -> 4 | C61: ='Fellow By Year Region'!C63 -> US Central | M61: =ROUND(AVERAGE('Fellow By Year Region'!M62:M64),0) -> 17 | N61: =ROUND(AVERAGE('Fellow By Year Region'!N62:N64),0) -> 19636
A62: ='Fellow By Year Region'!A64 -> 2002 | B62: ='Fellow By Year Region'!B64 -> 4 | C62: ='Fellow By Year Region'!C64 -> US Central | M62: =ROUND(AVERAGE('Fellow By Year Region'!M63:M65),0) -> 17 | N62: =ROUND(AVERAGE('Fellow By Year Region'!N63:N65),0) -> 19505
A63: ='Fellow By Year Region'!A65 -> 2003 | B63: ='Fellow By Year Region'!B65 -> 4 | C63: ='Fellow By Year Region'!C65 -> US Central | M63: =ROUND(AVERAGE('Fellow By Year Region'!M64:M66),0) -> 19 | N63: =ROUND(AVERAGE('Fellow By Year Region'!N64:N66),0) -> 19288
A64: ='Fellow By Year Region'!A66 -> 2004 | B64: ='Fellow By Year Region'!B66 -> 4 | C64: ='Fellow By Year Region'!C66 -> US Central | M64: =ROUND(AVERAGE('Fellow By Year Region'!M65:M67),0) -> 18 | N64: =ROUND(AVERAGE('Fellow By Year Region'!N65:N67),0) -> 19106
A65: ='Fellow By Year Region'!A67 -> 2005 | B65: ='Fellow By Year Region'!B67 -> 4 | C65: ='Fellow By Year Region'!C67 -> US Central | M65: =ROUND(AVERAGE('Fellow By Year Region'!M66:M68),0) -> 20 | N65: =ROUND(AVERAGE('Fellow By Year Region'!N66:N68),0) -> 19066
A66: ='Fellow By Year Region'!A68 -> 2006 | B66: ='Fellow By Year Region'!B68 -> 4 | C66: ='Fellow By Year Region'!C68 -> US Central | M66: =ROUND(AVERAGE('Fellow By Year Region'!M67:M69),0) -> 19 | N66: =ROUND(AVERAGE('Fellow By Year Region'!N67:N69),0) -> 18948
A67: ='Fellow By Year Region'!A69 -> 2007 | B67: ='Fellow By Year Region'!B69 -> 4 | C67: ='Fellow By Year Region'!C69 -> US Central | M67: =ROUND(AVERAGE('Fellow By Year Region'!M68:M70),0) -> 20 | N67: =ROUND(AVERAGE('Fellow By Year Region'!N68:N70),0) -> 19278
A68: ='Fellow By Year Region'!A70 -> 2008 | B68: ='Fellow By Year Region'!B70 -> 4 | C68: ='Fellow By Year Region'!C70 -> US Central | M68: =ROUND(AVERAGE('Fellow By Year Region'!M69:M71),0) -> 21 | N68: =ROUND(AVERAGE('Fellow By Year Region'!N69:N71),0) -> 19641
A69: ='Fellow By Year Region'!A71 -> 2009 | B69: ='Fellow By Year Region'!B71 -> 4 | C69: ='Fellow By Year Region'!C71 -> US Central | M69: =ROUND(AVERAGE('Fellow By Year Region'!M70:M72),0) -> 23 | N69: =ROUND(AVERAGE('Fellow By Year Region'!N70:N72),0) -> 20057
A70: ='Fellow By Year Region'!A72 -> 2010 | B70: ='Fellow By Year Region'!B72 -> 4 | C70: ='Fellow By Year Region'!C72 -> US Central | M70: =ROUND(AVERAGE('Fellow By Year Region'!M71:M73),0) -> 22 | N70: =ROUND(AVERAGE('Fellow By Year Region'!N71:N73),0) -> 20117
A71: ='Fellow By Year Region'!A73 -> 2011 | B71: ='Fellow By Year Region'!B73 -> 4 | C71: ='Fellow By Year Region'!C73 -> US Central | M71: =ROUND(AVERAGE('Fellow By Year Region'!M72:M74),0) -> 21 | N71: =ROUND(AVERAGE('Fellow By Year Region'!N72:N74),0) -> 20169
... A76: ='Fellow By Year Region'!A78 -> 2016 | B76: ='Fellow By Year Region'!B78 -> 4 | C76: ='Fellow By Year Region'!C78 -> US Central | M76: =ROUND(AVERAGE('Fellow By Year Region'!M77:M79),0) -> 18 | N76: =ROUND(AVERAGE('Fellow By Year Region'!N77:N79),0) -> 19530
A77: ='Fellow By Year Region'!A79 -> 2017 | B77: ='Fellow By Year Region'!B79 -> 4 | C77: ='Fellow By Year Region'!C79 -> US Central | M77: =ROUND(AVERAGE('Fellow By Year Region'!M78:M79),0) -> 20 | N77: =ROUND(AVERAGE('Fellow By Year Region'!N78:N79),0) -> 19384
A78: ='Fellow By Year Region'!A80 -> 1999 | B78: ='Fellow By Year Region'!B80 -> 5 | C78: ='Fellow By Year Region'!C80 -> US Southwest | M78: =ROUND(AVERAGE('Fellow By Year Region'!M80:M81),0) -> 18 | N78: =ROUND(AVERAGE('Fellow By Year Region'!N80:N81),0) -> 23703
A79: ='Fellow By Year Region'!A81 -> 2000 | B79: ='Fellow By Year Region'!B81 -> 5 | C79: ='Fellow By Year Region'!C81 -> US Southwest | M79: =ROUND(AVERAGE('Fellow By Year Region'!M80:M82),0) -> 17 | N79: =ROUND(AVERAGE('Fellow By Year Region'!N80:N82),0) -> 23893
A80: ='Fellow By Year Region'!A82 -> 2001 | B80: ='Fellow By Year Region'!B82 -> 5 | C80: ='Fellow By Year Region'!C82 -> US Southwest | M80: =ROUND(AVERAGE('Fellow By Year Region'!M81:M83),0) -> 16 | N80: =ROUND(AVERAGE('Fellow By Year Region'!N81:N83),0) -> 24356
A81: ='Fellow By Year Region'!A83 -> 2002 | B81: ='Fellow By Year Region'!B83 -> 5 | C81: ='Fellow By Year Region'!C83 -> US Southwest | M81: =ROUND(AVERAGE('Fellow By Year Region'!M82:M84),0) -> 14 | N81: =ROUND(AVERAGE('Fellow By Year Region'!N82:N84),0) -> 24388
A82: ='Fellow By Year Region'!A84 -> 2003 | B82: ='Fellow By Year Region'!B84 -> 5 | C82: ='Fellow By Year Region'!C84 -> US Southwest | M82: =ROUND(AVERAGE('Fellow By Year Region'!M83:M85),0) -> 13 | N82: =ROUND(AVERAGE('Fellow By Year Region'!N83:N85),0) -> 24335
A83: ='Fellow By Year Region'!A85 -> 2004 | B83: ='Fellow By Year Region'!B85 -> 5 | C83: ='Fellow By Year Region'!C85 -> US Southwest | M83: =ROUND(AVERAGE('Fellow By Year Region'!M84:M86),0) -> 13 | N83: =ROUND(AVERAGE('Fellow By Year Region'!N84:N86),0) -> 24142
A84: ='Fellow By Year Region'!A86 -> 2005 | B84: ='Fellow By Year Region'!B86 -> 5 | C84: ='Fellow By Year Region'!C86 -> US Southwest | M84: =ROUND(AVERAGE('Fellow By Year Region'!M85:M87),0) -> 17 | N84: =ROUND(AVERAGE('Fellow By Year Region'!N85:N87),0) -> 24055
A85: ='Fellow By Year Region'!A87 -> 2006 | B85: ='Fellow By Year Region'!B87 -> 5 | C85: ='Fellow By Year Region'!C87 -> US Southwest | M85: =ROUND(AVERAGE('Fellow By Year Region'!M86:M88),0) -> 17 | N85: =ROUND(AVERAGE('Fellow By Year Region'!N86:N88),0) -> 23896
A86: ='Fellow By Year Region'!A88 -> 2007 | B86: ='Fellow By Year Region'!B88 -> 5 | C86: ='Fellow By Year Region'!C88 -> US Southwest | M86: =ROUND(AVERAGE('Fellow By Year Region'!M87:M89),0) -> 16 | N86: =ROUND(AVERAGE('Fellow By Year Region'!N87:N89),0) -> 24170
A87: ='Fellow By Year Region'!A89 -> 2008 | B87: ='Fellow By Year Region'!B89 -> 5 | C87: ='Fellow By Year Region'!C89 -> US Southwest | M87: =ROUND(AVERAGE('Fellow By Year Region'!M88:M90),0) -> 15 | N87: =ROUND(AVERAGE('Fellow By Year Region'!N88:N90),0) -> 24546
A88: ='Fellow By Year Region'!A90 -> 2009 | B88: ='Fellow By Year Region'!B90 -> 5 | C88: ='Fellow By Year Region'!C90 -> US Southwest | M88: =ROUND(AVERAGE('Fellow By Year Region'!M89:M91),0) -> 21 | N88: =ROUND(AVERAGE('Fellow By Year Region'!N89:N91),0) -> 25076
A89: ='Fellow By Year Region'!A91 -> 2010 | B89: ='Fellow By Year Region'!B91 -> 5 | C89: ='Fellow By Year Region'!C91 -> US Southwest | M89: =ROUND(AVERAGE('Fellow By Year Region'!M90:M92),0) -> 22 | N89: =ROUND(AVERAGE('Fellow By Year Region'!N90:N92),0) -> 25312
A90: ='Fellow By Year Region'!A92 -> 2011 | B90: ='Fellow By Year Region'!B92 -> 5 | C90: ='Fellow By Year Region'!C92 -> US Southwest | M90: =ROUND(AVERAGE('Fellow By Year Region'!M91:M93),0) -> 21 | N90: =ROUND(AVERAGE('Fellow By Year Region'!N91:N93),0) -> 25566
... A95: ='Fellow By Year Region'!A97 -> 2016 | B95: ='Fellow By Year Region'!B97 -> 5 | C95: ='Fellow By Year Region'!C97 -> US Southwest | M95: =ROUND(AVERAGE('Fellow By Year Region'!M96:M98),0) -> 19 | N95: =ROUND(AVERAGE('Fellow By Year Region'!N96:N98),0) -> 25008
A96: ='Fellow By Year Region'!A98 -> 2017 | B96: ='Fellow By Year Region'!B98 -> 5 | C96: ='Fellow By Year Region'!C98 -> US Southwest | M96: =ROUND(AVERAGE('Fellow By Year Region'!M97:M98),0) -> 19 | N96: =ROUND(AVERAGE('Fellow By Year Region'!N97:N98),0) -> 24881
A97: ='Fellow By Year Region'!A99 -> 1999 | B97: ='Fellow By Year Region'!B99 -> 6 | C97: ='Fellow By Year Region'!C99 -> US West | M97: =ROUND(AVERAGE('Fellow By Year Region'!M99:M100),0) -> 51 | N97: =ROUND(AVERAGE('Fellow By Year Region'!N99:N100),0) -> 48875
A98: ='Fellow By Year Region'!A100 -> 2000 | B98: ='Fellow By Year Region'!B100 -> 6 | C98: ='Fellow By Year Region'!C100 -> US West | M98: =ROUND(AVERAGE('Fellow By Year Region'!M99:M101),0) -> 48 | N98: =ROUND(AVERAGE('Fellow By Year Region'!N99:N101),0) -> 49505
A99: ='Fellow By Year Region'!A101 -> 2001 | B99: ='Fellow By Year Region'!B101 -> 6 | C99: ='Fellow By Year Region'!C101 -> US West | M99: =ROUND(AVERAGE('Fellow By Year Region'!M100:M102),0) -> 45 | N99: =ROUND(AVERAGE('Fellow By Year Region'!N100:N102),0) -> 51093
A100: ='Fellow By Year Region'!A102 -> 2002 | B100: ='Fellow By Year Region'!B102 -> 6 | C100: ='Fellow By Year Region'!C102 -> US West | M100: =ROUND(AVERAGE('Fellow By Year Region'!M101:M103),0) -> 43 | N100: =ROUND(AVERAGE('Fellow By Year Region'!N101:N103),0) -> 51850
A101: ='Fellow By Year Region'!A103 -> 2003 | B101: ='Fellow By Year Region'!B103 -> 6 | C101: ='Fellow By Year Region'!C103 -> US West | M101: =ROUND(AVERAGE('Fellow By Year Region'!M102:M104),0) -> 45 | N101: =ROUND(AVERAGE('Fellow By Year Region'!N102:N104),0) -> 52171
A102: ='Fellow By Year Region'!A104 -> 2004 | B102: ='Fellow By Year Region'!B104 -> 6 | C102: ='Fellow By Year Region'!C104 -> US West | M102: =ROUND(AVERAGE('Fellow By Year Region'!M103:M105),0) -> 44 | N102: =ROUND(AVERAGE('Fellow By Year Region'!N103:N105),0) -> 51499
A103: ='Fellow By Year Region'!A105 -> 2005 | B103: ='Fellow By Year Region'!B105 -> 6 | C103: ='Fellow By Year Region'!C105 -> US West | M103: =ROUND(AVERAGE('Fellow By Year Region'!M104:M106),0) -> 42 | N103: =ROUND(AVERAGE('Fellow By Year Region'!N104:N106),0) -> 51042
A104: ='Fellow By Year Region'!A106 -> 2006 | B104: ='Fellow By Year Region'!B106 -> 6 | C104: ='Fellow By Year Region'!C106 -> US West | M104: =ROUND(AVERAGE('Fellow By Year Region'!M105:M107),0) -> 41 | N104: =ROUND(AVERAGE('Fellow By Year Region'!N105:N107),0) -> 50633
A105: ='Fellow By Year Region'!A107 -> 2007 | B105: ='Fellow By Year Region'!B107 -> 6 | C105: ='Fellow By Year Region'!C107 -> US West | M105: =ROUND(AVERAGE('Fellow By Year Region'!M106:M108),0) -> 51 | N105: =ROUND(AVERAGE('Fellow By Year Region'!N106:N108),0) -> 51267
A106: ='Fellow By Year Region'!A108 -> 2008 | B106: ='Fellow By Year Region'!B108 -> 6 | C106: ='Fellow By Year Region'!C108 -> US West | M106: =ROUND(AVERAGE('Fellow By Year Region'!M107:M109),0) -> 55 | N106: =ROUND(AVERAGE('Fellow By Year Region'!N107:N109),0) -> 51877
A107: ='Fellow By Year Region'!A109 -> 2009 | B107: ='Fellow By Year Region'!B109 -> 6 | C107: ='Fellow By Year Region'!C109 -> US West | M107: =ROUND(AVERAGE('Fellow By Year Region'!M108:M110),0) -> 56 | N107: =ROUND(AVERAGE('Fellow By Year Region'!N108:N110),0) -> 52400
A108: ='Fellow By Year Region'!A110 -> 2010 | B108: ='Fellow By Year Region'!B110 -> 6 | C108: ='Fellow By Year Region'!C110 -> US West | M108: =ROUND(AVERAGE('Fellow By Year Region'!M109:M111),0) -> 53 | N108: =ROUND(AVERAGE('Fellow By Year Region'!N109:N111),0) -> 52063
A109: ='Fellow By Year Region'!A111 -> 2011 | B109: ='Fellow By Year Region'!B111 -> 6 | C109: ='Fellow By Year Region'!C111 -> US West | M109: =ROUND(AVERAGE('Fellow By Year Region'!M110:M112),0) -> 52 | N109: =ROUND(AVERAGE('Fellow By Year Region'!N110:N112),0) -> 51712
... A114: ='Fellow By Year Region'!A116 -> 2016 | B114: ='Fellow By Year Region'!B116 -> 6 | C114: ='Fellow By Year Region'!C116 -> US West | M114: =ROUND(AVERAGE('Fellow By Year Region'!M115:M117),0) -> 43 | N114: =ROUND(AVERAGE('Fellow By Year Region'!N115:N117),0) -> 49582
A115: ='Fellow By Year Region'!A117 -> 2017 | B115: ='Fellow By Year Region'!B117 -> 6 | C115: ='Fellow By Year Region'!C117 -> US West | M115: =ROUND(AVERAGE('Fellow By Year Region'!M116:M117),0) -> 41 | N115: =ROUND(AVERAGE('Fellow By Year Region'!N116:N117),0) -> 49212
A116: ='Fellow By Year Region'!A118 -> 1999 | B116: ='Fellow By Year Region'!B118 -> 7 | C116: ='Fellow By Year Region'!C118 -> Canada | M116: =ROUND(AVERAGE('Fellow By Year Region'!M118:M119),0) -> 9 | N116: =ROUND(AVERAGE('Fellow By Year Region'!N118:N119),0) -> 9795
A117: ='Fellow By Year Region'!A119 -> 2000 | B117: ='Fellow By Year Region'!B119 -> 7 | C117: ='Fellow By Year Region'!C119 -> Canada | M117: =ROUND(AVERAGE('Fellow By Year Region'!M118:M120),0) -> 10 | N117: =ROUND(AVERAGE('Fellow By Year Region'!N118:N120),0) -> 9818
A118: ='Fellow By Year Region'!A120 -> 2001 | B118: ='Fellow By Year Region'!B120 -> 7 | C118: ='Fellow By Year Region'!C120 -> Canada | M118: =ROUND(AVERAGE('Fellow By Year Region'!M119:M121),0) -> 11 | N118: =ROUND(AVERAGE('Fellow By Year Region'!N119:N121),0) -> 10025
A119: ='Fellow By Year Region'!A121 -> 2002 | B119: ='Fellow By Year Region'!B121 -> 7 | C119: ='Fellow By Year Region'!C121 -> Canada | M119: =ROUND(AVERAGE('Fellow By Year Region'!M120:M122),0) -> 12 | N119: =ROUND(AVERAGE('Fellow By Year Region'!N120:N122),0) -> 10135
A120: ='Fellow By Year Region'!A122 -> 2003 | B120: ='Fellow By Year Region'!B122 -> 7 | C120: ='Fellow By Year Region'!C122 -> Canada | M120: =ROUND(AVERAGE('Fellow By Year Region'!M121:M123),0) -> 11 | N120: =ROUND(AVERAGE('Fellow By Year Region'!N121:N123),0) -> 10219
A121: ='Fellow By Year Region'!A123 -> 2004 | B121: ='Fellow By Year Region'!B123 -> 7 | C121: ='Fellow By Year Region'!C123 -> Canada | M121: =ROUND(AVERAGE('Fellow By Year Region'!M122:M124),0) -> 10 | N121: =ROUND(AVERAGE('Fellow By Year Region'!N122:N124),0) -> 10277
A122: ='Fellow By Year Region'!A124 -> 2005 | B122: ='Fellow By Year Region'!B124 -> 7 | C122: ='Fellow By Year Region'!C124 -> Canada | M122: =ROUND(AVERAGE('Fellow By Year Region'!M123:M125),0) -> 11 | N122: =ROUND(AVERAGE('Fellow By Year Region'!N123:N125),0) -> 10466
A123: ='Fellow By Year Region'!A125 -> 2006 | B123: ='Fellow By Year Region'!B125 -> 7 | C123: ='Fellow By Year Region'!C125 -> Canada | M123: =ROUND(AVERAGE('Fellow By Year Region'!M124:M126),0) -> 13 | N123: =ROUND(AVERAGE('Fellow By Year Region'!N124:N126),0) -> 10749
A124: ='Fellow By Year Region'!A126 -> 2007 | B124: ='Fellow By Year Region'!B126 -> 7 | C124: ='Fellow By Year Region'!C126 -> Canada | M124: =ROUND(AVERAGE('Fellow By Year Region'!M125:M127),0) -> 14 | N124: =ROUND(AVERAGE('Fellow By Year Region'!N125:N127),0) -> 11525
...

Sheet Year vs Region Smoothed
A3: Sum of Total elev | B3: Column Labels
A4: Row Labels | B4: Asia and Pacific | C4: Canada | D4: Europe, Middle East, Africa | E4: Latin America | F4: US Central | G4: US East | H4: US Northeast | I4: US Southeast | J4: US Southwest | K4: US West | L4: Grand Total
A5: 1999 | B5: 33 | C5: 9 | D5: 45 | E5: 4 | F5: 21 | G5: 18 | H5: 32 | I5: 15 | J5: 18 | K5: 51 | L5: 246 | O5: =SUM(F5:K5) -> 155
A6: 2000 | B6: 37 | C6: 10 | D6: 42 | E6: 3 | F6: 19 | G6: 23 | H6: 33 | I6: 16 | J6: 17 | K6: 48 | L6: 248 | O6: =SUM(F6:K6) -> 156
A7: 2001 | B7: 46 | C7: 11 | D7: 38 | E7: 3 | F7: 17 | G7: 23 | H7: 39 | I7: 17 | J7: 16 | K7: 45 | L7: 255 | O7: =SUM(F7:K7) -> 157
A8: 2002 | B8: 54 | C8: 12 | D8: 37 | E8: 2 | F8: 17 | G8: 25 | H8: 40 | I8: 15 | J8: 14 | K8: 43 | L8: 259 | O8: =SUM(F8:K8) -> 154
A9: 2003 | B9: 55 | C9: 11 | D9: 37 | E9: 1 | F9: 19 | G9: 21 | H9: 43 | I9: 14 | J9: 13 | K9: 45 | L9: 259 | O9: =SUM(F9:K9) -> 155
A10: 2004 | B10: 49 | C10: 10 | D10: 42 | E10: 2 | F10: 18 | G10: 23 | H10: 44 | I10: 18 | J10: 13 | K10: 44 | L10: 263 | O10: =SUM(F10:K10) -> 160
A11: 2005 | B11: 46 | C11: 11 | D11: 47 | E11: 2 | F11: 20 | G11: 23 | H11: 39 | I11: 20 | J11: 17 | K11: 42 | L11: 267 | O11: =SUM(F11:K11) -> 161
A12: 2006 | B12: 47 | C12: 13 | D12: 53 | E12: 2 | F12: 19 | G12: 23 | H12: 34 | I12: 20 | J12: 17 | K12: 41 | L12: 269 | O12: =SUM(F12:K12) -> 154
A13: 2007 | B13: 50 | C13: 14 | D13: 54 | E13: 1 | F13: 20 | G13: 21 | H13: 32 | I13: 20 | J13: 16 | K13: 51 | L13: 279 | O13: =SUM(F13:K13) -> 160
A14: 2008 | B14: 48 | C14: 15 | D14: 57 | E14: 0 | F14: 21 | G14: 19 | H14: 38 | I14: 20 | J14: 15 | K14: 55 | L14: 288 | O14: =SUM(F14:K14) -> 168
A15: 2009 | B15: 52 | C15: 12 | D15: 56 | E15: 1 | F15: 23 | G15: 21 | H15: 39 | I15: 21 | J15: 21 | K15: 56 | L15: 302 | O15: =SUM(F15:K15) -> 181
A16: 2010 | B16: 53 | C16: 11 | D16: 63 | E16: 2 | F16: 22 | G16: 23 | H16: 42 | I16: 20 | J16: 22 | K16: 53 | L16: 311 | O16: =SUM(F16:K16) -> 182
... A20: 2014 | B20: 56 | C20: 14 | D20: 59 | E20: 2 | F20: 16 | G20: 25 | H20: 34 | I20: 21 | J20: 18 | K20: 51 | L20: 296 | O20: =SUM(F20:K20) -> 165
A21: 2015 | B21: 58 | C21: 12 | D21: 58 | E21: 3 | F21: 18 | G21: 25 | H21: 34 | I21: 20 | J21: 22 | K21: 47 | L21: 297 | O21: =SUM(F21:K21) -> 166 | P21: =O21/GETPIVOTDATA("Total elev",$A$3,"Year",2016) -> 0.55892256
A22: 2016 | B22: 64 | C22: 16 | D22: 60 | E22: 2 | F22: 18 | G22: 21 | H22: 34 | I22: 20 | J22: 19 | K22: 43 | L22: 297 | O22: =SUM(F22:K22) -> 155 | P22: =O22/GETPIVOTDATA("Total elev",$A$3) -> 0.028821123
A23: 2017 | B23: 65 | C23: 15 | D23: 63 | E23: 3 | F23: 20 | G23: 20 | H23: 34 | I23: 21 | J23: 19 | K23: 41 | L23: 301 | O23: =SUM(F23:K23) -> 155
A24: Grand Total | B24: 989 | C24: 228 | D24: 1010 | E24: 40 | F24: 367 | G24: 426 | H24: 704 | I24: 371 | J24: 331 | K24: 912 | L24: 5378 | O24: =SUM(O5:O23) -> 3111 | P24: =O24/GETPIVOTDATA("Total elev",$A$3) -> 0.57846783
A25: Year | B25: Asia and Pacific | C25: Canada | D25: Europe, Mideast, Africa | E25: Latin America | F25: US Central | G25: US East | H25: US Northeast | I25: US Southeast | J25: US Southwest | K25: US West
A26: =A5 -> 1999 | B26: =B5 -> 33 | C26: =C5 -> 9 | D26: =D5 -> 45 | E26: =E5 -> 4 | F26: =F5 -> 21 | G26: =G5 -> 18 | H26: =H5 -> 32 | ... K26: =K5 -> 51
A27: =A6 -> 2000 | B27: =B6 -> 37 | C27: =C6 -> 10 | D27: =D6 -> 42 | E27: =E6 -> 3 | F27: =F6 -> 19 | G27: =G6 -> 23 | H27: =H6 -> 33 | ... K27: =K6 -> 48
A28: =A7 -> 2001 | B28: =B7 -> 46 | C28: =C7 -> 11 | D28: =D7 -> 38 | E28: =E7 -> 3 | F28: =F7 -> 17 | G28: =G7 -> 23 | H28: =H7 -> 39 | ... K28: =K7 -> 45
A29: =A8 -> 2002 | B29: =B8 -> 54 | C29: =C8 -> 12 | D29: =D8 -> 37 | E29: =E8 -> 2 | F29: =F8 -> 17 | G29: =G8 -> 25 | H29: =H8 -> 40 | ... K29: =K8 -> 43
A30: =A9 -> 2003 | B30: =B9 -> 55 | C30: =C9 -> 11 | D30: =D9 -> 37 | E30: =E9 -> 1 | F30: =F9 -> 19 | G30: =G9 -> 21 | H30: =H9 -> 43 | ... K30: =K9 -> 45
A31: =A10 -> 2004 | B31: =B10 -> 49 | C31: =C10 -> 10 | D31: =D10 -> 42 | E31: =E10 -> 2 | F31: =F10 -> 18 | G31: =G10 -> 23 | H31: =H10 -> 44 | ... K31: =K10 -> 44
A32: =A11 -> 2005 | B32: =B11 -> 46 | C32: =C11 -> 11 | D32: =D11 -> 47 | E32: =E11 -> 2 | F32: =F11 -> 20 | G32: =G11 -> 23 | H32: =H11 -> 39 | ... K32: =K11 -> 42
A33: =A12 -> 2006 | B33: =B12 -> 47 | C33: =C12 -> 13 | D33: =D12 -> 53 | E33: =E12 -> 2 | F33: =F12 -> 19 | G33: =G12 -> 23 | H33: =H12 -> 34 | ... K33: =K12 -> 41
A34: =A13 -> 2007 | B34: =B13 -> 50 | C34: =C13 -> 14 | D34: =D13 -> 54 | E34: =E13 -> 1 | F34: =F13 -> 20 | G34: =G13 -> 21 | H34: =H13 -> 32 | ... K34: =K13 -> 51
A35: =A14 -> 2008 | B35: =B14 -> 48 | C35: =C14 -> 15 | D35: =D14 -> 57 | E35: =E14 -> 0 | F35: =F14 -> 21 | G35: =G14 -> 19 | H35: =H14 -> 38 | ... K35: =K14 -> 55
A36: =A15 -> 2009 | B36: =B15 -> 52 | C36: =C15 -> 12 | D36: =D15 -> 56 | E36: =E15 -> 1 | F36: =F15 -> 23 | G36: =G15 -> 21 | H36: =H15 -> 39 | ... K36: =K15 -> 56
A37: =A16 -> 2010 | B37: =B16 -> 53 | C37: =C16 -> 11 | D37: =D16 -> 63 | E37: =E16 -> 2 | F37: =F16 -> 22 | G37: =G16 -> 23 | H37: =H16 -> 42 | ... K37: =K16 -> 53
... A44: =A23 -> 2017 | B44: =B23 -> 65 | C44: =C23 -> 15 | D44: =D23 -> 63 | E44: =E23 -> 3 | F44: =F23 -> 20 | G44: =G23 -> 20 | H44: =H23 -> 34 | ... K44: =K23 -> 41
A45: sum | B45: =SUM(B26:B44) -> 989 | C45: =SUM(C26:C44) -> 228 | D45: =SUM(D26:D44) -> 1010 | E45: =SUM(E26:E44) -> 40 | F45: =SUM(F26:F44) -> 367 | G45: =SUM(G26:G44) -> 426 | H45: =SUM(H26:H44) -> 704 | I45: =SUM(I26:I44) -> 371 | ... K45: =SUM(K26:K44) -> 912

Sheet Members Year vs Region
A3: Sum of Voting Membership | B3: Column Labels
A4: Row Labels | B4: Asia and Pacific | C4: Canada | D4: Europe, Middle East, Africa | E4: Latin America | F4: US Central | G4: US East | H4: US Northeast | I4: US Southeast | J4: US Southwest | K4: US West | L4: (blank) | M4: Grand Total | O4: US %
A5: 1999 | B5: 26033 | C5: 9679 | D5: 24429 | E5: 4806 | F5: 19306 | G5: 28172 | H5: 35180 | I5: 23610 | J5: 23405 | K5: 48180 | M5: 242800 | O5: =SUM(F5:K5)/GETPIVOTDATA("Voting Membership",$A$3,"Year",A5) -> 0.73250824
A6: 2000 | B6: 30235 | C6: 9911 | D6: 26676 | E6: 4872 | F6: 19489 | G6: 28464 | H6: 35644 | I6: 24035 | J6: 24000 | K6: 49570 | M6: 252896 | O6: =SUM(F6:K6)/GETPIVOTDATA("Voting Membership",$A$3,"Year",A6) -> 0.71650797
A7: 2001 | B7: 32213 | C7: 9864 | D7: 28553 | E7: 4939 | F7: 19715 | G7: 28853 | H7: 35918 | I7: 24412 | J7: 24273 | K7: 50766 | M7: 259506 | O7: =SUM(F7:K7)/GETPIVOTDATA("Voting Membership",$A$3,"Year",A7) -> 0.70879671
A8: 2002 | B8: 32463 | C8: 10301 | D8: 30468 | E8: 5226 | F8: 19703 | G8: 28830 | H8: 36206 | I8: 24542 | J8: 24796 | K8: 52943 | M8: 265478 | O8: =SUM(F8:K8)/GETPIVOTDATA("Voting Membership",$A$3,"Year",A8) -> 0.70446515
A9: 2003 | B9: 31580 | C9: 10241 | D9: 30769 | E9: 4978 | F9: 19096 | G9: 28336 | H9: 35224 | I9: 24166 | J9: 24096 | K9: 51841 | M9: 260327 | O9: =SUM(F9:K9)/GETPIVOTDATA("Voting Membership",$A$3,"Year",A9) -> 0.70203629
A10: 2004 | B10: 32720 | C10: 10116 | D10: 30036 | E10: 4887 | F10: 19066 | G10: 28217 | H10: 34857 | I10: 24230 | J10: 24112 | K10: 51730 | M10: 259971 | O10: =SUM(F10:K10)/GETPIVOTDATA("Voting Membership",$A$3,"Year",A10) -> 0.70089356
A11: 2005 | B11: 38345 | C11: 10475 | D11: 33408 | E11: 5308 | F11: 19157 | G11: 28039 | H11: 33791 | I11: 24235 | J11: 24217 | K11: 50926 | M11: 267901 | O11: =SUM(F11:K11)/GETPIVOTDATA("Voting Membership",$A$3,"Year",A11) -> 0.67325243
A12: 2006 | B12: 40278 | C12: 10806 | D12: 35882 | E12: 5464 | F12: 18975 | G12: 27849 | H12: 32981 | I12: 23976 | J12: 23837 | K12: 50470 | M12: 270518 | O12: =SUM(F12:K12)/GETPIVOTDATA("Voting Membership",$A$3,"Year",A12) -> 0.65832218
A13: 2007 | B13: 37085 | C13: 10966 | D13: 36843 | E13: 5755 | F13: 18712 | G13: 27606 | H13: 32497 | I13: 24002 | J13: 23633 | K13: 50503 | M13: 267602 | O13: =SUM(F13:K13)/GETPIVOTDATA("Voting Membership",$A$3,"Year",A13) -> 0.6612544
A14: 2008 | B14: 44219 | C14: 12804 | D14: 45671 | E14: 7263 | F14: 20146 | G14: 28594 | H14: 33630 | I14: 25663 | J14: 25039 | K14: 52827 | M14: 295856 | O14: =SUM(F14:K14)/GETPIVOTDATA("Voting Membership",$A$3,"Year",A14) -> 0.62834284
A15: 2009 | B15: 45551 | C15: 13180 | D15: 50329 | E15: 7975 | F15: 20064 | G15: 28265 | H15: 33272 | I15: 26022 | J15: 24966 | K15: 52300 | M15: 301924 | O15: =SUM(F15:K15)/GETPIVOTDATA("Voting Membership",$A$3,"Year",A15) -> 0.61236934
A16: 2010 | B16: 52001 | C16: 13829 | D16: 53339 | E16: 8596 | F16: 19962 | G16: 28357 | H16: 32912 | I16: 26237 | J16: 25223 | K16: 52073 | M16: 312529 | O16: =SUM(F16:K16)/GETPIVOTDATA("Voting Membership",$A$3,"Year",A16) -> 0.59118994
... A23: 2017 | B23: 76668 | C23: 15015 | D23: 64994 | E23: 11249 | F23: 19012 | G23: 25736 | H23: 29302 | I23: 25546 | J23: 24779 | K23: 49151 | M23: 341452 | O23: =SUM(F23:K23)/GETPIVOTDATA("Voting Membership",$A$3,"Year",A23) -> 0.50820027
A24: (blank)
A25: Grand Total | B25: 916268 | C25: 237144 | D25: 867839 | E25: 144187 | F25: 372493 | G25: 532726 | H25: 630854 | I25: 479350 | J25: 468979 | K25: 967080 | M25: 5616920

Sheet By Age 2016
A1: Extracted from
A2: http://www.ieee.org/documents/fellow_candidates_by_age_group.pdf
A3: Age Group | D3: 2016 | F3: avg age | G3: age*# | H3: cum | I3: cum %
A4: 31 | B4: 39 | C4: =CONCATENATE(A4," -",B4) -> 31 -39 | D4: 6 | F4: =AVERAGE(A4:B4) -> 35 | G4: =F4*D4 -> 210 | H4: =D4 -> 6 | I4: =H4/$D$15 -> 0.021428571
A5: 40 | B5: 44 | C5: =CONCATENATE(A5," -",B5) -> 40 -44 | D5: 39 | F5: =AVERAGE(A5:B5) -> 42 | G5: =F5*D5 -> 1638 | H5: =D5+H4 -> 45 | I5: =H5/$D$15 -> 0.16071429
A6: =A5+5 -> 45 | B6: =B5+5 -> 49 | C6: =CONCATENATE(A6," -",B6) -> 45 -49 | D6: 64 | F6: =AVERAGE(A6:B6) -> 47 | G6: =F6*D6 -> 3008 | H6: =D6+H5 -> 109 | I6: =H6/$D$15 -> 0.38928571
A7: =A6+5 -> 50 | B7: =B6+5 -> 54 | C7: =CONCATENATE(A7," -",B7) -> 50 -54 | D7: 66 | F7: =AVERAGE(A7:B7) -> 52 | G7: =F7*D7 -> 3432 | H7: =D7+H6 -> 175 | I7: =H7/$D$15 -> 0.625
A8: =A7+5 -> 55 | B8: =B7+5 -> 59 | C8: =CONCATENATE(A8," -",B8) -> 55 -59 | D8: 55 | F8: =AVERAGE(A8:B8) -> 57 | G8: =F8*D8 -> 3135 | H8: =D8+H7 -> 230 | I8: =H8/$D$15 -> 0.82142857
A9: =A8+5 -> 60 | B9: =B8+5 -> 64 | C9: =CONCATENATE(A9," -",B9) -> 60 -64 | D9: 31 | F9: =AVERAGE(A9:B9) -> 62 | G9: =F9*D9 -> 1922 | H9: =D9+H8 -> 261 | I9: =H9/$D$15 -> 0.93214286
A10: =A9+5 -> 65 | B10: =B9+5 -> 69 | C10: =CONCATENATE(A10," -",B10) -> 65 -69 | D10: 10 | F10: =AVERAGE(A10:B10) -> 67 | G10: =F10*D10 -> 670 | H10: =D10+H9 -> 271 | I10: =H10/$D$15 -> 0.96785714
A11: 70 | B11: 76 | C11: =CONCATENATE(A11," -",B11) -> 70 -76 | D11: 4 | F11: =AVERAGE(A11:B11) -> 73 | G11: =F11*D11 -> 292 | H11: =D11+H10 -> 275 | I11: =H11/$D$15 -> 0.98214286
A12: 77 | B12: 85 | C12: =CONCATENATE(A12," -",B12) -> 77 -85 | D12: 3 | F12: =AVERAGE(A12:B12) -> 81 | G12: =F12*D12 -> 243 | H12: =D12+H11 -> 278 | I12: =H12/$D$15 -> 0.99285714
A13: 85+ | C13: =A13 -> 85+ | D13: 2 | F13: 86 | G13: =F13*D13 -> 172 | H13: =D13+H12 -> 280 | I13: =H13/$D$15 -> 1
A14: Not Given | C14: =A14 -> Not Given | D14: 17
D15: =SUM(D4:D13) -> 280 | G15: =SUM(G4:G13)/D15 -> 52.578571
A18: Ages | B18: 31 -39 | C18: 40 -44 | D18: 45 -49 | E18: 50 -54 | F18: 55 -59 | G18: 60 -64 | H18: 65 -69 | I18: 70 -76 | J18: 77 -85 | K18: 85+ | L18: Not Given
A19: # Fellows | B19: 6 | C19: 39 | D19: 64 | E19: 66 | F19: 55 | G19: 31 | H19: 10 | I19: 4 | J19: 3 | K19: 2 | L19: 17

Sheet Fellows by Countries and States
B2: Fellow Elevations 2012-2016 | H2: States | K2: Countries
B3: US States | D3: Non-US Countries | H3: Pop | I3: F/Mc | K3: Pop
A4: CA | B4: =VLOOKUP(A4,Population!$A$3:$B$54,2,FALSE) -> California | C4: 165 | D4: Japan | E4: 69 | H4: =VLOOKUP(A4,Population!$A$3:$F$53,6,FALSE) -> 36422264 | I4: =C4/(H4/1000000) -> 4.5301962 | K4: =VLOOKUP(D4,Population!$A$56:$B$302,2,FALSE) -> 127020000 | L4: =E4/(K4/1000000) -> 0.54322154
A5: NY | B5: =VLOOKUP(A5,Population!$A$3:$B$54,2,FALSE) -> New York | C5: 73 | D5: Canada | E5: 62 | H5: =VLOOKUP(A5,Population!$A$3:$F$53,6,FALSE) -> 19225107 | I5: =C5/(H5/1000000) -> 3.7971179 | K5: =VLOOKUP(D5,Population!$A$56:$B$302,2,FALSE) -> 35675834 | L5: =E5/(K5/1000000) -> 1.7378711
A6: TX | B6: =VLOOKUP(A6,Population!$A$3:$B$54,2,FALSE) -> Texas | C6: 60 | D6: Italy | E6: 56 | H6: =VLOOKUP(A6,Population!$A$3:$F$53,6,FALSE) -> 24013463 | I6: =C6/(H6/1000000) -> 2.4985984 | K6: =VLOOKUP(D6,Population!$A$56:$B$302,2,FALSE) -> 60782897 | L6: =E6/(K6/1000000) -> 0.9213118
A7: MA | B7: =VLOOKUP(A7,Population!$A$3:$B$54,2,FALSE) -> Massachusetts | C7: 49 | D7: UK | E7: 56 | H7: =VLOOKUP(A7,Population!$A$3:$F$53,6,FALSE) -> 6437566.5 | I7: =C7/(H7/1000000) -> 7.6115719 | K7: =VLOOKUP(D7,Population!$A$56:$B$302,2,FALSE) -> 64105654 | L7: =E7/(K7/1000000) -> 0.87355789
A8: PA | B8: =VLOOKUP(A8,Population!$A$3:$B$54,2,FALSE) -> Pennsylvania | C8: 45 | D8: China | E8: 55 | H8: =VLOOKUP(A8,Population!$A$3:$F$53,6,FALSE) -> 12668276 | I8: =C8/(H8/1000000) -> 3.5521804 | K8: =VLOOKUP(D8,Population!$A$56:$B$302,2,FALSE) -> 1368090000 | L8: =E8/(K8/1000000) -> 0.040202033
A9: NJ | B9: =VLOOKUP(A9,Population!$A$3:$B$54,2,FALSE) -> New Jersey | C9: 37 | D9: Australia | E9: 37 | H9: =VLOOKUP(A9,Population!$A$3:$F$53,6,FALSE) -> 8728321.1 | I9: =C9/(H9/1000000) -> 4.2390741 | K9: =VLOOKUP(D9,Population!$A$56:$B$302,2,FALSE) -> 23737700 | L9: =E9/(K9/1000000) -> 1.558702
A10: VA | B10: =VLOOKUP(A10,Population!$A$3:$B$54,2,FALSE) -> Virginia | C10: 35 | D10: Hong Kong | E10: 36 | H10: =VLOOKUP(A10,Population!$A$3:$F$53,6,FALSE) -> 7829864 | I10: =C10/(H10/1000000) -> 4.4700649 | K10: =VLOOKUP(D10,Population!$A$56:$B$302,2,FALSE) -> 7234800 | L10: =E10/(K10/1000000) -> 4.9759496
A11: NC | B11: =VLOOKUP(A11,Population!$A$3:$B$54,2,FALSE) -> North Carolina | C11: 30 | D11: Taiwan | E11: 34 | H11: =VLOOKUP(A11,Population!$A$3:$F$53,6,FALSE) -> 9280772.6 | I11: =C11/(H11/1000000) -> 3.2324895 | K11: =VLOOKUP(D11,Population!$A$56:$B$302,2,FALSE) -> 23433753 | L11: =E11/(K11/1000000) -> 1.4508986
A12: MI | B12: =VLOOKUP(A12,Population!$A$3:$B$54,2,FALSE) -> Michigan | C12: 28 | D12: Germany | E12: 32 | H12: =VLOOKUP(A12,Population!$A$3:$F$53,6,FALSE) -> 9865031.7 | I12: =C12/(H12/1000000) -> 2.8383082 | K12: =VLOOKUP(D12,Population!$A$56:$B$302,2,FALSE) -> 80767000 | L12: =E12/(K12/1000000) -> 0.39620142
A13: IL | B13: =VLOOKUP(A13,Population!$A$3:$B$54,2,FALSE) -> Illinois | C13: 26 | D13: France | E13: 28 | H13: =VLOOKUP(A13,Population!$A$3:$F$53,6,FALSE) -> 12842754 | I13: =C13/(H13/1000000) -> 2.0244879 | K13: =VLOOKUP(D13,Population!$A$56:$B$302,2,FALSE) -> 66092000 | L13: =E13/(K13/1000000) -> 0.42365188
A14: GA | B14: =VLOOKUP(A14,Population!$A$3:$B$54,2,FALSE) -> Georgia | C14: 24 | D14: India | E14: 23 | H14: =VLOOKUP(A14,Population!$A$3:$F$53,6,FALSE) -> 9428187.2 | I14: =C14/(H14/1000000) -> 2.5455583 | K14: =VLOOKUP(D14,Population!$A$56:$B$302,2,FALSE) -> 1266580000 | L14: =E14/(K14/1000000) -> 0.018159137
A15: WA | B15: =VLOOKUP(A15,Population!$A$3:$B$54,2,FALSE) -> Washington | C15: 23 | D15: Switzerland | E15: 21 | H15: =VLOOKUP(A15,Population!$A$3:$F$53,6,FALSE) -> 6489765 | I15: =C15/(H15/1000000) -> 3.544042 | K15: =VLOOKUP(D15,Population!$A$56:$B$302,2,FALSE) -> 8211700 | L15: =E15/(K15/1000000) -> 2.5573267
... A45: LA | B45: =VLOOKUP(A45,Population!$A$3:$B$54,2,FALSE) -> Louisiana | C45: 1 | D45: Qatar | E45: 1 | H45: =VLOOKUP(A45,Population!$A$3:$F$53,6,FALSE) -> 4471582.8 | I45: =C45/(H45/1000000) -> 0.22363446 | K45: =VLOOKUP(D45,Population!$A$56:$B$302,2,FALSE) -> 2235431 | L45: =E45/(K45/1000000) -> 0.44734103
A46: ME | B46: =VLOOKUP(A46,Population!$A$3:$B$54,2,FALSE) -> Maine | C46: 1 | H46: =VLOOKUP(A46,Population!$A$3:$F$53,6,FALSE) -> 1327061.8 | I46: =C46/(H46/1000000) -> 0.75354439
B47: USA total | C47: 836 | D47: Other total | E47: 680

Sheet Fellows by Institution
G1: Fellows Elevated by Institution 2012-2016
G2: Companies | I2: Schools | K2: Other
A3: 56 | B3: University of California | G3: 27 | H3: IBM | I3: 56 | J3: University of California | K3: 9 | L3: None listed
A4: 27 | B4: IBM | G4: 18 | H4: Intel | I4: 24 | J4: University of Texas | K4: 8 | L4: NASA
A5: 24 | B5: University of Texas | G5: 12 | H5: Microsoft Research | I5: 19 | J5: Georgia Institute of Technology | K5: 5 | L5: INRIA
A6: 19 | B6: Georgia Institute of Technology | G6: 10 | H6: Alcatel/Bell Labs | I6: 17 | J6: MIT | K6: 5 | L6: Consultant
A7: 18 | B7: Intel | G7: 8 | H7: Broadcom | I7: 15 | J7: Hong Kong University | K7: 5 | L7: NIST
A8: 17 | B8: MIT | G8: 7 | H8: AT&T | I8: 14 | J8: Carnegie Mellon University | K8: 4 | L8: CSIRO
A9: 15 | B9: Hong Kong University | G9: 6 | H9: NTT | I9: 13 | J9: Texas A&M University | K9: 4 | L9: Sandia National Laboratories
A10: 14 | B10: Carnegie Mellon University | G10: 6 | H10: General Electric | I10: 11 | J10: Tsinghua University | K10: 3 | L10: Naval Research Laboratory
A11: 13 | B11: Texas A&M University | G11: 6 | H11: Hewlett-Packard | I11: 11 | J11: Arizona State University | K11: 3 | L11: US Army Research Office
A12: 12 | B12: Microsoft Research | G12: 5 | H12: Siemens | I12: 9 | J12: National Chiao Tung University | K12: 2 | L12: IMEC
A13: 11 | B13: Tsinghua University | G13: 4 | H13: Texas Instruments | I13: 9 | J13: Stanford University | K13: 2 | L13: ISO New England
A14: 11 | B14: Arizona State University | G14: 4 | H14: Huawei | I14: 9 | J14: Purdue University | K14: 2 | L14: Telecom ParisTech
... A16: 9 | B16: National Chiao Tung University | G16: 3 | H16: Hitachi | I16: 8 | J16: Seoul National University | K16: 2 | L16: German Aerospace Center (DLR)
A17: 9 | B17: Stanford University | G17: 3 | H17: Analog Devices | I17: 8 | J17: University of Michigan
A18: 9 | B18: North Carolina State University | G18: 3 | H18: Google Inc | I18: 8 | J18: Iowa State University
A19: 9 | B19: Self | G19: 3 | H19: Quanta Technology | I19: 8 | J19: Boston University
A20: 9 | B20: Purdue University | G20: 3 | H20: Qualcomm | I20: 7 | J20: University of Florida
A21: 8 | B21: NASA | G21: 3 | H21: Toshiba | I21: 7 | J21: Imperial College
A22: 8 | B22: University of Southern California | I22: 7 | J22: University of Minnesota
A23: 8 | B23: Seoul National University
A24: 8 | B24: University of Michigan
A25: 8 | B25: Iowa State University
A26: 8 | B26: Boston University
A27: 8 | B27: Broadcom
A28: 7 | B28: University of Florida
A29: 7 | B29: Imperial College
A30: 7 | B30: University of Minnesota
A31: 7 | B31: AT&T
A32: 7 | B32: Pennsylvania State University
A33: 7 | B33: Southeast University
A34: 7 | B34: University of Toronto
... A244: 1 | B244: Koc University, Turkey
A245: 1
A246: 1 | B246: Altera
A247: 1 | B247: University of Campinas, Unicamp
A248: 1 | B248: Chalmers University of Technology
A249: 1 | B249: University of Pretoria
A250: 1 | B250: California State University, Northridge
A251: 1 | B251: DigitalPersona Inc
A252: 1 | B252: Universite Libre de Bruxelles (ULB)
A253: 1 | B253: Texas A&M University, Qatar
A254: 1 | B254: The Royal Institute of Technology (Sweden)
A255: 1 | B255: Howard University
A256: 1 | B256: Hittite Microwave Corp.
A257: 1 | B257: Universit catholique de Louvain (UCL)
... A764: 1 | B764: The Johns Hopkins University

Sheet Year vs Field
A3: Row Labels | B3: Sum of Total elev | C3: Sum of Ed elev | D3: Sum of Ind elev | E3: Sum of Gov elev | F3: Sum of Other elev
A4: 1999 | B4: 239 | C4: 132 | D4: 83 | E4: 13 | F4: 11
A5: 2000 | B5: 248 | C5: 133 | D5: 103 | E5: 7 | F5: 5
A6: 2001 | B6: 256 | C6: 139 | D6: 98 | E6: 13 | F6: 6
A7: 2002 | B7: 259 | C7: 143 | D7: 91 | E7: 14 | F7: 11
A8: 2003 | B8: 260 | C8: 165 | D8: 76 | E8: 14 | F8: 5
A9: 2004 | B9: 260 | C9: 150 | D9: 82 | E9: 22 | F9: 6
A10: 2005 | B10: 268 | C10: 176 | D10: 58 | E10: 23 | F10: 11
A11: 2006 | B11: 271 | C11: 173 | D11: 70 | E11: 16 | F11: 12
A12: 2007 | B12: 268 | C12: 167 | D12: 71 | E12: 27 | F12: 3
A13: 2008 | B13: 295 | C13: 188 | D13: 82 | E13: 19 | F13: 6
A14: 2009 | B14: 302 | C14: 204 | D14: 81 | E14: 15 | F14: 5
A15: 2010 | B15: 309 | C15: 206 | D15: 72 | E15: 17 | F15: 14
... A22: 2017 | B22: 299 | C22: 223 | D22: 54 | E22: 17 | F22: 5
A23: (blank)
A24: Grand Total | B24: 5371 | C24: 3457 | D24: 1441 | E24: 343 | F24: 133
A26: Year | B26: Total | C26: Education | D26: Industry | E26: Government | F26: Other
A27: =A4 -> 1999 | B27: =B4 -> 239 | C27: =C4 -> 132 | D27: =D4 -> 83 | E27: =E4 -> 13 | F27: =F4 -> 11
A28: =A5 -> 2000 | B28: =B5 -> 248 | C28: =C5 -> 133 | D28: =D5 -> 103 | E28: =E5 -> 7 | F28: =F5 -> 5
A29: =A6 -> 2001 | B29: =B6 -> 256 | C29: =C6 -> 139 | D29: =D6 -> 98 | E29: =E6 -> 13 | F29: =F6 -> 6
A30: =A7 -> 2002 | B30: =B7 -> 259 | C30: =C7 -> 143 | D30: =D7 -> 91 | E30: =E7 -> 14 | F30: =F7 -> 11
A31: =A8 -> 2003 | B31: =B8 -> 260 | C31: =C8 -> 165 | D31: =D8 -> 76 | E31: =E8 -> 14 | F31: =F8 -> 5
A32: =A9 -> 2004 | B32: =B9 -> 260 | C32: =C9 -> 150 | D32: =D9 -> 82 | E32: =E9 -> 22 | F32: =F9 -> 6
A33: =A10 -> 2005 | B33: =B10 -> 268 | C33: =C10 -> 176 | D33: =D10 -> 58 | E33: =E10 -> 23 | F33: =F10 -> 11
A34: =A11 -> 2006 | B34: =B11 -> 271 | C34: =C11 -> 173 | D34: =D11 -> 70 | E34: =E11 -> 16 | F34: =F11 -> 12
A35: =A12 -> 2007 | B35: =B12 -> 268 | C35: =C12 -> 167 | D35: =D12 -> 71 | E35: =E12 -> 27 | F35: =F12 -> 3
A36: =A13 -> 2008 | B36: =B13 -> 295 | C36: =C13 -> 188 | D36: =D13 -> 82 | E36: =E13 -> 19 | F36: =F13 -> 6
A37: =A14 -> 2009 | B37: =B14 -> 302 | C37: =C14 -> 204 | D37: =D14 -> 81 | E37: =E14 -> 15 | F37: =F14 -> 5
A38: =A15 -> 2010 | B38: =B15 -> 309 | C38: =C15 -> 206 | D38: =D15 -> 72 | E38: =E15 -> 17 | F38: =F15 -> 14
... A45: =A22 -> 2017 | B45: =B22 -> 299 | C45: =C22 -> 223 | D45: =D22 -> 54 | E45: =E22 -> 17 | F45: =F22 -> 5

Sheet Region Stats
A3: Row Labels | B3: Average of Voting Membership | C3: Sum of Total elev | D3: Fellow/Kmembers | E3: Avg Population | F3: Fellow/Mpop
A4: Asia and Pacific | B4: 48224.632 | C4: 990 | D4: =GETPIVOTDATA("Sum of Total elev",$A$3,"Region name",A4)/GETPIVOTDATA("Average of Voting Membership",$A$3,"Region name",A4)*1000 -> 20.528928
A5: Canada | B5: 12481.263 | C5: 232 | D5: =GETPIVOTDATA("Sum of Total elev",$A$3,"Region name",A5)/GETPIVOTDATA("Average of Voting Membership",$A$3,"Region name",A5)*1000 -> 18.587862 | E5: =Population!N9 -> 32579411 | F5: =GETPIVOTDATA("Sum of Total elev",$A$3,"Region name",A5)/(E5/1000000) -> 7.1210618
A6: Europe, Middle East, Africa | B6: 45675.737 | C6: 1007 | D6: =GETPIVOTDATA("Sum of Total elev",$A$3,"Region name",A6)/GETPIVOTDATA("Average of Voting Membership",$A$3,"Region name",A6)*1000 -> 22.046716
A7: Latin America | B7: 7588.7895 | C7: 40 | D7: =GETPIVOTDATA("Sum of Total elev",$A$3,"Region name",A7)/GETPIVOTDATA("Average of Voting Membership",$A$3,"Region name",A7)*1000 -> 5.2709329
A8: US Central | B8: 19604.895 | C8: 367 | D8: =GETPIVOTDATA("Sum of Total elev",$A$3,"Region name",A8)/GETPIVOTDATA("Average of Voting Membership",$A$3,"Region name",A8)*1000 -> 18.719815 | E8: =Population!N6 -> 46224154 | F8: =GETPIVOTDATA("Sum of Total elev",$A$3,"Region name",A8)/(E8/1000000) -> 7.939572
A9: US East | B9: 28038.211 | C9: 426 | D9: =GETPIVOTDATA("Sum of Total elev",$A$3,"Region name",A9)/GETPIVOTDATA("Average of Voting Membership",$A$3,"Region name",A9)*1000 -> 15.193552 | E9: =Population!N4 -> 29252800 | F9: =GETPIVOTDATA("Sum of Total elev",$A$3,"Region name",A9)/(E9/1000000) -> 14.562709
A10: US Northeast | B10: 33202.842 | C10: 698 | D10: =GETPIVOTDATA("Sum of Total elev",$A$3,"Region name",A10)/GETPIVOTDATA("Average of Voting Membership",$A$3,"Region name",A10)*1000 -> 21.022297 | E10: =Population!N3 -> 54945461 | F10: =GETPIVOTDATA("Sum of Total elev",$A$3,"Region name",A10)/(E10/1000000) -> 12.703506
A11: US Southeast | B11: 25228.947 | C11: 370 | D11: =GETPIVOTDATA("Sum of Total elev",$A$3,"Region name",A11)/GETPIVOTDATA("Average of Voting Membership",$A$3,"Region name",A11)*1000 -> 14.665693 | E11: =Population!N5 -> 65879014 | F11: =GETPIVOTDATA("Sum of Total elev",$A$3,"Region name",A11)/(E11/1000000) -> 5.6163561
A12: US Southwest | B12: 24683.105 | C12: 329 | D12: =GETPIVOTDATA("Sum of Total elev",$A$3,"Region name",A12)/GETPIVOTDATA("Average of Voting Membership",$A$3,"Region name",A12)*1000 -> 13.328955 | E12: =Population!N7 -> 41285304 | F12: =GETPIVOTDATA("Sum of Total elev",$A$3,"Region name",A12)/(E12/1000000) -> 7.9689374
A13: US West | B13: 50898.947 | C13: 912 | D13: =GETPIVOTDATA("Sum of Total elev",$A$3,"Region name",A13)/GETPIVOTDATA("Average of Voting Membership",$A$3,"Region name",A13)*1000 -> 17.917856 | E13: =Population!N8 -> 65166316 | F13: =GETPIVOTDATA("Sum of Total elev",$A$3,"Region name",A13)/(E13/1000000) -> 13.99496
A14: (blank)
A15: Grand Total | B15: 29562.737 | C15: 5371

Sheet Population
B2: State | C2: Region | D2: Pop 2016 | E2: Pop 2010 | F2: Avg 1999-2016 | I2: Region | J2: Region name | K2: Region main states | L2: Fellows 2016 | M2: Pop 2016 | N2: Pop Avg | O2: % diff
A3: AL | B3: Alabama | C3: 3 | D3: 4863300 | E3: 4779736 | F3: =D3+((E3-D3)/6)*((2016-1999)/2) -> 4744917.7 | G3: Alabama | I3: 1 | J3: US Northeast | K3: NY,NJ,MA | L3: ='Fellow By Year Region'!M21 -> 39 | M3: =SUMIF($C$3:$C$53,I3,$D$3:$D$53) -> 56209510 | N3: =SUMIF($C$3:$C$53,I3,$F$3:$F$53) -> 54945461 | O3: =(M3-N3)/N3 -> 0.023005525
A4: AK | B4: Alaska | C4: 6 | D4: 741894 | E4: 710231 | F4: =D4+((E4-D4)/6)*((2016-1999)/2) -> 697038.08 | G4: Alaska | I4: 2 | J4: US East | K4: PA,OH | L4: ='Fellow By Year Region'!M40 -> 19 | M4: =SUMIF($C$3:$C$53,I4,$D$3:$D$53) -> 30213797 | N4: =SUMIF($C$3:$C$53,I4,$F$3:$F$53) -> 29252800 | O4: =(M4-N4)/N4 -> 0.032851462
A5: AZ | B5: Arizona | C5: 6 | D5: 6931071 | E5: 6392017 | F5: =D5+((E5-D5)/6)*((2016-1999)/2) -> 6167411.2 | G5: Arizona | I5: 3 | J5: US Southeast | K5: FL,GA,VA | L5: ='Fellow By Year Region'!M59 -> 19 | M5: =SUMIF($C$3:$C$53,I5,$D$3:$D$53) -> 71933993 | N5: =SUMIF($C$3:$C$53,I5,$F$3:$F$53) -> 65879014 | O5: =(M5-N5)/N5 -> 0.091910593
A6: AR | B6: Arkansas | C6: 3 | D6: 2988248 | E6: 2915918 | F6: =D6+((E6-D6)/6)*((2016-1999)/2) -> 2885780.5 | G6: Arkansas | I6: 4 | J6: US Central | K6: MI,IL,MN | L6: ='Fellow By Year Region'!M78 -> 20 | M6: =SUMIF($C$3:$C$53,I6,$D$3:$D$53) -> 47326767 | N6: =SUMIF($C$3:$C$53,I6,$F$3:$F$53) -> 46224154 | O6: =(M6-N6)/N6 -> 0.023853609
A7: CA | B7: California | C7: 6 | D7: 39250017 | E7: 37253956 | F7: =D7+((E7-D7)/6)*((2016-1999)/2) -> 36422264 | G7: California | I7: 5 | J7: US Southwest | K7: TX,CO | L7: ='Fellow By Year Region'!M97 -> 26 | M7: =SUMIF($C$3:$C$53,I7,$D$3:$D$53) -> 46326991 | N7: =SUMIF($C$3:$C$53,I7,$F$3:$F$53) -> 41285304 | O7: =(M7-N7)/N7 -> 0.1221182
A8: CO | B8: Colorado | C8: 5 | D8: 5540545 | E8: 5029196 | F8: =D8+((E8-D8)/6)*((2016-1999)/2) -> 4816133.9 | G8: Colorado | I8: 6 | J8: US West | K8: CA,OR,WA,AZ | L8: ='Fellow By Year Region'!M116 -> 38 | M8: =SUMIF($C$3:$C$53,I8,$D$3:$D$53) -> 71116455 | N8: =SUMIF($C$3:$C$53,I8,$F$3:$F$53) -> 65166316 | O8: =(M8-N8)/N8 -> 0.091306969
A9: CT | B9: Connecticut | C9: 1 | D9: 3576452 | E9: 3574097 | F9: =D9+((E9-D9)/6)*((2016-1999)/2) -> 3573115.8 | G9: Connecticut | I9: 7 | J9: Canada | K9: ON,BC | L9: ='Fellow By Year Region'!M135 -> 10 | M9: 35151728 | N9: =AVERAGE(35151728,30007094) -> 32579411 | O9: =(M9-N9)/N9 -> 0.078955295
A10: DE | B10: Delaware | C10: 2 | D10: 952065 | E10: 897934 | F10: =D10+((E10-D10)/6)*((2016-1999)/2) -> 875379.42 | G10: Delaware | I10: 8 | J10: Europe, Middle East, Africa | K10: UK,DE,FR,NL,IS | L10: ='Fellow By Year Region'!M154 -> 65 | M10: =SUMIF($C$3:$C$53,I10,$D$3:$D$53) -> 0 | N10: =SUMIF($C$3:$C$53,I10,$F$3:$F$53) -> 0 | O10: =(M10-N10)/N10 -> #DIV/0!
A11: DC | B11: District of Columbia | C11: 2 | D11: 681170 | E11: 601723 | F11: =D11+((E11-D11)/6)*((2016-1999)/2) -> 568620.08 | G11: District of Columbia | I11: 9 | J11: Latin America | K11: MX,CL,AR | L11: ='Fellow By Year Region'!M173 -> 3 | M11: =SUMIF($C$3:$C$53,I11,$D$3:$D$53) -> 0 | N11: =SUMIF($C$3:$C$53,I11,$F$3:$F$53) -> 0 | O11: =(M11-N11)/N11 -> #DIV/0!
A12: FL | B12: Florida | C12: 3 | D12: 20612439 | E12: 18801310 | F12: =D12+((E12-D12)/6)*((2016-1999)/2) -> 18046673 | G12: Florida | I12: 10 | J12: Asia and Pacific | K12: CH,JP,AU | L12: ='Fellow By Year Region'!M192 -> 58 | M12: =SUMIF($C$3:$C$53,I12,$D$3:$D$53) -> 0 | N12: =SUMIF($C$3:$C$53,I12,$F$3:$F$53) -> 0 | O12: =(M12-N12)/N12 -> #DIV/0!
A13: GA | B13: Georgia | C13: 3 | D13: 10310371 | E13: 9687653 | F13: =D13+((E13-D13)/6)*((2016-1999)/2) -> 9428187.2 | G13: Georgia
A14: HI | B14: Hawaii | C14: 6 | D14: 1428557 | E14: 1360301 | F14: =D14+((E14-D14)/6)*((2016-1999)/2) -> 1331861 | G14: Hawaii
A15: ID | B15: Idaho | C15: 6 | D15: 1683140 | E15: 1567582 | F15: =D15+((E15-D15)/6)*((2016-1999)/2) -> 1519432.8 | G15: Idaho
A16: IL | B16: Illinois | C16: 4 | D16: 12801539 | E16: 12830632 | F16: =D16+((E16-D16)/6)*((2016-1999)/2) -> 12842754 | G16: Illinois
A17: IN | B17: Indiana | C17: 4 | D17: 6633053 | E17: 6483802 | F17: =D17+((E17-D17)/6)*((2016-1999)/2) -> 6421614.1 | G17: Indiana
A18: IA | B18: Iowa | C18: 4 | D18: 3134693 | E18: 3046355 | F18: =D18+((E18-D18)/6)*((2016-1999)/2) -> 3009547.5 | G18: Iowa
A19: KS | B19: Kansas | C19: 5 | D19: 2907289 | E19: 2853118 | F19: =D19+((E19-D19)/6)*((2016-1999)/2) -> 2830546.8 | G19: Kansas
A20: KY | B20: Kentucky | C20: 2 | D20: 4436974 | E20: 4339367 | F20: =D20+((E20-D20)/6)*((2016-1999)/2) -> 4298697.4 | G20: Kentucky
A21: LA | B21: Louisiana | C21: 2 | D21: 4681666 | E21: 4533372 | F21: =D21+((E21-D21)/6)*((2016-1999)/2) -> 4471582.8 | G21: Louisiana
A22: ME | B22: Maine | C22: 1 | D22: 1331479 | E22: 1328361 | F22: =D22+((E22-D22)/6)*((2016-1999)/2) -> 1327061.8 | G22: Maine
A23: MD | B23: Maryland | C23: 2 | D23: 6016447 | E23: 5773552 | F23: =D23+((E23-D23)/6)*((2016-1999)/2) -> 5672345.8 | G23: Maryland
A24: MA | B24: Massachusetts | C24: 1 | D24: 6811779 | E24: 6547629 | F24: =D24+((E24-D24)/6)*((2016-1999)/2) -> 6437566.5 | G24: Massachusetts
... A53: WY | B53: Wyoming | C53: 6 | D53: 585501 | E53: 563626 | F53: =D53+((E53-D53)/6)*((2016-1999)/2) -> 554511.42 | G53: Wyoming
A54: PR | B54: Puerto Rico | C54: 3 | D54: 3411307 | E54: 3725789
A56: World | B56: 7215541570
A57: China | B57: 1368090000
A58: India | B58: 1266580000
A59: United States | B59: 320354000
A60: Indonesia | B60: 255461700
A61: Brazil | B61: 203850000
A62: Pakistan | B62: 188912000
A63: Nigeria | B63: 183523000
A64: Bangladesh | B64: 157795000
A65: Russia | B65: 146270033
A66: Japan | B66: 127020000
A67: Mexico | B67: 121005815
... A303: Pitcairn Islands (UK) | B303: 56
